PDS_VERSION_ID = PDS3
/* FILE DATA ELEMENTS */
RECORD_TYPE = UNDEFINED
/* POINTERS TO DATA OBJECTS */
^IMAGE = ("HL613_0000_BL4.TIF")
/* IDENTIFICATION DATA ELEMENTS */
DATA_SET_ID = "MEX-M-HRSC-4-REFDR-MAPPROJECT-EXT8-V4.0"
DATA_SET_NAME = "MARS EXPRESS HRSC MAP PROJECTED REFDR EXTENSION8 V4.0"
DETECTOR_ID = MEX_HRSC_BLUE
EVENT_TYPE = "MARS-TERMINATOR-CALIBRATION-Tc"
INSTRUMENT_HOST_ID = MEX
INSTRUMENT_HOST_NAME = "MARS EXPRESS"
INSTRUMENT_ID = HRSC
INSTRUMENT_NAME = "HIGH RESOLUTION STEREO CAMERA"
MISSION_NAME = "MARS EXPRESS"
MISSION_PHASE_NAME = ME_Phase_44
PROCESSING_LEVEL_ID = 4
PRODUCT_CREATION_TIME = 2023-01-25T08:48:24.000Z
PRODUCT_ID = "HL613_0000_BL4.TIF"
RELEASE_ID = 0001
REVISION_ID = 0000
/* QUALITY DATA ELEMENTS */
DATA_QUALITY_ID = 1
DATA_QUALITY_DESC = "Data calculated based on original SPICE kernels"
/* TIME DATA ELEMENTS */
SPACECRAFT_CLOCK_START_COUNT = "1/0560690249.24876"
SPACECRAFT_CLOCK_STOP_COUNT = "1/0560690720.23526"
START_TIME = 2021-02-06T11:19:31.893Z
STOP_TIME = 2021-02-06T11:23:37.867Z
/* ORBITAL DATA ELEMENTS */
ASCENDING_NODE_LONGITUDE = 170.26
MAXIMUM_RESOLUTION = 0.654
FOOTPRINT_POINT_LATITUDE = (76.9046,76.9467,76.279,73.7193,72.8389 ,69.0043,64.7514,60.3421,58.504,55.9684 ,52.4218,48.9723,46.355,42.7411,37.9018 ,33.9132,31.3952,27.7726,22.4775, 17.2037,10.758,6.32912,2.90805,-2.61331 ,-7.55419,-11.4203,-14.9708,-19.5245, -22.3386,-24.8427,-29.7678,-33.0729, -36.939,-39.334,-42.2038,-46.1057, -51.0934,-54.11,-56.7163,-60.0265, -61.5536,-64.3797,-64.2552,-64.7157, -65.0582,-61.1657,-61.5756,-61.184, -64.9645,-63.5139,-61.694,-61.0761, -58.2763,-57.5909,-54.7935,-54.6413, -52.1928,-49.8667,-45.9712,-42.2715, -39.8134,-36.2916,-33.0117,-30.5455, -25.9094,-22.6503,-18.9255,-15.9791, -11.3783,-7.74282,-4.63136,-2.12483, 0.775724,5.19774,7.94028,11.7961, 14.2538,16.8491,20.7035,23.9,27.6265, 31.6168,34.358,38.4399,43.3007,47.1933, 52.0764,56.5483,59.3484,62.3826,67.099, 69.2114,72.6619,72.9981,76.2354,77.7092 ,77.2397,69.674,77.6157,76.9046)
FOOTPRINT_POINT_LONGITUDE = (384.608,384.776,387.891,397.136, 405.317,409.203,414.264,414.346,408.764 ,402.99,397.028,392.651,389.957,386.864 ,383.557,381.361,380.175,378.681, 376.865,375.419,374.056,373.339,372.897 ,372.375,372.105,372.016,372.031, 372.194,372.39,372.621,373.254,373.833, 374.691,375.343,376.251,377.789,380.379 ,382.412,384.561,387.632,380.964, 376.979,368.832,361.565,352.157,360.007 ,360.029,360.038,344.652,339.28,333.128 ,325.849,324.032,318.561,316.513, 312.077,315.555,318.945,323.522,326.975 ,328.912,331.293,333.179,334.445,336.48 ,337.715,338.939,339.796,340.952, 341.725,342.302,342.705,343.116,343.63, 343.872,344.123,344.227,344.282,344.272 ,344.164,343.917,343.495,343.104, 342.336,341.072,339.71,337.406,334.469, 332.043,328.673,320.925,315.712,313.624 ,322.696,336.613,347.607,359.232, 360.036,372.339,384.608)
ORBIT_NUMBER = 21613
ORBITAL_ECCENTRICITY = 0.577
ORBITAL_INCLINATION = 86.99
ORBITAL_SEMIMAJOR_AXIS = 8810.87
PERIAPSIS_ALTITUDE = 341.45
PERIAPSIS_ARGUMENT_ANGLE = 217.91
PERIAPSIS_TIME = 2021-02-06T09:30:30.000Z
SPACECRAFT_ORIENTATION = (0.0,-1.0,0.0)
^MEX_ORIENTATION_DESC = "MEX_ORIENTATION_DESC.TXT"
SPACECRAFT_POINTING_MODE = FIXED
^MEX_POINTING_DESC = "MEX_POINTING_DESC.TXT"
RIGHT_ASCENSION = -1e+32
DECLINATION = -1e+32
OFFSET_ANGLE = -1e+32
SPACECRAFT_SOLAR_DISTANCE = 2.32789e+08
TARGET_NAME = MARS
/* CAMERA DATA ELEMENTS */
DETECTOR_TEMPERATURE = 18.9822
FOCAL_PLANE_TEMPERATURE = 10.2145
INST_CMPRS_NAME = "DISCRETE COSINE TRANSFORMATION (DCT)"
INST_CMPRS_RATIO = 4.51128
INST_CMPRS_QUALITY = 0
INST_CMPRS_QUANTZ_TBL_ID = 0
INSTRUMENT_TEMPERATURE = 12.6613
LENS_TEMPERATURE = 10.4184
MACROPIXEL_SIZE = 2
MISSING_FRAMES = 0
PIXEL_SUBSAMPLING_FLAG = N
SIGNAL_CHAIN_ID = 2
/* RADIOMETRIC DATA ELEMENTS */
BANDWIDTH = 76.0
CENTER_FILTER_WAVELENGTH = 444.0
RADIANCE_OFFSET = 0.0
RADIANCE_SCALING_FACTOR = 0.0099501
REFLECTANCE_SCALING_FACTOR = 0.000554066
MEX:REFLECTANCE_OFFSET = 0.0
/* IMAGE OBJECT DEFINITIONS */
OBJECT = IMAGE
  INTERCHANGE_FORMAT = BINARY
  LINES = 10705
  LINE_SAMPLES = 4257
  SAMPLE_TYPE = UNSIGNED_INTEGER
  SAMPLE_BITS = 8
  BANDS = 1
  BAND_STORAGE_TYPE = BAND_SEQUENTIAL
  MAXIMUM = 255
  MEAN = 102.679
  MINIMUM = 8
  STANDARD_DEVIATION = 42.1518
END_OBJECT = IMAGE
/* MAP OBJECT DEFINITIONS */
OBJECT = IMAGE_MAP_PROJECTION
  ^DATA_SET_MAP_PROJECTION_CATALOG= "DSMAP.CAT"
  A_AXIS_RADIUS = 3396.0
  B_AXIS_RADIUS = 3396.0
  C_AXIS_RADIUS = 3396.0
  CENTER_LATITUDE = 0.0
  CENTER_LONGITUDE = 359.0
  COORDINATE_SYSTEM_NAME = PLANETOGRAPHIC
  COORDINATE_SYSTEM_TYPE = "BODY-FIXED ROTATING"
  EASTERNMOST_LONGITUDE = 54.346
  FIRST_STANDARD_PARALLEL = "N/A"
  LINE_FIRST_PIXEL = 1
  LINE_LAST_PIXEL = 10705
  LINE_PROJECTION_OFFSET = 5830.0
  MAP_PROJECTION_ROTATION = 0.0
  MAP_PROJECTION_TYPE = SINUSOIDAL
  MAP_RESOLUTION = 74.08922548333329
  MAP_SCALE = 0.8
  MAXIMUM_LATITUDE = 77.7092
  MINIMUM_LATITUDE = -65.0582
  POSITIVE_LONGITUDE_DIRECTION = EAST
  REFERENCE_LATITUDE = "N/A"
  REFERENCE_LONGITUDE = "N/A"
  SAMPLE_FIRST_PIXEL = 1
  SAMPLE_LAST_PIXEL = 4257
  SAMPLE_PROJECTION_OFFSET = 2056.0
  SECOND_STANDARD_PARALLEL = "N/A"
  WESTERNMOST_LONGITUDE = -47.923
END_OBJECT = IMAGE_MAP_PROJECTION
END
