PDS_VERSION_ID = PDS3
/* FILE DATA ELEMENTS */
RECORD_TYPE = UNDEFINED
/* POINTERS TO DATA OBJECTS */
^IMAGE = ("HL653_0000_GR4.TIF")
/* IDENTIFICATION DATA ELEMENTS */
DATA_SET_ID = "MEX-M-HRSC-4-REFDR-MAPPROJECT-EXT8-V4.0"
DATA_SET_NAME = "MARS EXPRESS HRSC MAP PROJECTED REFDR EXTENSION8 V4.0"
DETECTOR_ID = MEX_HRSC_GREEN
EVENT_TYPE = "MARS-TERMINATOR-CALIBRATION-Tc"
INSTRUMENT_HOST_ID = MEX
INSTRUMENT_HOST_NAME = "MARS EXPRESS"
INSTRUMENT_ID = HRSC
INSTRUMENT_NAME = "HIGH RESOLUTION STEREO CAMERA"
MISSION_NAME = "MARS EXPRESS"
MISSION_PHASE_NAME = ME_Phase_44
PROCESSING_LEVEL_ID = 4
PRODUCT_CREATION_TIME = 2023-01-25T08:48:24.000Z
PRODUCT_ID = "HL653_0000_GR4.TIF"
RELEASE_ID = 0001
REVISION_ID = 0000
/* QUALITY DATA ELEMENTS */
DATA_QUALITY_ID = 1
DATA_QUALITY_DESC = "Data calculated based on original SPICE kernels"
/* TIME DATA ELEMENTS */
SPACECRAFT_CLOCK_START_COUNT = "1/0561694754.23956"
SPACECRAFT_CLOCK_STOP_COUNT = "1/0561695251.22854"
START_TIME = 2021-02-18T02:22:05.916Z
STOP_TIME = 2021-02-18T02:26:34.860Z
/* ORBITAL DATA ELEMENTS */
ASCENDING_NODE_LONGITUDE = 169.54
MAXIMUM_RESOLUTION = 0.5858
FOOTPRINT_POINT_LATITUDE = (61.8663,61.9226,62.2407,61.8506, 62.4461,61.9339,58.8473,55.915,53.5502, 50.4359,46.7577,43.39,40.6355,36.3319, 33.7474,29.1008,25.8982,23.3948,20.2318 ,17.5402,13.8992,9.44345,6.88883, 1.15248,-2.69044,-8.04356,-12.7245, -16.4094,-19.8191,-24.3621,-28.1626, -30.8911,-34.1505,-37.2222,-39.6905, -41.8595,-44.2949,-47.8328,-52.0997, -54.5939,-57.0679,-59.7016,-61.2608, -63.056,-66.213,-69.8971,-71.7823, -75.048,-75.7636,-76.9907,-77.8789, -76.8937,-77.7728,-74.5068,-74.9877, -72.442,-69.3275,-66.9833,-64.8919, -62.2382,-57.8368,-55.6098,-53.19, -50.4994,-47.0339,-42.6522,-39.1328, -36.7675,-33.5389,-28.7443,-25.9429, -22.3117,-19.3032,-14.7307,-11.7439, -8.95098,-5.80609,-0.563907,2.83087, 5.15296,8.16306,12.1941,15.4378,18.6572 ,21.3732,24.214,28.6359,31.586,33.7767, 36.9037,39.1065,41.62,45.8033,49.2664, 52.5789,56.3266,58.0748,59.2898,60.7995 ,61.8663)
FOOTPRINT_POINT_LONGITUDE = (223.852,223.851,225.814,232.404, 238.767,250.414,258.19,256.266,254.966, 253.555,252.216,251.231,250.583,249.811 ,249.447,248.95,248.727,248.604,248.516 ,248.498,248.547,248.722,248.877, 249.369,249.863,250.716,251.67,252.561, 253.523,255.032,256.513,257.736,259.398 ,261.22,262.882,264.528,266.625,270.226 ,275.873,280.175,285.625,293.706, 298.248,293.792,290.594,286.759,280.508 ,273.522,268.067,259.846,250.018, 238.716,222.673,211.209,202.444,199.511 ,205.759,209.417,211.97,214.545,217.702 ,218.913,220.018,221.045,222.108, 223.124,223.73,224.045,224.394,224.725, 224.831,224.879,224.848,224.683,224.498 ,224.272,223.953,223.269,222.724, 222.305,221.69,220.744,219.874,218.898, 217.983,216.915,215.007,213.523,212.304 ,210.354,208.802,206.812,202.843, 198.715,199.272,203.826,208.033,212.351 ,218.234,223.852)
ORBIT_NUMBER = 21653
ORBITAL_ECCENTRICITY = 0.577
ORBITAL_INCLINATION = 87.0
ORBITAL_SEMIMAJOR_AXIS = 8826.27
PERIAPSIS_ALTITUDE = 342.58
PERIAPSIS_ARGUMENT_ANGLE = 211.06
PERIAPSIS_TIME = 2021-02-18T00:49:27.000Z
SPACECRAFT_ORIENTATION = (0.0,-1.0,0.0)
^MEX_ORIENTATION_DESC = "MEX_ORIENTATION_DESC.TXT"
SPACECRAFT_POINTING_MODE = FIXED
^MEX_POINTING_DESC = "MEX_POINTING_DESC.TXT"
RIGHT_ASCENSION = -1e+32
DECLINATION = -1e+32
OFFSET_ANGLE = -1e+32
SPACECRAFT_SOLAR_DISTANCE = 2.34908e+08
TARGET_NAME = MARS
/* CAMERA DATA ELEMENTS */
DETECTOR_TEMPERATURE = 17.7588
FOCAL_PLANE_TEMPERATURE = 8.5833
INST_CMPRS_NAME = "DISCRETE COSINE TRANSFORMATION (DCT)"
INST_CMPRS_RATIO = 5.86896
INST_CMPRS_QUALITY = 0
INST_CMPRS_QUANTZ_TBL_ID = 0
INSTRUMENT_TEMPERATURE = 11.0301
LENS_TEMPERATURE = 8.5833
MACROPIXEL_SIZE = 2
MISSING_FRAMES = 1
PIXEL_SUBSAMPLING_FLAG = N
SIGNAL_CHAIN_ID = 2
/* RADIOMETRIC DATA ELEMENTS */
BANDWIDTH = 88.0
CENTER_FILTER_WAVELENGTH = 538.0
RADIANCE_OFFSET = 0.0
RADIANCE_SCALING_FACTOR = 0.0121114
REFLECTANCE_SCALING_FACTOR = 0.000575471
MEX:REFLECTANCE_OFFSET = 0.0
/* IMAGE OBJECT DEFINITIONS */
OBJECT = IMAGE
  INTERCHANGE_FORMAT = BINARY
  LINES = 20895
  LINE_SAMPLES = 8379
  SAMPLE_TYPE = UNSIGNED_INTEGER
  SAMPLE_BITS = 8
  BANDS = 1
  BAND_STORAGE_TYPE = BAND_SEQUENTIAL
  MAXIMUM = 255
  MEAN = 151.502
  MINIMUM = 1
  STANDARD_DEVIATION = 45.3384
END_OBJECT = IMAGE
/* MAP OBJECT DEFINITIONS */
OBJECT = IMAGE_MAP_PROJECTION
  ^DATA_SET_MAP_PROJECTION_CATALOG= "DSMAP.CAT"
  A_AXIS_RADIUS = 3396.0
  B_AXIS_RADIUS = 3396.0
  C_AXIS_RADIUS = 3396.0
  CENTER_LATITUDE = 0.0
  CENTER_LONGITUDE = 237.0
  COORDINATE_SYSTEM_NAME = PLANETOGRAPHIC
  COORDINATE_SYSTEM_TYPE = "BODY-FIXED ROTATING"
  EASTERNMOST_LONGITUDE = 298.248
  FIRST_STANDARD_PARALLEL = "N/A"
  LINE_FIRST_PIXEL = 1
  LINE_LAST_PIXEL = 20895
  LINE_PROJECTION_OFFSET = 9271.0
  MAP_PROJECTION_ROTATION = 0.0
  MAP_PROJECTION_TYPE = SINUSOIDAL
  MAP_RESOLUTION = 148.178450966667
  MAP_SCALE = 0.4
  MAXIMUM_LATITUDE = 62.4461
  MINIMUM_LATITUDE = -77.8789
  POSITIVE_LONGITUDE_DIRECTION = EAST
  REFERENCE_LATITUDE = "N/A"
  REFERENCE_LONGITUDE = "N/A"
  SAMPLE_FIRST_PIXEL = 1
  SAMPLE_LAST_PIXEL = 8379
  SAMPLE_PROJECTION_OFFSET = 3870.0
  SECOND_STANDARD_PARALLEL = "N/A"
  WESTERNMOST_LONGITUDE = 198.715
END_OBJECT = IMAGE_MAP_PROJECTION
END
