PDS_VERSION_ID = PDS3
/* FILE DATA ELEMENTS */
RECORD_TYPE = UNDEFINED
/* POINTERS TO DATA OBJECTS */
^IMAGE = ("HL660_0000_BL4.TIF")
/* IDENTIFICATION DATA ELEMENTS */
DATA_SET_ID = "MEX-M-HRSC-4-REFDR-MAPPROJECT-EXT8-V4.0"
DATA_SET_NAME = "MARS EXPRESS HRSC MAP PROJECTED REFDR EXTENSION8 V4.0"
DETECTOR_ID = MEX_HRSC_BLUE
EVENT_TYPE = "MARS-TERMINATOR-CALIBRATION-Tc"
INSTRUMENT_HOST_ID = MEX
INSTRUMENT_HOST_NAME = "MARS EXPRESS"
INSTRUMENT_ID = HRSC
INSTRUMENT_NAME = "HIGH RESOLUTION STEREO CAMERA"
MISSION_NAME = "MARS EXPRESS"
MISSION_PHASE_NAME = ME_Phase_44
PROCESSING_LEVEL_ID = 4
PRODUCT_CREATION_TIME = 2023-01-25T08:48:24.000Z
PRODUCT_ID = "HL660_0000_BL4.TIF"
RELEASE_ID = 0001
REVISION_ID = 0000
/* QUALITY DATA ELEMENTS */
DATA_QUALITY_ID = 1
DATA_QUALITY_DESC = "Data calculated based on original SPICE kernels"
/* TIME DATA ELEMENTS */
SPACECRAFT_CLOCK_START_COUNT = "1/0561870917.24922"
SPACECRAFT_CLOCK_STOP_COUNT = "1/0561871409.22816"
START_TIME = 2021-02-20T03:17:20.938Z
STOP_TIME = 2021-02-20T03:21:45.929Z
/* ORBITAL DATA ELEMENTS */
ASCENDING_NODE_LONGITUDE = 169.41
MAXIMUM_RESOLUTION = 0.5955
FOOTPRINT_POINT_LATITUDE = (61.9249,61.9847,61.8692,62.4677,62.547 ,61.991,59.5389,56.2908,53.4656,50.3001 ,45.8021,42.8197,39.6134,37.1809, 33.0327,29.5938,26.6949,23.0108,20.4125 ,16.9524,12.821,9.94516,7.36119,3.36762 ,0.514179,-2.5354,-6.41517,-9.00098, -13.1144,-16.21,-20.4101,-23.6353, -27.4384,-30.279,-33.6166,-36.1851, -39.2471,-43.487,-46.0687,-49.7605, -52.2021,-55.8327,-58.38,-59.6171, -62.5281,-67.3748,-70.012,-71.4884, -74.7368,-75.8123,-76.5151,-78.2958, -77.8499,-75.9922,-74.3803,-73.9475, -71.628,-68.9657,-65.351,-63.1326, -60.0076,-56.1506,-53.6113,-48.446, -45.0102,-41.2477,-38.523,-34.0427, -31.448,-28.1225,-25.3713,-21.7467, -17.7706,-15.1139,-12.6456,-9.74381, -5.22524,-0.544529,2.87005,5.40097, 9.07902,11.6614,15.8209,18.1102,22.2787 ,24.6251,28.5989,32.4892,35.7407, 39.5148,42.4071,44.5824,47.9098,50.6854 ,53.4582,54.5787,56.9286,59.8231, 60.8043,61.9249)
FOOTPRINT_POINT_LONGITUDE = (228.96,228.958,231.507,239.184,244.78, 252.26,259.148,260.824,259.286,257.895, 256.362,255.554,254.864,254.44,253.879, 253.534,253.317,253.148,253.088,253.077 ,253.159,253.258,253.425,253.773, 254.084,254.477,255.078,255.54,256.409, 257.17,258.376,259.447,260.9,262.157, 263.832,265.303,267.287,270.642,273.084 ,277.333,280.844,287.551,294.152,298.33 ,304.509,298.865,294.211,287.632, 279.192,276.322,272.117,246.024,231.735 ,214.693,207.707,199.074,204.607,210.22 ,215.422,217.769,220.367,222.781, 224.011,225.911,226.835,227.617,228.054 ,228.596,228.813,229.004,229.094, 229.123,229.049,228.938,228.792,228.566 ,228.098,227.46,226.901,226.425,225.629 ,225.005,223.933,223.23,221.695,220.765 ,218.997,216.957,214.972,212.276, 209.838,207.735,203.932,200.397,201.707 ,207.289,208.268,217.179,223.98,228.96)
ORBIT_NUMBER = 21660
ORBITAL_ECCENTRICITY = 0.577
ORBITAL_INCLINATION = 86.99
ORBITAL_SEMIMAJOR_AXIS = 8828.67
PERIAPSIS_ALTITUDE = 343.01
PERIAPSIS_ARGUMENT_ANGLE = 209.87
PERIAPSIS_TIME = 2021-02-20T01:42:30.000Z
SPACECRAFT_ORIENTATION = (0.0,-1.0,0.0)
^MEX_ORIENTATION_DESC = "MEX_ORIENTATION_DESC.TXT"
SPACECRAFT_POINTING_MODE = FIXED
^MEX_POINTING_DESC = "MEX_POINTING_DESC.TXT"
RIGHT_ASCENSION = -1e+32
DECLINATION = -1e+32
OFFSET_ANGLE = -1e+32
SPACECRAFT_SOLAR_DISTANCE = 2.3527e+08
TARGET_NAME = MARS
/* CAMERA DATA ELEMENTS */
DETECTOR_TEMPERATURE = 18.5744
FOCAL_PLANE_TEMPERATURE = 9.195
INST_CMPRS_NAME = "DISCRETE COSINE TRANSFORMATION (DCT)"
INST_CMPRS_RATIO = 4.44365
INST_CMPRS_QUALITY = 0
INST_CMPRS_QUANTZ_TBL_ID = 0
INSTRUMENT_TEMPERATURE = 11.234
LENS_TEMPERATURE = 9.6028
MACROPIXEL_SIZE = 2
MISSING_FRAMES = 0
PIXEL_SUBSAMPLING_FLAG = N
SIGNAL_CHAIN_ID = 2
/* RADIOMETRIC DATA ELEMENTS */
BANDWIDTH = 76.0
CENTER_FILTER_WAVELENGTH = 444.0
RADIANCE_OFFSET = 0.0
RADIANCE_SCALING_FACTOR = 0.00883217
REFLECTANCE_SCALING_FACTOR = 0.000502345
MEX:REFLECTANCE_OFFSET = 0.0
/* IMAGE OBJECT DEFINITIONS */
OBJECT = IMAGE
  INTERCHANGE_FORMAT = BINARY
  LINES = 21000
  LINE_SAMPLES = 8594
  SAMPLE_TYPE = UNSIGNED_INTEGER
  SAMPLE_BITS = 8
  BANDS = 1
  BAND_STORAGE_TYPE = BAND_SEQUENTIAL
  MAXIMUM = 254
  MEAN = 102.074
  MINIMUM = 1
  STANDARD_DEVIATION = 44.5805
END_OBJECT = IMAGE
/* MAP OBJECT DEFINITIONS */
OBJECT = IMAGE_MAP_PROJECTION
  ^DATA_SET_MAP_PROJECTION_CATALOG= "DSMAP.CAT"
  A_AXIS_RADIUS = 3396.0
  B_AXIS_RADIUS = 3396.0
  C_AXIS_RADIUS = 3396.0
  CENTER_LATITUDE = 0.0
  CENTER_LONGITUDE = 242.0
  COORDINATE_SYSTEM_NAME = PLANETOGRAPHIC
  COORDINATE_SYSTEM_TYPE = "BODY-FIXED ROTATING"
  EASTERNMOST_LONGITUDE = 304.509
  FIRST_STANDARD_PARALLEL = "N/A"
  LINE_FIRST_PIXEL = 1
  LINE_LAST_PIXEL = 21000
  LINE_PROJECTION_OFFSET = 9354.0
  MAP_PROJECTION_ROTATION = 0.0
  MAP_PROJECTION_TYPE = SINUSOIDAL
  MAP_RESOLUTION = 148.178450966667
  MAP_SCALE = 0.4
  MAXIMUM_LATITUDE = 62.547
  MINIMUM_LATITUDE = -78.2958
  POSITIVE_LONGITUDE_DIRECTION = EAST
  REFERENCE_LATITUDE = "N/A"
  REFERENCE_LONGITUDE = "N/A"
  SAMPLE_FIRST_PIXEL = 1
  SAMPLE_LAST_PIXEL = 8594
  SAMPLE_PROJECTION_OFFSET = 4017.0
  SECOND_STANDARD_PARALLEL = "N/A"
  WESTERNMOST_LONGITUDE = 199.074
END_OBJECT = IMAGE_MAP_PROJECTION
END
