PDS_VERSION_ID = PDS3
/* FILE DATA ELEMENTS */
RECORD_TYPE = UNDEFINED
/* POINTERS TO DATA OBJECTS */
^IMAGE = ("HL684_0000_RE4.TIF")
/* IDENTIFICATION DATA ELEMENTS */
DATA_SET_ID = "MEX-M-HRSC-4-REFDR-MAPPROJECT-EXT8-V4.0"
DATA_SET_NAME = "MARS EXPRESS HRSC MAP PROJECTED REFDR EXTENSION8 V4.0"
DETECTOR_ID = MEX_HRSC_RED
EVENT_TYPE = "MARS-TERMINATOR-CALIBRATION-Tc"
INSTRUMENT_HOST_ID = MEX
INSTRUMENT_HOST_NAME = "MARS EXPRESS"
INSTRUMENT_ID = HRSC
INSTRUMENT_NAME = "HIGH RESOLUTION STEREO CAMERA"
MISSION_NAME = "MARS EXPRESS"
MISSION_PHASE_NAME = ME_Phase_44
PROCESSING_LEVEL_ID = 4
PRODUCT_CREATION_TIME = 2023-01-25T08:48:24.000Z
PRODUCT_ID = "HL684_0000_RE4.TIF"
RELEASE_ID = 0001
REVISION_ID = 0000
/* QUALITY DATA ELEMENTS */
DATA_QUALITY_ID = 1
DATA_QUALITY_DESC = "Data calculated based on original SPICE kernels"
/* TIME DATA ELEMENTS */
SPACECRAFT_CLOCK_START_COUNT = "1/0562473038.23970"
SPACECRAFT_CLOCK_STOP_COUNT = "1/0562473512.23999"
START_TIME = 2021-02-27T02:34:34.917Z
STOP_TIME = 2021-02-27T02:39:03.924Z
/* ORBITAL DATA ELEMENTS */
ASCENDING_NODE_LONGITUDE = 168.97
MAXIMUM_RESOLUTION = 0.5029
FOOTPRINT_POINT_LATITUDE = (-78.0713,-78.05,-77.7891,-72.7674, -70.6304,-68.2004,-65.6555,-60.9582, -57.5792,-55.7062,-53.8097,-52.395, -49.6161,-49.6723,-49.8025,-49.5316, -48.7544,-47.9071,-46.1742,-45.0791, -43.2896,-41.8991,-39.2826,-36.8821, -34.9555,-32.1067,-29.3517,-27.0995, -23.4402,-20.7378,-15.468,-11.96, -8.64796,-5.49784,-0.772369,1.56611, 7.43249,12.4954,15.7152,19.6914,22.8981 ,25.1421,27.6022,31.0295,35.0748, 37.9356,41.3813,45.3897,46.7888,45.3636 ,47.4686,46.4679,48.6108,47.1202, 48.3362,48.9681,48.4586,47.2668,47.0612 ,46.5983,45.2856,42.2025,38.5313,35.712 ,32.8561,29.4371,25.0435,22.4669, 18.6119,14.9754,10.6777,7.73821,4.95099 ,0.486854,-4.28558,-8.98306,-13.777, -18.0428,-21.8944,-24.6808,-29.1679, -32.1674,-34.86,-38.3284,-40.7879, -44.7147,-47.6071,-52.3116,-55.0772, -59.305,-62.9474,-65.9964,-68.5708, -70.6067,-73.0157,-76.4067,-79.0627, -80.0526,-80.3242,-78.0713)
FOOTPRINT_POINT_LONGITUDE = (411.762,411.993,407.521,407.825, 403.226,405.13,400.685,398.995,400.758, 397.798,400.232,396.727,398.205,394.164 ,390.112,383.342,377.249,373.097, 367.144,364.236,360.298,357.777,353.777 ,350.756,348.674,346.021,343.857, 342.289,340.12,338.75,336.54,335.37, 334.43,333.707,332.817,332.487,331.939, 331.79,331.826,332.062,332.4,332.721, 333.159,333.941,335.161,336.254,337.855 ,337.905,333.618,330.579,328.803, 324.492,322.683,319.54,314.758,311.252, 307.04,300.962,296.238,294.854,293.578, 295.171,296.862,298.038,299.142,300.365 ,301.813,302.608,303.737,304.746, 305.884,306.635,307.331,308.417,309.553 ,310.657,311.78,312.791,313.721,314.41, 315.559,316.365,317.122,318.154,318.936 ,320.293,321.404,323.48,324.913,327.527 ,330.379,333.412,336.661,339.887, 344.845,355.701,372.577,386.545,406.791 ,411.762)
ORBIT_NUMBER = 21684
ORBITAL_ECCENTRICITY = 0.577
ORBITAL_INCLINATION = 86.99
ORBITAL_SEMIMAJOR_AXIS = 8828.1
PERIAPSIS_ALTITUDE = 344.52
PERIAPSIS_ARGUMENT_ANGLE = 205.8
PERIAPSIS_TIME = 2021-02-27T01:18:40.000Z
SPACECRAFT_ORIENTATION = (0.0,-1.0,0.0)
^MEX_ORIENTATION_DESC = "MEX_ORIENTATION_DESC.TXT"
SPACECRAFT_POINTING_MODE = FIXED
^MEX_POINTING_DESC = "MEX_POINTING_DESC.TXT"
RIGHT_ASCENSION = -1e+32
DECLINATION = -1e+32
OFFSET_ANGLE = -1e+32
SPACECRAFT_SOLAR_DISTANCE = 2.36488e+08
TARGET_NAME = MARS
/* CAMERA DATA ELEMENTS */
DETECTOR_TEMPERATURE = 19.5939
FOCAL_PLANE_TEMPERATURE = 10.2145
INST_CMPRS_NAME = "DISCRETE COSINE TRANSFORMATION (DCT)"
INST_CMPRS_RATIO = 9.349
INST_CMPRS_QUALITY = 0
INST_CMPRS_QUANTZ_TBL_ID = 0
INSTRUMENT_TEMPERATURE = 11.8457
LENS_TEMPERATURE = 10.8262
MACROPIXEL_SIZE = 2
MISSING_FRAMES = 0
PIXEL_SUBSAMPLING_FLAG = N
SIGNAL_CHAIN_ID = 1
/* RADIOMETRIC DATA ELEMENTS */
BANDWIDTH = 48.0
CENTER_FILTER_WAVELENGTH = 748.0
RADIANCE_OFFSET = 0.0
RADIANCE_SCALING_FACTOR = 0.00918598
REFLECTANCE_SCALING_FACTOR = 0.00117247
MEX:REFLECTANCE_OFFSET = 0.0
/* IMAGE OBJECT DEFINITIONS */
OBJECT = IMAGE
  INTERCHANGE_FORMAT = BINARY
  LINES = 19263
  LINE_SAMPLES = 10649
  SAMPLE_TYPE = UNSIGNED_INTEGER
  SAMPLE_BITS = 8
  BANDS = 1
  BAND_STORAGE_TYPE = BAND_SEQUENTIAL
  MAXIMUM = 255
  MEAN = 132.05
  MINIMUM = 42
  STANDARD_DEVIATION = 32.2561
END_OBJECT = IMAGE
/* MAP OBJECT DEFINITIONS */
OBJECT = IMAGE_MAP_PROJECTION
  ^DATA_SET_MAP_PROJECTION_CATALOG= "DSMAP.CAT"
  A_AXIS_RADIUS = 3396.0
  B_AXIS_RADIUS = 3396.0
  C_AXIS_RADIUS = 3396.0
  CENTER_LATITUDE = 0.0
  CENTER_LONGITUDE = 324.0
  COORDINATE_SYSTEM_NAME = PLANETOGRAPHIC
  COORDINATE_SYSTEM_TYPE = "BODY-FIXED ROTATING"
  EASTERNMOST_LONGITUDE = 51.993
  FIRST_STANDARD_PARALLEL = "N/A"
  LINE_FIRST_PIXEL = 1
  LINE_LAST_PIXEL = 19263
  LINE_PROJECTION_OFFSET = 7151.0
  MAP_PROJECTION_ROTATION = 0.0
  MAP_PROJECTION_TYPE = SINUSOIDAL
  MAP_RESOLUTION = 148.178450966667
  MAP_SCALE = 0.4
  MAXIMUM_LATITUDE = 48.9681
  MINIMUM_LATITUDE = -80.3242
  POSITIVE_LONGITUDE_DIRECTION = EAST
  REFERENCE_LATITUDE = "N/A"
  REFERENCE_LONGITUDE = "N/A"
  SAMPLE_FIRST_PIXEL = 1
  SAMPLE_LAST_PIXEL = 10649
  SAMPLE_PROJECTION_OFFSET = 3375.0
  SECOND_STANDARD_PARALLEL = "N/A"
  WESTERNMOST_LONGITUDE = -66.422
END_OBJECT = IMAGE_MAP_PROJECTION
END
