PDS_VERSION_ID = PDS3
/* FILE DATA ELEMENTS */
RECORD_TYPE = UNDEFINED
/* POINTERS TO DATA OBJECTS */
^IMAGE = ("HL717_0000_BL4.TIF")
/* IDENTIFICATION DATA ELEMENTS */
DATA_SET_ID = "MEX-M-HRSC-4-REFDR-MAPPROJECT-EXT8-V4.0"
DATA_SET_NAME = "MARS EXPRESS HRSC MAP PROJECTED REFDR EXTENSION8 V4.0"
DETECTOR_ID = MEX_HRSC_BLUE
EVENT_TYPE = "MARS-TERMINATOR-CALIBRATION-Tc"
INSTRUMENT_HOST_ID = MEX
INSTRUMENT_HOST_NAME = "MARS EXPRESS"
INSTRUMENT_ID = HRSC
INSTRUMENT_NAME = "HIGH RESOLUTION STEREO CAMERA"
MISSION_NAME = "MARS EXPRESS"
MISSION_PHASE_NAME = ME_Phase_44
PROCESSING_LEVEL_ID = 4
PRODUCT_CREATION_TIME = 2023-01-25T08:48:24.000Z
PRODUCT_ID = "HL717_0000_BL4.TIF"
RELEASE_ID = 0001
REVISION_ID = 0000
/* QUALITY DATA ELEMENTS */
DATA_QUALITY_ID = 1
DATA_QUALITY_DESC = "Data calculated based on original SPICE kernels"
/* TIME DATA ELEMENTS */
SPACECRAFT_CLOCK_START_COUNT = "1/0563305563.25682"
SPACECRAFT_CLOCK_STOP_COUNT = "1/0563305985.25990"
START_TIME = 2021-03-08T17:48:41.944Z
STOP_TIME = 2021-03-08T17:52:15.957Z
/* ORBITAL DATA ELEMENTS */
ASCENDING_NODE_LONGITUDE = 168.37
MAXIMUM_RESOLUTION = 0.708
FOOTPRINT_POINT_LATITUDE = (-77.5689,-77.6135,-76.9012,-73.7516, -68.5441,-64.2333,-61.1973,-58.7568, -56.8107,-53.0111,-47.3909,-45.1514, -40.3427,-38.9678,-38.5011,-38.215, -36.1941,-35.149,-34.1074,-32.5163, -29.8972,-27.5277,-24.909,-21.2781, -18.5567,-13.7152,-9.37267,-4.59232, -1.33297,2.40618,5.37157,9.09246, 15.4372,20.0061,23.6642,27.8797,33.361, 36.7242,40.6609,43.5598,46.8623,46.449, 48.0868,47.3619,49.1789,47.7991,50.2617 ,49.8895,52.9707,51.6705,53.3589, 52.5247,54.3333,53.1394,56.0394,56.839, 59.2136,62.0797,65.1089,65.3602,67.177, 68.6999,67.5711,67.3632,65.584,62.2132, 57.7417,52.5712,49.2971,43.5969,40.1833 ,35.1887,27.5581,23.9537,19.4885, 16.5356,12.3444,9.43083,3.37561, -1.99136,-5.3282,-9.50976,-12.994, -16.5589,-21.084,-24.9801,-29.1636, -34.1049,-37.2603,-39.9961,-43.5417, -48.9695,-54.2529,-58.1773,-61.0449, -64.7884,-69.3861,-72.7841,-75.7697, -77.5689)
FOOTPRINT_POINT_LONGITUDE = (210.647,210.897,213.695,225.468, 234.554,234.796,237.337,239.993,243.772 ,242.379,243.345,247.31,244.665,248.783 ,244.757,248.423,245.158,239.96,236.52, 232.557,227.722,224.373,221.37,218.063, 216.055,213.215,211.345,209.844,209.105 ,208.509,208.237,208.13,208.578,209.438 ,210.483,212.194,215.448,218.187, 222.558,226.998,233.078,228.687,232.65, 227.574,231.907,227.895,230.463,225.78, 227.797,223.708,227.435,222.625,226.553 ,221.638,224.884,216.888,213.32,207.826 ,203.565,192.179,180.786,171.438, 156.113,153.885,151.521,154.653,157.812 ,160.576,161.999,164.065,165.117, 166.475,168.247,168.991,169.849,170.385 ,171.111,171.596,172.56,173.38,173.879, 174.499,175.013,175.543,176.226,176.832 ,177.511,178.367,178.956,179.502,180.27 ,181.623,183.242,184.736,186.054, 188.191,191.838,195.797,200.94,210.647)
ORBIT_NUMBER = 21717
ORBITAL_ECCENTRICITY = 0.577
ORBITAL_INCLINATION = 86.98
ORBITAL_SEMIMAJOR_AXIS = 8840.47
PERIAPSIS_ALTITUDE = 346.14
PERIAPSIS_ARGUMENT_ANGLE = 200.11
PERIAPSIS_TIME = 2021-03-08T15:44:32.000Z
SPACECRAFT_ORIENTATION = (0.0,-1.0,0.0)
^MEX_ORIENTATION_DESC = "MEX_ORIENTATION_DESC.TXT"
SPACECRAFT_POINTING_MODE = FIXED
^MEX_POINTING_DESC = "MEX_POINTING_DESC.TXT"
RIGHT_ASCENSION = -1e+32
DECLINATION = -1e+32
OFFSET_ANGLE = -1e+32
SPACECRAFT_SOLAR_DISTANCE = 2.38099e+08
TARGET_NAME = MARS
/* CAMERA DATA ELEMENTS */
DETECTOR_TEMPERATURE = 18.5744
FOCAL_PLANE_TEMPERATURE = 9.195
INST_CMPRS_NAME = "DISCRETE COSINE TRANSFORMATION (DCT)"
INST_CMPRS_RATIO = 4.26526
INST_CMPRS_QUALITY = 0
INST_CMPRS_QUANTZ_TBL_ID = 0
INSTRUMENT_TEMPERATURE = 11.4379
LENS_TEMPERATURE = 9.6028
MACROPIXEL_SIZE = 2
MISSING_FRAMES = 0
PIXEL_SUBSAMPLING_FLAG = N
SIGNAL_CHAIN_ID = 2
/* RADIOMETRIC DATA ELEMENTS */
BANDWIDTH = 76.0
CENTER_FILTER_WAVELENGTH = 444.0
RADIANCE_OFFSET = 0.0
RADIANCE_SCALING_FACTOR = 0.00874437
REFLECTANCE_SCALING_FACTOR = 0.000509389
MEX:REFLECTANCE_OFFSET = 0.0
/* IMAGE OBJECT DEFINITIONS */
OBJECT = IMAGE
  INTERCHANGE_FORMAT = BINARY
  LINES = 10904
  LINE_SAMPLES = 4949
  SAMPLE_TYPE = UNSIGNED_INTEGER
  SAMPLE_BITS = 8
  BANDS = 1
  BAND_STORAGE_TYPE = BAND_SEQUENTIAL
  MAXIMUM = 254
  MEAN = 127.906
  MINIMUM = 31
  STANDARD_DEVIATION = 45.4853
END_OBJECT = IMAGE
/* MAP OBJECT DEFINITIONS */
OBJECT = IMAGE_MAP_PROJECTION
  ^DATA_SET_MAP_PROJECTION_CATALOG= "DSMAP.CAT"
  A_AXIS_RADIUS = 3396.0
  B_AXIS_RADIUS = 3396.0
  C_AXIS_RADIUS = 3396.0
  CENTER_LATITUDE = 0.0
  CENTER_LONGITUDE = 190.0
  COORDINATE_SYSTEM_NAME = PLANETOGRAPHIC
  COORDINATE_SYSTEM_TYPE = "BODY-FIXED ROTATING"
  EASTERNMOST_LONGITUDE = 248.783
  FIRST_STANDARD_PARALLEL = "N/A"
  LINE_FIRST_PIXEL = 1
  LINE_LAST_PIXEL = 10904
  LINE_PROJECTION_OFFSET = 5097.0
  MAP_PROJECTION_ROTATION = 0.0
  MAP_PROJECTION_TYPE = SINUSOIDAL
  MAP_RESOLUTION = 74.08922548333329
  MAP_SCALE = 0.8
  MAXIMUM_LATITUDE = 68.6999
  MINIMUM_LATITUDE = -77.6135
  POSITIVE_LONGITUDE_DIRECTION = EAST
  REFERENCE_LATITUDE = "N/A"
  REFERENCE_LONGITUDE = "N/A"
  SAMPLE_FIRST_PIXEL = 1
  SAMPLE_LAST_PIXEL = 4949
  SAMPLE_PROJECTION_OFFSET = 1433.0
  SECOND_STANDARD_PARALLEL = "N/A"
  WESTERNMOST_LONGITUDE = 151.521
END_OBJECT = IMAGE_MAP_PROJECTION
END
