PDS_VERSION_ID = PDS3
/* FILE DATA ELEMENTS */
RECORD_TYPE = UNDEFINED
/* POINTERS TO DATA OBJECTS */
^IMAGE = ("HL722_0000_ND4.TIF")
/* IDENTIFICATION DATA ELEMENTS */
DATA_SET_ID = "MEX-M-HRSC-4-REFDR-MAPPROJECT-EXT8-V4.0"
DATA_SET_NAME = "MARS EXPRESS HRSC MAP PROJECTED REFDR EXTENSION8 V4.0"
DETECTOR_ID = MEX_HRSC_NADIR
EVENT_TYPE = "MARS-TERMINATOR-CALIBRATION-Tc"
INSTRUMENT_HOST_ID = MEX
INSTRUMENT_HOST_NAME = "MARS EXPRESS"
INSTRUMENT_ID = HRSC
INSTRUMENT_NAME = "HIGH RESOLUTION STEREO CAMERA"
MISSION_NAME = "MARS EXPRESS"
MISSION_PHASE_NAME = ME_Phase_44
PROCESSING_LEVEL_ID = 4
PRODUCT_CREATION_TIME = 2023-01-25T08:48:24.000Z
PRODUCT_ID = "HL722_0000_ND4.TIF"
RELEASE_ID = 0001
REVISION_ID = 0000
/* QUALITY DATA ELEMENTS */
DATA_QUALITY_ID = 1
DATA_QUALITY_DESC = "Data calculated based on original SPICE kernels"
/* TIME DATA ELEMENTS */
SPACECRAFT_CLOCK_START_COUNT = "1/0563432166.23957"
SPACECRAFT_CLOCK_STOP_COUNT = "1/0563432578.21900"
START_TIME = 2021-03-10T04:58:23.931Z
STOP_TIME = 2021-03-10T05:01:46.921Z
/* ORBITAL DATA ELEMENTS */
ASCENDING_NODE_LONGITUDE = 168.28
MAXIMUM_RESOLUTION = 0.7519
FOOTPRINT_POINT_LATITUDE = (-74.8422,-74.8796,-73.8788,-72.079, -69.1313,-64.4749,-62.7165,-58.8421, -55.2192,-51.419,-48.8906,-46.1593, -44.0846,-42.6808,-40.8504,-37.9127, -34.8002,-31.384,-28.2335,-24.2629, -21.7376,-19.3773,-16.9729,-13.5229, -10.9034,-5.85276,-2.22852,1.74182, 4.56412,8.20398,12.5758,15.9398,21.5447 ,26.3167,30.6417,35.7569,40.1173, 44.6024,47.3442,49.3071,51.9561,53.8064 ,55.8156,56.0221,57.9133,57.7022, 60.4334,61.3878,64.85,67.2121,66.4057, 70.2532,70.1302,71.8946,72.8178,71.9954 ,64.7418,65.1429,63.8311,70.299,69.3143 ,66.6177,62.8569,59.239,55.8895,51.3137 ,47.7298,42.8708,39.2217,34.0691, 31.5001,27.3807,24.6845,20.718,17.8727, 13.5357,8.48836,3.11387,-1.42334, -5.18121,-11.0091,-13.7484,-16.7226, -21.7387,-27.149,-30.923,-35.3802, -38.7195,-41.5995,-46.0615,-52.5212, -57.0013,-59.8351,-63.9637,-66.8414, -71.3073,-74.7194,-74.8523,-75.5146, -74.8422)
FOOTPRINT_POINT_LONGITUDE = (406.648,406.791,408.659,417.302, 428.022,432.064,438.504,438.777,441.618 ,444.854,448.556,449.626,446.393, 442.214,437.406,431.75,427.26,423.416, 420.451,417.501,415.915,414.621,413.464 ,412.037,411.124,409.709,408.961, 408.358,408.07,407.871,407.87,408.062, 408.77,409.833,411.231,413.499,416.237, 420.041,423.1,425.782,430.326,434.422, 439.661,433.318,438.159,432.178,434.004 ,426.034,426.439,422.494,416.124, 410.501,401.498,390.419,379.562,357.509 ,359.959,360.026,359.972,350.042, 342.254,338.788,343.116,348.642,352.512 ,356.579,359.097,361.867,363.59,365.635 ,366.518,367.784,368.525,369.513, 370.154,371.039,371.938,372.777,373.393 ,373.848,374.458,374.712,374.958, 375.314,375.61,375.764,375.883,375.927, 375.925,375.849,375.528,375.108,374.722 ,373.929,373.148,371.336,371.228, 392.775,395.605,406.648)
ORBIT_NUMBER = 21722
ORBITAL_ECCENTRICITY = 0.577
ORBITAL_INCLINATION = 86.98
ORBITAL_SEMIMAJOR_AXIS = 8846.9
PERIAPSIS_ALTITUDE = 346.34
PERIAPSIS_ARGUMENT_ANGLE = 199.24
PERIAPSIS_TIME = 2021-03-10T02:39:23.000Z
SPACECRAFT_ORIENTATION = (0.0,-1.0,0.0)
^MEX_ORIENTATION_DESC = "MEX_ORIENTATION_DESC.TXT"
SPACECRAFT_POINTING_MODE = FIXED
^MEX_POINTING_DESC = "MEX_POINTING_DESC.TXT"
RIGHT_ASCENSION = -1e+32
DECLINATION = -1e+32
OFFSET_ANGLE = -1e+32
SPACECRAFT_SOLAR_DISTANCE = 2.38336e+08
TARGET_NAME = MARS
/* CAMERA DATA ELEMENTS */
DETECTOR_TEMPERATURE = 18.1666
FOCAL_PLANE_TEMPERATURE = 8.9911
INST_CMPRS_NAME = "DISCRETE COSINE TRANSFORMATION (DCT)"
INST_CMPRS_RATIO = 8.33589
INST_CMPRS_QUALITY = 0
INST_CMPRS_QUANTZ_TBL_ID = 0
INSTRUMENT_TEMPERATURE = 11.6418
LENS_TEMPERATURE = 9.6028
MACROPIXEL_SIZE = 2
MISSING_FRAMES = 0
PIXEL_SUBSAMPLING_FLAG = N
SIGNAL_CHAIN_ID = 0
/* RADIOMETRIC DATA ELEMENTS */
BANDWIDTH = 177.0
CENTER_FILTER_WAVELENGTH = 677.5
RADIANCE_OFFSET = 0.0
RADIANCE_SCALING_FACTOR = 0.0431349
REFLECTANCE_SCALING_FACTOR = 0.00130182
MEX:REFLECTANCE_OFFSET = 0.0
/* IMAGE OBJECT DEFINITIONS */
OBJECT = IMAGE
  INTERCHANGE_FORMAT = BINARY
  LINES = 10966
  LINE_SAMPLES = 4791
  SAMPLE_TYPE = UNSIGNED_INTEGER
  SAMPLE_BITS = 8
  BANDS = 1
  BAND_STORAGE_TYPE = BAND_SEQUENTIAL
  MAXIMUM = 255
  MEAN = 118.025
  MINIMUM = 1
  STANDARD_DEVIATION = 53.6605
END_OBJECT = IMAGE
/* MAP OBJECT DEFINITIONS */
OBJECT = IMAGE_MAP_PROJECTION
  ^DATA_SET_MAP_PROJECTION_CATALOG= "DSMAP.CAT"
  A_AXIS_RADIUS = 3396.0
  B_AXIS_RADIUS = 3396.0
  C_AXIS_RADIUS = 3396.0
  CENTER_LATITUDE = 0.0
  CENTER_LONGITUDE = 30.0
  COORDINATE_SYSTEM_NAME = PLANETOGRAPHIC
  COORDINATE_SYSTEM_TYPE = "BODY-FIXED ROTATING"
  EASTERNMOST_LONGITUDE = 89.626
  FIRST_STANDARD_PARALLEL = "N/A"
  LINE_FIRST_PIXEL = 1
  LINE_LAST_PIXEL = 10966
  LINE_PROJECTION_OFFSET = 5375.0
  MAP_PROJECTION_ROTATION = 0.0
  MAP_PROJECTION_TYPE = SINUSOIDAL
  MAP_RESOLUTION = 74.08922548333329
  MAP_SCALE = 0.8
  MAXIMUM_LATITUDE = 72.81780000000001
  MINIMUM_LATITUDE = -75.5146
  POSITIVE_LONGITUDE_DIRECTION = EAST
  REFERENCE_LATITUDE = "N/A"
  REFERENCE_LONGITUDE = "N/A"
  SAMPLE_FIRST_PIXEL = 1
  SAMPLE_LAST_PIXEL = 4791
  SAMPLE_PROJECTION_OFFSET = 1608.0
  SECOND_STANDARD_PARALLEL = "N/A"
  WESTERNMOST_LONGITUDE = -21.212
END_OBJECT = IMAGE_MAP_PROJECTION
END
