PDS_VERSION_ID = PDS3
/* FILE DATA ELEMENTS */
RECORD_TYPE = UNDEFINED
/* POINTERS TO DATA OBJECTS */
^IMAGE = ("HL732_0000_IR4.TIF")
/* IDENTIFICATION DATA ELEMENTS */
DATA_SET_ID = "MEX-M-HRSC-4-REFDR-MAPPROJECT-EXT8-V4.0"
DATA_SET_NAME = "MARS EXPRESS HRSC MAP PROJECTED REFDR EXTENSION8 V4.0"
DETECTOR_ID = MEX_HRSC_IR
EVENT_TYPE = "MARS-TERMINATOR-CALIBRATION-Tc"
INSTRUMENT_HOST_ID = MEX
INSTRUMENT_HOST_NAME = "MARS EXPRESS"
INSTRUMENT_ID = HRSC
INSTRUMENT_NAME = "HIGH RESOLUTION STEREO CAMERA"
MISSION_NAME = "MARS EXPRESS"
MISSION_PHASE_NAME = ME_Phase_44
PROCESSING_LEVEL_ID = 4
PRODUCT_CREATION_TIME = 2023-01-25T08:48:24.000Z
PRODUCT_ID = "HL732_0000_IR4.TIF"
RELEASE_ID = 0001
REVISION_ID = 0000
/* QUALITY DATA ELEMENTS */
DATA_QUALITY_ID = 1
DATA_QUALITY_DESC = "Data calculated based on original SPICE kernels"
/* TIME DATA ELEMENTS */
SPACECRAFT_CLOCK_START_COUNT = "1/0563681395.25698"
SPACECRAFT_CLOCK_STOP_COUNT = "1/0563681833.23998"
START_TIME = 2021-03-13T02:10:28.969Z
STOP_TIME = 2021-03-13T02:14:21.975Z
/* ORBITAL DATA ELEMENTS */
ASCENDING_NODE_LONGITUDE = 168.09
MAXIMUM_RESOLUTION = 0.6237
FOOTPRINT_POINT_LATITUDE = (-78.9569,-78.9405,-77.6325,-74.7516, -70.5015,-67.8928,-65.0731,-61.0878, -58.4486,-56.2855,-54.1863,-51.4881, -50.6134,-49.0766,-49.1127,-48.6205, -47.8712,-46.5269,-44.4219,-42.6508, -40.9661,-38.0775,-34.2763,-31.7891, -29.0468,-26.3298,-23.6258,-21.4504, -18.9488,-15.9627,-13.5746,-10.2824, -6.60798,-3.67285,-1.17981,2.93718, 5.59912,9.93158,13.7618,16.5786,21.3634 ,25.2402,29.4561,32.906,37.244,40.0751, 44.8173,48.3866,51.4884,50.5932,53.7579 ,53.3477,53.4301,55.4942,54.7901,53.659 ,53.4493,52.0629,50.3856,46.868,43.4687 ,39.1752,36.0802,32.1401,29.4657, 24.9746,22.1138,19.135,14.6085,11.1632, 6.94524,3.93611,0.257756,-5.72194, -10.7333,-14.1116,-18.8476,-22.2208, -24.9764,-28.2472,-32.3438,-35.7822, -38.494,-42.5173,-46.1412,-50.0152, -52.7849,-56.8572,-60.2999,-63.2503, -65.6513,-68.6795,-71.4029,-75.5401, -80.3633,-84.2921,-85.6371,-82.1181, -81.3677,-78.9569)
FOOTPRINT_POINT_LONGITUDE = (177.777,178.022,174.43,175.97,174.366, 173.839,174.433,169.582,172.542,168.664 ,171.757,167.466,171.409,168.03,163.107 ,156.35,151.491,145.792,139.667,135.806 ,132.759,128.504,124.092,121.739,119.5, 117.577,115.915,114.731,113.513,112.237 ,111.34,110.269,109.274,108.614,108.152 ,107.538,107.255,106.938,106.871, 106.927,107.242,107.723,108.511,109.39, 110.859,112.082,114.742,116.492,113.778 ,108.433,102.684,98.5842,93.7211, 86.2466,77.0295,69.9027,67.5693,61.6917 ,58.679,61.2178,63.5265,66.0203,67.5901 ,69.3738,70.4639,72.1379,73.1109, 74.0589,75.3946,76.3416,77.4307,78.1685 ,79.0297,80.3533,81.4038,82.0901, 83.0273,83.6816,84.2118,84.8398,85.6316 ,86.3072,86.8536,87.6959,88.5031, 89.4382,90.1743,91.3734,92.5515,93.7363 ,94.8608,96.5751,98.5205,102.777,112.32 ,134.862,165.085,177.235,176.889, 177.777)
ORBIT_NUMBER = 21732
ORBITAL_ECCENTRICITY = 0.577
ORBITAL_INCLINATION = 86.99
ORBITAL_SEMIMAJOR_AXIS = 8841.55
PERIAPSIS_ALTITUDE = 346.93
PERIAPSIS_ARGUMENT_ANGLE = 197.54
PERIAPSIS_TIME = 2021-03-13T00:29:34.000Z
SPACECRAFT_ORIENTATION = (0.0,-1.0,0.0)
^MEX_ORIENTATION_DESC = "MEX_ORIENTATION_DESC.TXT"
SPACECRAFT_POINTING_MODE = FIXED
^MEX_POINTING_DESC = "MEX_POINTING_DESC.TXT"
RIGHT_ASCENSION = -1e+32
DECLINATION = -1e+32
OFFSET_ANGLE = -1e+32
SPACECRAFT_SOLAR_DISTANCE = 2.38805e+08
TARGET_NAME = MARS
/* CAMERA DATA ELEMENTS */
DETECTOR_TEMPERATURE = 18.1666
FOCAL_PLANE_TEMPERATURE = 9.6028
INST_CMPRS_NAME = "DISCRETE COSINE TRANSFORMATION (DCT)"
INST_CMPRS_RATIO = 4.65932
INST_CMPRS_QUALITY = 0
INST_CMPRS_QUANTZ_TBL_ID = 0
INSTRUMENT_TEMPERATURE = 12.0496
LENS_TEMPERATURE = 10.4184
MACROPIXEL_SIZE = 2
MISSING_FRAMES = 0
PIXEL_SUBSAMPLING_FLAG = N
SIGNAL_CHAIN_ID = 1
/* RADIOMETRIC DATA ELEMENTS */
BANDWIDTH = 81.0
CENTER_FILTER_WAVELENGTH = 955.5
RADIANCE_OFFSET = 0.0
RADIANCE_SCALING_FACTOR = 0.00831723
REFLECTANCE_SCALING_FACTOR = 0.00102337
MEX:REFLECTANCE_OFFSET = 0.0
/* IMAGE OBJECT DEFINITIONS */
OBJECT = IMAGE
  INTERCHANGE_FORMAT = BINARY
  LINES = 10559
  LINE_SAMPLES = 5534
  SAMPLE_TYPE = UNSIGNED_INTEGER
  SAMPLE_BITS = 8
  BANDS = 1
  BAND_STORAGE_TYPE = BAND_SEQUENTIAL
  MAXIMUM = 255
  MEAN = 124.973
  MINIMUM = 2
  STANDARD_DEVIATION = 55.4237
END_OBJECT = IMAGE
/* MAP OBJECT DEFINITIONS */
OBJECT = IMAGE_MAP_PROJECTION
  ^DATA_SET_MAP_PROJECTION_CATALOG= "DSMAP.CAT"
  A_AXIS_RADIUS = 3396.0
  B_AXIS_RADIUS = 3396.0
  C_AXIS_RADIUS = 3396.0
  CENTER_LATITUDE = 0.0
  CENTER_LONGITUDE = 97.0
  COORDINATE_SYSTEM_NAME = PLANETOGRAPHIC
  COORDINATE_SYSTEM_TYPE = "BODY-FIXED ROTATING"
  EASTERNMOST_LONGITUDE = 178.022
  FIRST_STANDARD_PARALLEL = "N/A"
  LINE_FIRST_PIXEL = 1
  LINE_LAST_PIXEL = 10559
  LINE_PROJECTION_OFFSET = 4198.0
  MAP_PROJECTION_ROTATION = 0.0
  MAP_PROJECTION_TYPE = SINUSOIDAL
  MAP_RESOLUTION = 74.08922548333329
  MAP_SCALE = 0.8
  MAXIMUM_LATITUDE = 55.4942
  MINIMUM_LATITUDE = -85.6371
  POSITIVE_LONGITUDE_DIRECTION = EAST
  REFERENCE_LATITUDE = "N/A"
  REFERENCE_LONGITUDE = "N/A"
  SAMPLE_FIRST_PIXEL = 1
  SAMPLE_LAST_PIXEL = 5534
  SAMPLE_PROJECTION_OFFSET = 1847.0
  SECOND_STANDARD_PARALLEL = "N/A"
  WESTERNMOST_LONGITUDE = 58.679
END_OBJECT = IMAGE_MAP_PROJECTION
END
