PDS_VERSION_ID = PDS3
/* FILE DATA ELEMENTS */
RECORD_TYPE = UNDEFINED
/* POINTERS TO DATA OBJECTS */
^IMAGE = ("HL733_0000_ND4.TIF")
/* IDENTIFICATION DATA ELEMENTS */
DATA_SET_ID = "MEX-M-HRSC-4-REFDR-MAPPROJECT-EXT8-V4.0"
DATA_SET_NAME = "MARS EXPRESS HRSC MAP PROJECTED REFDR EXTENSION8 V4.0"
DETECTOR_ID = MEX_HRSC_NADIR
EVENT_TYPE = "MARS-TERMINATOR-CALIBRATION-Tc"
INSTRUMENT_HOST_ID = MEX
INSTRUMENT_HOST_NAME = "MARS EXPRESS"
INSTRUMENT_ID = HRSC
INSTRUMENT_NAME = "HIGH RESOLUTION STEREO CAMERA"
MISSION_NAME = "MARS EXPRESS"
MISSION_PHASE_NAME = ME_Phase_44
PROCESSING_LEVEL_ID = 4
PRODUCT_CREATION_TIME = 2023-01-25T08:48:24.000Z
PRODUCT_ID = "HL733_0000_ND4.TIF"
RELEASE_ID = 0001
REVISION_ID = 0000
/* QUALITY DATA ELEMENTS */
DATA_QUALITY_ID = 1
DATA_QUALITY_DESC = "Data calculated based on original SPICE kernels"
/* TIME DATA ELEMENTS */
SPACECRAFT_CLOCK_START_COUNT = "1/0563706234.23961"
SPACECRAFT_CLOCK_STOP_COUNT = "1/0563706678.21925"
START_TIME = 2021-03-13T09:06:10.903Z
STOP_TIME = 2021-03-13T09:10:08.950Z
/* ORBITAL DATA ELEMENTS */
ASCENDING_NODE_LONGITUDE = 168.08
MAXIMUM_RESOLUTION = 0.6087
FOOTPRINT_POINT_LATITUDE = (-79.0235,-79.0023,-77.9394,-72.0132, -68.073,-64.654,-60.0167,-57.5824, -53.683,-50.9212,-47.0959,-46.3046, -41.8706,-42.3062,-42.3675,-41.9642, -41.1723,-40.3946,-39.0884,-37.9031, -36.0308,-34.4498,-31.7564,-29.4179, -26.2578,-22.0266,-18.0245,-14.9156, -9.22477,-4.29104,-0.379638,2.45897, 6.46052,9.15771,13.5029,17.1602,20.5699 ,23.278,26.6042,29.5303,33.6392,36.3161 ,39.6666,44.5567,42.7023,46.1772, 46.7716,50.4687,49.8755,44.4226,50.4232 ,45.2053,50.1724,46.0845,51.9467, 46.6983,51.5824,51.4185,53.5692,53.6342 ,52.0501,52.227,51.6586,51.488,49.5422, 44.4687,41.2141,36.8562,31.206,27.9911, 25.2843,22.4279,17.0708,13.763,10.4959, 6.50164,1.75551,-1.5575,-5.49168, -8.5458,-13.1951,-18.4365,-22.5335, -26.6637,-29.3146,-32.8085,-38.1409, -42.0187,-45.4419,-48.94,-51.801, -55.5979,-60.6132,-64.6096,-69.3836, -73.2263,-75.3541,-77.4996,-79.7373, -79.0235)
FOOTPRINT_POINT_LONGITUDE = (443.467,443.666,440.273,436.807, 432.747,434.935,430.039,432.465,428.969 ,428.35,430.471,426.771,429.123,424.261 ,420.439,414.243,409.409,405.878,401.7, 398.763,395.025,392.388,388.703,386.061 ,383.105,379.943,377.566,376.064, 373.918,372.577,371.811,371.407,371.048 ,370.942,371.009,371.308,371.783,372.32 ,373.18,374.139,375.886,377.342,379.595 ,383.313,380.229,379.505,373.465, 369.798,362.286,359.998,362.249,359.987 ,361.322,360.01,361.519,359.957,358.85, 352.884,348.323,341.794,338.368,333.376 ,327.845,326.082,324.907,327.635, 329.131,330.903,332.907,333.935,334.75, 335.567,337.006,337.844,338.642,339.586 ,340.672,341.414,342.285,342.957, 343.981,345.151,346.09,347.071,347.725, 348.626,350.115,351.316,352.489,353.832 ,355.069,356.972,360.14,363.5,369.233, 376.466,382.469,391.474,409.257, 443.467)
ORBIT_NUMBER = 21733
ORBITAL_ECCENTRICITY = 0.577
ORBITAL_INCLINATION = 86.99
ORBITAL_SEMIMAJOR_AXIS = 8836.99
PERIAPSIS_ALTITUDE = 347.55
PERIAPSIS_ARGUMENT_ANGLE = 197.34
PERIAPSIS_TIME = 2021-03-13T07:28:30.000Z
SPACECRAFT_ORIENTATION = (0.0,-1.0,0.0)
^MEX_ORIENTATION_DESC = "MEX_ORIENTATION_DESC.TXT"
SPACECRAFT_POINTING_MODE = FIXED
^MEX_POINTING_DESC = "MEX_POINTING_DESC.TXT"
RIGHT_ASCENSION = -1e+32
DECLINATION = -1e+32
OFFSET_ANGLE = -1e+32
SPACECRAFT_SOLAR_DISTANCE = 2.38851e+08
TARGET_NAME = MARS
/* CAMERA DATA ELEMENTS */
DETECTOR_TEMPERATURE = 18.5744
FOCAL_PLANE_TEMPERATURE = 9.6028
INST_CMPRS_NAME = "DISCRETE COSINE TRANSFORMATION (DCT)"
INST_CMPRS_RATIO = 9.33565
INST_CMPRS_QUALITY = 0
INST_CMPRS_QUANTZ_TBL_ID = 0
INSTRUMENT_TEMPERATURE = 11.4379
LENS_TEMPERATURE = 9.3989
MACROPIXEL_SIZE = 2
MISSING_FRAMES = 0
PIXEL_SUBSAMPLING_FLAG = N
SIGNAL_CHAIN_ID = 0
/* RADIOMETRIC DATA ELEMENTS */
BANDWIDTH = 177.0
CENTER_FILTER_WAVELENGTH = 677.5
RADIANCE_OFFSET = 0.0
RADIANCE_SCALING_FACTOR = 0.0419344
REFLECTANCE_SCALING_FACTOR = 0.00127101
MEX:REFLECTANCE_OFFSET = 0.0
/* IMAGE OBJECT DEFINITIONS */
OBJECT = IMAGE
  INTERCHANGE_FORMAT = BINARY
  LINES = 9974
  LINE_SAMPLES = 5553
  SAMPLE_TYPE = UNSIGNED_INTEGER
  SAMPLE_BITS = 8
  BANDS = 1
  BAND_STORAGE_TYPE = BAND_SEQUENTIAL
  MAXIMUM = 255
  MEAN = 111.573
  MINIMUM = 21
  STANDARD_DEVIATION = 48.2054
END_OBJECT = IMAGE
/* MAP OBJECT DEFINITIONS */
OBJECT = IMAGE_MAP_PROJECTION
  ^DATA_SET_MAP_PROJECTION_CATALOG= "DSMAP.CAT"
  A_AXIS_RADIUS = 3396.0
  B_AXIS_RADIUS = 3396.0
  C_AXIS_RADIUS = 3396.0
  CENTER_LATITUDE = 0.0
  CENTER_LONGITUDE = 359.0
  COORDINATE_SYSTEM_NAME = PLANETOGRAPHIC
  COORDINATE_SYSTEM_TYPE = "BODY-FIXED ROTATING"
  EASTERNMOST_LONGITUDE = 83.666
  FIRST_STANDARD_PARALLEL = "N/A"
  LINE_FIRST_PIXEL = 1
  LINE_LAST_PIXEL = 9974
  LINE_PROJECTION_OFFSET = 4000.0
  MAP_PROJECTION_ROTATION = 0.0
  MAP_PROJECTION_TYPE = SINUSOIDAL
  MAP_RESOLUTION = 74.08922548333329
  MAP_SCALE = 0.8
  MAXIMUM_LATITUDE = 53.6342
  MINIMUM_LATITUDE = -79.7373
  POSITIVE_LONGITUDE_DIRECTION = EAST
  REFERENCE_LATITUDE = "N/A"
  REFERENCE_LONGITUDE = "N/A"
  SAMPLE_FIRST_PIXEL = 1
  SAMPLE_LAST_PIXEL = 5553
  SAMPLE_PROJECTION_OFFSET = 1666.0
  SECOND_STANDARD_PARALLEL = "N/A"
  WESTERNMOST_LONGITUDE = -35.093
END_OBJECT = IMAGE_MAP_PROJECTION
END
