PDS_VERSION_ID = PDS3
/* FILE DATA ELEMENTS */
RECORD_TYPE = UNDEFINED
/* POINTERS TO DATA OBJECTS */
^IMAGE = ("HL762_0000_IR4.TIF")
/* IDENTIFICATION DATA ELEMENTS */
DATA_SET_ID = "MEX-M-HRSC-4-REFDR-MAPPROJECT-EXT8-V4.0"
DATA_SET_NAME = "MARS EXPRESS HRSC MAP PROJECTED REFDR EXTENSION8 V4.0"
DETECTOR_ID = MEX_HRSC_IR
EVENT_TYPE = "MARS-TERMINATOR-CALIBRATION-Tc"
INSTRUMENT_HOST_ID = MEX
INSTRUMENT_HOST_NAME = "MARS EXPRESS"
INSTRUMENT_ID = HRSC
INSTRUMENT_NAME = "HIGH RESOLUTION STEREO CAMERA"
MISSION_NAME = "MARS EXPRESS"
MISSION_PHASE_NAME = ME_Phase_44
PROCESSING_LEVEL_ID = 4
PRODUCT_CREATION_TIME = 2023-01-25T08:48:24.000Z
PRODUCT_ID = "HL762_0000_IR4.TIF"
RELEASE_ID = 0001
REVISION_ID = 0000
/* QUALITY DATA ELEMENTS */
DATA_QUALITY_ID = 1
DATA_QUALITY_DESC = "Data calculated based on original SPICE kernels"
/* TIME DATA ELEMENTS */
SPACECRAFT_CLOCK_START_COUNT = "1/0564437526.23977"
SPACECRAFT_CLOCK_STOP_COUNT = "1/0564437940.24947"
START_TIME = 2021-03-21T20:12:39.930Z
STOP_TIME = 2021-03-21T20:16:06.940Z
/* ORBITAL DATA ELEMENTS */
ASCENDING_NODE_LONGITUDE = 167.56
MAXIMUM_RESOLUTION = 0.7372
FOOTPRINT_POINT_LATITUDE = (-78.5097,-78.5304,-78.1887,-74.1055, -69.8756,-65.8996,-62.5642,-59.7582, -56.6908,-53.1298,-51.2275,-46.2973, -44.2398,-43.3258,-41.9484,-39.9287, -38.0744,-36.0246,-32.0178,-30.0365, -26.7549,-23.5078,-21.109,-17.5275, -15.0823,-9.9048,-6.70068,-2.77307, 2.72809,6.46035,9.26273,14.188,20.5821, 24.3638,26.9373,31.7821,34.943,37.9733, 41.2706,43.8938,46.3631,49.6052,52.901, 56.1647,56.2645,60.161,58.2373,61.2723, 59.4287,61.6209,63.7924,62.3649,64.0497 ,63.7618,63.143,62.4384,62.4265,61.4406 ,56.97,53.4208,50.1468,46.0042,42.9039, 38.6357,34.8111,32.0436,29.5376,24.2128 ,19.9309,17.4153,14.5934,10.0442, 6.50406,3.10026,0.6375,-1.92948, -8.37247,-12.7278,-16.4133,-18.9001, -21.3765,-24.5762,-27.4558,-30.1975, -35.8185,-39.7349,-42.972,-45.4784, -48.8183,-53.1034,-56.2571,-61.5342, -66.7559,-69.8911,-73.9646,-76.7963, -81.4052,-84.1701,-81.4,-78.5097)
FOOTPRINT_POINT_LONGITUDE = (320.122,320.542,320.239,324.304, 325.864,327.871,331.36,333.013,329.968, 330.534,334.276,331.852,325.747,321.142 ,316.23,310.928,307.258,303.892,298.75, 296.686,293.759,291.344,289.806,287.838 ,286.671,284.708,283.654,282.599, 281.592,281.139,280.903,280.743,281.032 ,281.492,281.933,283.143,284.208, 285.493,287.246,288.971,290.957,294.157 ,297.499,296.783,290.091,287.787, 283.916,284.093,279.752,276.213,269.664 ,264.591,255.688,249.678,242.736, 237.217,233.583,229.698,220.354,224.371 ,227.657,231.051,233.185,235.697, 237.627,238.871,239.908,241.876,243.27, 244.024,244.821,246.01,246.866,247.648, 248.191,248.707,249.952,250.729,251.36, 251.768,252.162,252.661,253.096,253.508 ,254.328,254.887,255.354,255.721,256.22 ,256.885,257.404,258.368,259.526, 260.393,261.867,263.305,267.375,283.688 ,308.846,320.122)
ORBIT_NUMBER = 21762
ORBITAL_ECCENTRICITY = 0.577
ORBITAL_INCLINATION = 86.99
ORBITAL_SEMIMAJOR_AXIS = 8848.25
PERIAPSIS_ALTITUDE = 349.07
PERIAPSIS_ARGUMENT_ANGLE = 192.36
PERIAPSIS_TIME = 2021-03-21T17:59:21.000Z
SPACECRAFT_ORIENTATION = (0.0,-1.0,0.0)
^MEX_ORIENTATION_DESC = "MEX_ORIENTATION_DESC.TXT"
SPACECRAFT_POINTING_MODE = FIXED
^MEX_POINTING_DESC = "MEX_POINTING_DESC.TXT"
RIGHT_ASCENSION = -1e+32
DECLINATION = -1e+32
OFFSET_ANGLE = -1e+32
SPACECRAFT_SOLAR_DISTANCE = 2.40162e+08
TARGET_NAME = MARS
/* CAMERA DATA ELEMENTS */
DETECTOR_TEMPERATURE = 18.1666
FOCAL_PLANE_TEMPERATURE = 9.6028
INST_CMPRS_NAME = "DISCRETE COSINE TRANSFORMATION (DCT)"
INST_CMPRS_RATIO = 5.03414
INST_CMPRS_QUALITY = 0
INST_CMPRS_QUANTZ_TBL_ID = 0
INSTRUMENT_TEMPERATURE = 11.4379
LENS_TEMPERATURE = 9.3989
MACROPIXEL_SIZE = 2
MISSING_FRAMES = 0
PIXEL_SUBSAMPLING_FLAG = N
SIGNAL_CHAIN_ID = 1
/* RADIOMETRIC DATA ELEMENTS */
BANDWIDTH = 81.0
CENTER_FILTER_WAVELENGTH = 955.5
RADIANCE_OFFSET = 0.0
RADIANCE_SCALING_FACTOR = 0.00748557
REFLECTANCE_SCALING_FACTOR = 0.000931566
MEX:REFLECTANCE_OFFSET = 0.0
/* IMAGE OBJECT DEFINITIONS */
OBJECT = IMAGE
  INTERCHANGE_FORMAT = BINARY
  LINES = 10861
  LINE_SAMPLES = 5514
  SAMPLE_TYPE = UNSIGNED_INTEGER
  SAMPLE_BITS = 8
  BANDS = 1
  BAND_STORAGE_TYPE = BAND_SEQUENTIAL
  MAXIMUM = 255
  MEAN = 137.109
  MINIMUM = 1
  STANDARD_DEVIATION = 71.1504
END_OBJECT = IMAGE
/* MAP OBJECT DEFINITIONS */
OBJECT = IMAGE_MAP_PROJECTION
  ^DATA_SET_MAP_PROJECTION_CATALOG= "DSMAP.CAT"
  A_AXIS_RADIUS = 3396.0
  B_AXIS_RADIUS = 3396.0
  C_AXIS_RADIUS = 3396.0
  CENTER_LATITUDE = 0.0
  CENTER_LONGITUDE = 266.0
  COORDINATE_SYSTEM_NAME = PLANETOGRAPHIC
  COORDINATE_SYSTEM_TYPE = "BODY-FIXED ROTATING"
  EASTERNMOST_LONGITUDE = 334.276
  FIRST_STANDARD_PARALLEL = "N/A"
  LINE_FIRST_PIXEL = 1
  LINE_LAST_PIXEL = 10861
  LINE_PROJECTION_OFFSET = 4712.0
  MAP_PROJECTION_ROTATION = 0.0
  MAP_PROJECTION_TYPE = SINUSOIDAL
  MAP_RESOLUTION = 74.08922548333329
  MAP_SCALE = 0.8
  MAXIMUM_LATITUDE = 64.0497
  MINIMUM_LATITUDE = -84.17010000000001
  POSITIVE_LONGITUDE_DIRECTION = EAST
  REFERENCE_LATITUDE = "N/A"
  REFERENCE_LONGITUDE = "N/A"
  SAMPLE_FIRST_PIXEL = 1
  SAMPLE_LAST_PIXEL = 5514
  SAMPLE_PROJECTION_OFFSET = 1904.0
  SECOND_STANDARD_PARALLEL = "N/A"
  WESTERNMOST_LONGITUDE = 220.354
END_OBJECT = IMAGE_MAP_PROJECTION
END
