PDS_VERSION_ID = PDS3
/* FILE DATA ELEMENTS */
RECORD_TYPE = UNDEFINED
/* POINTERS TO DATA OBJECTS */
^IMAGE = ("HL762_0000_RE4.TIF")
/* IDENTIFICATION DATA ELEMENTS */
DATA_SET_ID = "MEX-M-HRSC-4-REFDR-MAPPROJECT-EXT8-V4.0"
DATA_SET_NAME = "MARS EXPRESS HRSC MAP PROJECTED REFDR EXTENSION8 V4.0"
DETECTOR_ID = MEX_HRSC_RED
EVENT_TYPE = "MARS-TERMINATOR-CALIBRATION-Tc"
INSTRUMENT_HOST_ID = MEX
INSTRUMENT_HOST_NAME = "MARS EXPRESS"
INSTRUMENT_ID = HRSC
INSTRUMENT_NAME = "HIGH RESOLUTION STEREO CAMERA"
MISSION_NAME = "MARS EXPRESS"
MISSION_PHASE_NAME = ME_Phase_44
PROCESSING_LEVEL_ID = 4
PRODUCT_CREATION_TIME = 2023-01-25T08:48:24.000Z
PRODUCT_ID = "HL762_0000_RE4.TIF"
RELEASE_ID = 0001
REVISION_ID = 0000
/* QUALITY DATA ELEMENTS */
DATA_QUALITY_ID = 1
DATA_QUALITY_DESC = "Data calculated based on original SPICE kernels"
/* TIME DATA ELEMENTS */
SPACECRAFT_CLOCK_START_COUNT = "1/0564437526.23977"
SPACECRAFT_CLOCK_STOP_COUNT = "1/0564437940.24947"
START_TIME = 2021-03-21T20:16:06.951Z
STOP_TIME = 2021-03-21T20:19:31.913Z
/* ORBITAL DATA ELEMENTS */
ASCENDING_NODE_LONGITUDE = 167.56
MAXIMUM_RESOLUTION = 0.7456
FOOTPRINT_POINT_LATITUDE = (-77.8127,-77.8582,-77.3284,-73.7248, -70.1697,-67.3636,-63.4886,-59.3861, -55.0354,-52.1922,-51.9204,-50.8126, -50.1267,-48.8436,-48.3068,-46.0401, -43.515,-42.7149,-41.3767,-38.8257, -36.382,-33.3023,-31.237,-27.3324, -23.9987,-20.0973,-17.6486,-14.8273, -11.3834,-6.99502,-3.5278,0.195231, 4.90408,9.93433,13.424,17.4555,20.3556, 25.0619,27.7373,30.8633,34.1555,39.1107 ,43.4604,46.3587,49.8401,51.9866, 55.1956,55.0538,58.3025,56.5882,59.9407 ,61.2407,63.6881,62.2838,63.4145, 65.4147,64.1504,65.7637,63.9831,63.4033 ,61.8507,59.7746,55.4722,52.7108, 48.2022,45.1302,42.4364,39.6856,35.7913 ,31.679,27.749,22.9728,16.6208,11.3324, 8.03588,5.08938,1.42234,-1.46559, -6.02329,-8.89495,-12.5058,-15.4422, -18.9249,-22.539,-26.8467,-29.9808, -33.9583,-38.5843,-45.2525,-48.2069, -51.7313,-56.7837,-59.7407,-63.6879, -68.0294,-71.3031,-76.8934,-82.5045, -80.3165,-77.8127)
FOOTPRINT_POINT_LONGITUDE = (315.323,315.88,315.695,321.15,326.273, 324.264,329.72,329.724,328.16,328.84, 333.051,328.895,333.068,329.222,333.164 ,329.927,333.269,327.795,320.449, 312.527,307.468,302.669,300.059,296.011 ,293.246,290.585,289.177,287.749, 286.311,284.773,283.748,282.918,282.23, 281.774,281.666,281.762,281.984,282.636 ,283.187,284.037,285.184,287.509, 290.405,292.934,296.831,299.846,300.727 ,295.969,296.152,291.654,291.135, 286.161,277.699,272.252,266.244,261.382 ,254.513,246.092,235.13,230.945,226.29, 220.913,223.697,226.642,230.541,232.731 ,234.417,235.958,237.881,239.654, 241.152,242.769,244.65,246.032,246.827, 247.5,248.311,248.891,249.78,250.315, 250.959,251.468,252.054,252.648,253.333 ,253.833,254.456,255.186,256.282, 256.797,257.448,258.479,259.166,260.222 ,261.686,263.129,266.969,286.526, 303.291,315.323)
ORBIT_NUMBER = 21762
ORBITAL_ECCENTRICITY = 0.577
ORBITAL_INCLINATION = 86.99
ORBITAL_SEMIMAJOR_AXIS = 8848.25
PERIAPSIS_ALTITUDE = 349.07
PERIAPSIS_ARGUMENT_ANGLE = 192.36
PERIAPSIS_TIME = 2021-03-21T17:59:21.000Z
SPACECRAFT_ORIENTATION = (0.0,-1.0,0.0)
^MEX_ORIENTATION_DESC = "MEX_ORIENTATION_DESC.TXT"
SPACECRAFT_POINTING_MODE = FIXED
^MEX_POINTING_DESC = "MEX_POINTING_DESC.TXT"
RIGHT_ASCENSION = -1e+32
DECLINATION = -1e+32
OFFSET_ANGLE = -1e+32
SPACECRAFT_SOLAR_DISTANCE = 2.40162e+08
TARGET_NAME = MARS
/* CAMERA DATA ELEMENTS */
DETECTOR_TEMPERATURE = 19.1861
FOCAL_PLANE_TEMPERATURE = 9.6028
INST_CMPRS_NAME = "DISCRETE COSINE TRANSFORMATION (DCT)"
INST_CMPRS_RATIO = 8.68404
INST_CMPRS_QUALITY = 0
INST_CMPRS_QUANTZ_TBL_ID = 0
INSTRUMENT_TEMPERATURE = 11.4379
LENS_TEMPERATURE = 9.3989
MACROPIXEL_SIZE = 2
MISSING_FRAMES = 0
PIXEL_SUBSAMPLING_FLAG = N
SIGNAL_CHAIN_ID = 1
/* RADIOMETRIC DATA ELEMENTS */
BANDWIDTH = 48.0
CENTER_FILTER_WAVELENGTH = 748.0
RADIANCE_OFFSET = 0.0
RADIANCE_SCALING_FACTOR = 0.00884375
REFLECTANCE_SCALING_FACTOR = 0.00116419
MEX:REFLECTANCE_OFFSET = 0.0
/* IMAGE OBJECT DEFINITIONS */
OBJECT = IMAGE
  INTERCHANGE_FORMAT = BINARY
  LINES = 10861
  LINE_SAMPLES = 5514
  SAMPLE_TYPE = UNSIGNED_INTEGER
  SAMPLE_BITS = 8
  BANDS = 1
  BAND_STORAGE_TYPE = BAND_SEQUENTIAL
  MAXIMUM = 255
  MEAN = 131.775
  MINIMUM = 1
  STANDARD_DEVIATION = 64.988
END_OBJECT = IMAGE
/* MAP OBJECT DEFINITIONS */
OBJECT = IMAGE_MAP_PROJECTION
  ^DATA_SET_MAP_PROJECTION_CATALOG= "DSMAP.CAT"
  A_AXIS_RADIUS = 3396.0
  B_AXIS_RADIUS = 3396.0
  C_AXIS_RADIUS = 3396.0
  CENTER_LATITUDE = 0.0
  CENTER_LONGITUDE = 266.0
  COORDINATE_SYSTEM_NAME = PLANETOGRAPHIC
  COORDINATE_SYSTEM_TYPE = "BODY-FIXED ROTATING"
  EASTERNMOST_LONGITUDE = 333.269
  FIRST_STANDARD_PARALLEL = "N/A"
  LINE_FIRST_PIXEL = 1
  LINE_LAST_PIXEL = 10861
  LINE_PROJECTION_OFFSET = 4712.0
  MAP_PROJECTION_ROTATION = 0.0
  MAP_PROJECTION_TYPE = SINUSOIDAL
  MAP_RESOLUTION = 74.08922548333329
  MAP_SCALE = 0.8
  MAXIMUM_LATITUDE = 65.7637
  MINIMUM_LATITUDE = -82.50449999999999
  POSITIVE_LONGITUDE_DIRECTION = EAST
  REFERENCE_LATITUDE = "N/A"
  REFERENCE_LONGITUDE = "N/A"
  SAMPLE_FIRST_PIXEL = 1
  SAMPLE_LAST_PIXEL = 5514
  SAMPLE_PROJECTION_OFFSET = 1904.0
  SECOND_STANDARD_PARALLEL = "N/A"
  WESTERNMOST_LONGITUDE = 220.913
END_OBJECT = IMAGE_MAP_PROJECTION
END
