PDS_VERSION_ID = PDS3
/* FILE DATA ELEMENTS */
RECORD_TYPE = UNDEFINED
/* POINTERS TO DATA OBJECTS */
^IMAGE = ("HL779_0000_BL4.TIF")
/* IDENTIFICATION DATA ELEMENTS */
DATA_SET_ID = "MEX-M-HRSC-4-REFDR-MAPPROJECT-EXT8-V4.0"
DATA_SET_NAME = "MARS EXPRESS HRSC MAP PROJECTED REFDR EXTENSION8 V4.0"
DETECTOR_ID = MEX_HRSC_BLUE
EVENT_TYPE = "MARS-TERMINATOR-CALIBRATION-Tc"
INSTRUMENT_HOST_ID = MEX
INSTRUMENT_HOST_NAME = "MARS EXPRESS"
INSTRUMENT_ID = HRSC
INSTRUMENT_NAME = "HIGH RESOLUTION STEREO CAMERA"
MISSION_NAME = "MARS EXPRESS"
MISSION_PHASE_NAME = ME_Phase_44
PROCESSING_LEVEL_ID = 4
PRODUCT_CREATION_TIME = 2023-01-25T08:48:24.000Z
PRODUCT_ID = "HL779_0000_BL4.TIF"
RELEASE_ID = 0001
REVISION_ID = 0000
/* QUALITY DATA ELEMENTS */
DATA_QUALITY_ID = 1
DATA_QUALITY_DESC = "Data calculated based on original SPICE kernels"
/* TIME DATA ELEMENTS */
SPACECRAFT_CLOCK_START_COUNT = "1/0564864667.25705"
SPACECRAFT_CLOCK_STOP_COUNT = "1/0564865083.25628"
START_TIME = 2021-03-26T18:53:45.971Z
STOP_TIME = 2021-03-26T18:57:14.034Z
/* ORBITAL DATA ELEMENTS */
ASCENDING_NODE_LONGITUDE = 167.24
MAXIMUM_RESOLUTION = 0.7311
FOOTPRINT_POINT_LATITUDE = (-78.3804,-78.373,-79.432,-76.2524, -69.0328,-65.9404,-62.0649,-57.5732, -54.8621,-52.7267,-50.9119,-49.9076, -46.8424,-43.6452,-43.2575,-42.7246, -41.5628,-39.6408,-38.1027,-36.0974, -34.4199,-31.5777,-29.3586,-25.4257, -23.0877,-20.3048,-15.9189,-12.261, -7.81834,-4.45242,-1.87986,0.875459, 5.63955,10.9048,14.6869,20.1853,25.6642 ,30.0801,32.8978,35.9894,40.6235, 43.7484,48.126,50.8965,51.1861,54.8707, 53.0104,55.6718,56.6372,59.1288,56.737, 59.7198,58.5549,59.8147,59.5767,58.8848 ,58.2528,56.1909,54.3277,49.956,46.7735 ,44.302,41.1651,37.652,34.9029,32.4799, 29.4752,25.2635,22.2026,17.5437,14.3856 ,11.8228,8.95128,5.19982,-0.641719, -4.15061,-9.82656,-13.6379,-16.683, -21.2722,-24.2059,-26.7589,-32.5464, -36.4764,-40.4737,-44.1534,-48.8515, -52.4674,-55.5161,-59.3138,-61.9726, -66.2991,-69.248,-72.34,-76.9218, -80.1828,-84.1601,-86.5155,-81.8199, -78.3804)
FOOTPRINT_POINT_LONGITUDE = (401.391,401.762,360.03,401.83,400.928, 400.938,400.502,400.979,399.847,402.66, 398.716,402.642,398.487,401.231,393.928 ,389.151,383.522,377.558,373.989, 370.225,367.589,363.876,361.486,357.916 ,356.164,354.333,351.935,350.299, 348.693,347.711,347.087,346.527,345.818 ,345.411,345.329,345.625,346.385, 347.423,348.307,349.521,351.92,354.046, 357.978,361.297,356.06,355.183,351.915, 350.919,344.929,342.087,339.676,336.851 ,328.848,318.868,308.391,301.455, 297.865,290.941,287.072,289.305,292.175 ,294.107,296.262,298.371,299.84,301.026 ,302.368,304.075,305.196,306.752, 307.721,308.46,309.247,310.216,311.61, 312.385,313.573,314.323,314.896,315.752 ,316.278,316.725,317.725,318.397, 319.078,319.718,320.577,321.281,321.915 ,322.803,323.486,324.792,325.895, 327.343,330.52,334.394,344.892,368.659, 396.044,401.391)
ORBIT_NUMBER = 21779
ORBITAL_ECCENTRICITY = 0.576
ORBITAL_INCLINATION = 87.0
ORBITAL_SEMIMAJOR_AXIS = 8841.53
PERIAPSIS_ALTITUDE = 350.74
PERIAPSIS_ARGUMENT_ANGLE = 189.44
PERIAPSIS_TIME = 2021-03-26T16:41:48.000Z
SPACECRAFT_ORIENTATION = (0.0,-1.0,0.0)
^MEX_ORIENTATION_DESC = "MEX_ORIENTATION_DESC.TXT"
SPACECRAFT_POINTING_MODE = FIXED
^MEX_POINTING_DESC = "MEX_POINTING_DESC.TXT"
RIGHT_ASCENSION = -1e+32
DECLINATION = -1e+32
OFFSET_ANGLE = -1e+32
SPACECRAFT_SOLAR_DISTANCE = 2.40898e+08
TARGET_NAME = MARS
/* CAMERA DATA ELEMENTS */
DETECTOR_TEMPERATURE = 18.5744
FOCAL_PLANE_TEMPERATURE = 9.195
INST_CMPRS_NAME = "DISCRETE COSINE TRANSFORMATION (DCT)"
INST_CMPRS_RATIO = 4.42636
INST_CMPRS_QUALITY = 0
INST_CMPRS_QUANTZ_TBL_ID = 0
INSTRUMENT_TEMPERATURE = 11.234
LENS_TEMPERATURE = 9.6028
MACROPIXEL_SIZE = 2
MISSING_FRAMES = 1
PIXEL_SUBSAMPLING_FLAG = N
SIGNAL_CHAIN_ID = 2
/* RADIOMETRIC DATA ELEMENTS */
BANDWIDTH = 76.0
CENTER_FILTER_WAVELENGTH = 444.0
RADIANCE_OFFSET = 0.0
RADIANCE_SCALING_FACTOR = 0.00653523
REFLECTANCE_SCALING_FACTOR = 0.000389699
MEX:REFLECTANCE_OFFSET = 0.0
/* IMAGE OBJECT DEFINITIONS */
OBJECT = IMAGE
  INTERCHANGE_FORMAT = BINARY
  LINES = 10985
  LINE_SAMPLES = 5870
  SAMPLE_TYPE = UNSIGNED_INTEGER
  SAMPLE_BITS = 8
  BANDS = 1
  BAND_STORAGE_TYPE = BAND_SEQUENTIAL
  MAXIMUM = 255
  MEAN = 123.121
  MINIMUM = 1
  STANDARD_DEVIATION = 71.0213
END_OBJECT = IMAGE
/* MAP OBJECT DEFINITIONS */
OBJECT = IMAGE_MAP_PROJECTION
  ^DATA_SET_MAP_PROJECTION_CATALOG= "DSMAP.CAT"
  A_AXIS_RADIUS = 3396.0
  B_AXIS_RADIUS = 3396.0
  C_AXIS_RADIUS = 3396.0
  CENTER_LATITUDE = 0.0
  CENTER_LONGITUDE = 331.0
  COORDINATE_SYSTEM_NAME = PLANETOGRAPHIC
  COORDINATE_SYSTEM_TYPE = "BODY-FIXED ROTATING"
  EASTERNMOST_LONGITUDE = 42.66
  FIRST_STANDARD_PARALLEL = "N/A"
  LINE_FIRST_PIXEL = 1
  LINE_LAST_PIXEL = 10985
  LINE_PROJECTION_OFFSET = 4525.0
  MAP_PROJECTION_ROTATION = 0.0
  MAP_PROJECTION_TYPE = SINUSOIDAL
  MAP_RESOLUTION = 74.08922548333329
  MAP_SCALE = 0.8
  MAXIMUM_LATITUDE = 59.8147
  MINIMUM_LATITUDE = -86.5155
  POSITIVE_LONGITUDE_DIRECTION = EAST
  REFERENCE_LATITUDE = "N/A"
  REFERENCE_LONGITUDE = "N/A"
  SAMPLE_FIRST_PIXEL = 1
  SAMPLE_LAST_PIXEL = 5870
  SAMPLE_PROJECTION_OFFSET = 2019.0
  SECOND_STANDARD_PARALLEL = "N/A"
  WESTERNMOST_LONGITUDE = -72.928
END_OBJECT = IMAGE_MAP_PROJECTION
END
