PDS_VERSION_ID = PDS3
/* FILE DATA ELEMENTS */
RECORD_TYPE = UNDEFINED
/* POINTERS TO DATA OBJECTS */
^IMAGE = ("HL804_0000_BL4.TIF")
/* IDENTIFICATION DATA ELEMENTS */
DATA_SET_ID = "MEX-M-HRSC-4-REFDR-MAPPROJECT-EXT8-V4.0"
DATA_SET_NAME = "MARS EXPRESS HRSC MAP PROJECTED REFDR EXTENSION8 V4.0"
DETECTOR_ID = MEX_HRSC_BLUE
EVENT_TYPE = "MARS-TERMINATOR-CALIBRATION-Tc"
INSTRUMENT_HOST_ID = MEX
INSTRUMENT_HOST_NAME = "MARS EXPRESS"
INSTRUMENT_ID = HRSC
INSTRUMENT_NAME = "HIGH RESOLUTION STEREO CAMERA"
MISSION_NAME = "MARS EXPRESS"
MISSION_PHASE_NAME = ME_Phase_44
PROCESSING_LEVEL_ID = 4
PRODUCT_CREATION_TIME = 2023-01-25T08:48:24.000Z
PRODUCT_ID = "HL804_0000_BL4.TIF"
RELEASE_ID = 0001
REVISION_ID = 0000
/* QUALITY DATA ELEMENTS */
DATA_QUALITY_ID = 1
DATA_QUALITY_DESC = "Data calculated based on original SPICE kernels"
/* TIME DATA ELEMENTS */
SPACECRAFT_CLOCK_START_COUNT = "1/0565494853.24931"
SPACECRAFT_CLOCK_STOP_COUNT = "1/0565495257.24726"
START_TIME = 2021-04-03T01:56:52.054Z
STOP_TIME = 2021-04-03T02:00:06.949Z
/* ORBITAL DATA ELEMENTS */
ASCENDING_NODE_LONGITUDE = 166.78
MAXIMUM_RESOLUTION = 0.7967
FOOTPRINT_POINT_LATITUDE = (-77.451,-77.4478,-75.9264,-71.9973, -67.1043,-63.7366,-59.0552,-55.6424, -52.0854,-50.1927,-47.1061,-44.9198, -43.5338,-43.3568,-41.3901,-40.1897, -39.5051,-38.2399,-36.7938,-34.0186, -30.4511,-28.0184,-24.9607,-20.5224, -16.0646,-12.629,-9.80626,-6.57325, -4.11769,-0.428207,4.43621,8.98137, 12.1565,16.0963,20.4233,26.8251,29.6995 ,33.6848,38.5784,41.543,45.1918,47.5277 ,50.8234,54.371,52.8423,55.757,55.4815, 56.0794,58.359,57.7797,60.8187,61.6786, 64.4537,62.2182,64.9013,63.3031,64.7234 ,65.0194,64.7965,64.2425,63.4979, 61.5002,59.6807,55.6423,53.4715,50.4368 ,46.3425,41.0421,35.8564,31.4088, 28.3564,24.9195,21.6857,18.9545,16.1135 ,13.6446,8.18826,2.2017,-2.18013, -5.57139,-8.51804,-11.0484,-15.5886, -19.4402,-25.248,-28.4419,-32.3474, -35.2004,-39.0383,-45.1471,-50.1311, -53.9735,-58.9584,-64.6036,-70.6751, -75.8817,-80.4278,-82.2721,-80.0285, -77.451)
FOOTPRINT_POINT_LONGITUDE = (344.199,344.355,344.988,350.513, 353.878,354.302,354.132,357.508,355.152 ,358.412,358.185,355.774,359.801, 356.246,358.509,352.65,348.616,343.762, 339.602,333.835,328.431,325.544,322.495 ,318.947,316.218,314.405,313.124, 311.961,311.132,310.159,309.196,308.631 ,308.418,308.367,308.578,309.482, 310.147,311.395,313.568,315.324,318.098 ,320.337,324.362,330.38,326.399,326.883 ,321.902,320.17,322.666,316.403,315.883 ,309.66,306.565,303.349,302.784,298.039 ,290.323,280.13,267.721,258.722,252.265 ,247.197,241.177,241.158,244.281, 247.955,251.977,256.08,259.266,261.559, 262.951,264.372,265.589,266.539,267.462 ,268.222,269.746,271.245,272.244, 272.969,273.565,274.056,274.891,275.56, 276.512,277.012,277.604,278.026,278.582 ,279.437,280.131,280.678,281.416, 282.345,283.539,285.029,287.178,304.837 ,329.832,344.199)
ORBIT_NUMBER = 21804
ORBITAL_ECCENTRICITY = 0.576
ORBITAL_INCLINATION = 86.98
ORBITAL_SEMIMAJOR_AXIS = 8848.41
PERIAPSIS_ALTITUDE = 352.63
PERIAPSIS_ARGUMENT_ANGLE = 185.15
PERIAPSIS_TIME = 2021-04-02T23:16:32.000Z
SPACECRAFT_ORIENTATION = (0.0,-1.0,0.0)
^MEX_ORIENTATION_DESC = "MEX_ORIENTATION_DESC.TXT"
SPACECRAFT_POINTING_MODE = FIXED
^MEX_POINTING_DESC = "MEX_POINTING_DESC.TXT"
RIGHT_ASCENSION = -1e+32
DECLINATION = -1e+32
OFFSET_ANGLE = -1e+32
SPACECRAFT_SOLAR_DISTANCE = 2.41931e+08
TARGET_NAME = MARS
/* CAMERA DATA ELEMENTS */
DETECTOR_TEMPERATURE = 18.5744
FOCAL_PLANE_TEMPERATURE = 9.195
INST_CMPRS_NAME = "DISCRETE COSINE TRANSFORMATION (DCT)"
INST_CMPRS_RATIO = 4.51139
INST_CMPRS_QUALITY = 0
INST_CMPRS_QUANTZ_TBL_ID = 0
INSTRUMENT_TEMPERATURE = 11.234
LENS_TEMPERATURE = 9.3989
MACROPIXEL_SIZE = 2
MISSING_FRAMES = 0
PIXEL_SUBSAMPLING_FLAG = N
SIGNAL_CHAIN_ID = 2
/* RADIOMETRIC DATA ELEMENTS */
BANDWIDTH = 76.0
CENTER_FILTER_WAVELENGTH = 444.0
RADIANCE_OFFSET = 0.0
RADIANCE_SCALING_FACTOR = 0.00603255
REFLECTANCE_SCALING_FACTOR = 0.000362825
MEX:REFLECTANCE_OFFSET = 0.0
/* IMAGE OBJECT DEFINITIONS */
OBJECT = IMAGE
  INTERCHANGE_FORMAT = BINARY
  LINES = 10957
  LINE_SAMPLES = 5905
  SAMPLE_TYPE = UNSIGNED_INTEGER
  SAMPLE_BITS = 8
  BANDS = 1
  BAND_STORAGE_TYPE = BAND_SEQUENTIAL
  MAXIMUM = 255
  MEAN = 129.422
  MINIMUM = 1
  STANDARD_DEVIATION = 80.5862
END_OBJECT = IMAGE
/* MAP OBJECT DEFINITIONS */
OBJECT = IMAGE_MAP_PROJECTION
  ^DATA_SET_MAP_PROJECTION_CATALOG= "DSMAP.CAT"
  A_AXIS_RADIUS = 3396.0
  B_AXIS_RADIUS = 3396.0
  C_AXIS_RADIUS = 3396.0
  CENTER_LATITUDE = 0.0
  CENTER_LONGITUDE = 291.0
  COORDINATE_SYSTEM_NAME = PLANETOGRAPHIC
  COORDINATE_SYSTEM_TYPE = "BODY-FIXED ROTATING"
  EASTERNMOST_LONGITUDE = 359.801
  FIRST_STANDARD_PARALLEL = "N/A"
  LINE_FIRST_PIXEL = 1
  LINE_LAST_PIXEL = 10957
  LINE_PROJECTION_OFFSET = 4822.0
  MAP_PROJECTION_ROTATION = 0.0
  MAP_PROJECTION_TYPE = SINUSOIDAL
  MAP_RESOLUTION = 74.08922548333329
  MAP_SCALE = 0.8
  MAXIMUM_LATITUDE = 65.0194
  MINIMUM_LATITUDE = -82.27209999999999
  POSITIVE_LONGITUDE_DIRECTION = EAST
  REFERENCE_LATITUDE = "N/A"
  REFERENCE_LONGITUDE = "N/A"
  SAMPLE_FIRST_PIXEL = 1
  SAMPLE_LAST_PIXEL = 5905
  SAMPLE_PROJECTION_OFFSET = 2112.0
  SECOND_STANDARD_PARALLEL = "N/A"
  WESTERNMOST_LONGITUDE = 241.158
END_OBJECT = IMAGE_MAP_PROJECTION
END
