PDS_VERSION_ID = PDS3
/* FILE DATA ELEMENTS */
RECORD_TYPE = UNDEFINED
/* POINTERS TO DATA OBJECTS */
^IMAGE = ("HL804_0000_GR4.TIF")
/* IDENTIFICATION DATA ELEMENTS */
DATA_SET_ID = "MEX-M-HRSC-4-REFDR-MAPPROJECT-EXT8-V4.0"
DATA_SET_NAME = "MARS EXPRESS HRSC MAP PROJECTED REFDR EXTENSION8 V4.0"
DETECTOR_ID = MEX_HRSC_GREEN
EVENT_TYPE = "MARS-TERMINATOR-CALIBRATION-Tc"
INSTRUMENT_HOST_ID = MEX
INSTRUMENT_HOST_NAME = "MARS EXPRESS"
INSTRUMENT_ID = HRSC
INSTRUMENT_NAME = "HIGH RESOLUTION STEREO CAMERA"
MISSION_NAME = "MARS EXPRESS"
MISSION_PHASE_NAME = ME_Phase_44
PROCESSING_LEVEL_ID = 4
PRODUCT_CREATION_TIME = 2023-01-25T08:48:24.000Z
PRODUCT_ID = "HL804_0000_GR4.TIF"
RELEASE_ID = 0001
REVISION_ID = 0000
/* QUALITY DATA ELEMENTS */
DATA_QUALITY_ID = 1
DATA_QUALITY_DESC = "Data calculated based on original SPICE kernels"
/* TIME DATA ELEMENTS */
SPACECRAFT_CLOCK_START_COUNT = "1/0565494853.24931"
SPACECRAFT_CLOCK_STOP_COUNT = "1/0565495257.24726"
START_TIME = 2021-04-03T01:56:09.013Z
STOP_TIME = 2021-04-03T01:59:23.019Z
/* ORBITAL DATA ELEMENTS */
ASCENDING_NODE_LONGITUDE = 166.78
MAXIMUM_RESOLUTION = 0.7956
FOOTPRINT_POINT_LATITUDE = (-77.01,-77.0251,-75.9012,-71.1438, -68.5113,-65.5022,-62.138,-58.1511, -55.7635,-52.8154,-50.4568,-47.8619, -45.8504,-43.6095,-40.9264,-40.2213, -39.3533,-37.6901,-36.3127,-34.4206, -32.9601,-30.7708,-28.8374,-26.7207, -23.9713,-20.1218,-17.5597,-13.8379, -9.54161,-4.00701,-0.893073,3.58629, 8.47684,13.0923,18.3519,22.3096,28.1406 ,31.1663,35.568,38.107,41.0113,44.5397, 46.7434,49.6379,53.4503,55.745,59.1406, 57.8208,60.4057,59.1287,60.4632,63.5847 ,61.2397,64.3227,65.9648,65.4601, 65.8363,64.6672,64.1593,63.8884,61.7731 ,58.3202,54.818,52.2565,48.7991,44.0414 ,40.8454,37.0296,32.375,28.3724,24.701, 21.4667,18.4625,15.6376,11.4093,6.83904 ,3.94772,-1.05608,-6.52234,-9.94526, -14.8104,-18.0051,-22.2686,-26.849, -29.7797,-34.4992,-38.8075,-43.7969, -48.1875,-53.6363,-58.3318,-62.0801, -65.272,-71.4946,-76.0557,-80.5565, -83.3491,-81.1003,-79.6401,-77.01)
FOOTPRINT_POINT_LONGITUDE = (345.835,346.182,346.691,350.009, 351.769,356.014,356.489,357.524,358.977 ,355.893,358.581,355.823,359.143, 355.983,357.522,350.99,346.781,341.262, 337.87,334.089,331.632,328.505,326.157, 323.908,321.395,318.472,316.833,314.832 ,312.879,310.979,310.155,309.237, 308.584,308.279,308.331,308.649,309.626 ,310.419,311.981,313.15,314.785,317.312 ,319.274,322.457,328.134,320.865, 320.102,316.095,317.609,312.784,308.476 ,309.446,305.917,303.919,293.94,287.334 ,277.799,266.961,260.312,256.278, 247.354,240.088,242.026,245.514,249.402 ,253.677,256.03,258.444,260.958,262.829 ,264.357,265.576,266.62,267.534,268.796 ,270.036,270.766,271.939,273.097, 273.792,274.698,275.259,275.972,276.699 ,277.147,277.843,278.458,279.136, 279.726,280.46,281.107,281.658,282.154, 283.278,284.425,286.201,289.902,330.426 ,334.036,345.835)
ORBIT_NUMBER = 21804
ORBITAL_ECCENTRICITY = 0.576
ORBITAL_INCLINATION = 86.98
ORBITAL_SEMIMAJOR_AXIS = 8848.41
PERIAPSIS_ALTITUDE = 352.63
PERIAPSIS_ARGUMENT_ANGLE = 185.15
PERIAPSIS_TIME = 2021-04-02T23:16:32.000Z
SPACECRAFT_ORIENTATION = (0.0,-1.0,0.0)
^MEX_ORIENTATION_DESC = "MEX_ORIENTATION_DESC.TXT"
SPACECRAFT_POINTING_MODE = FIXED
^MEX_POINTING_DESC = "MEX_POINTING_DESC.TXT"
RIGHT_ASCENSION = -1e+32
DECLINATION = -1e+32
OFFSET_ANGLE = -1e+32
SPACECRAFT_SOLAR_DISTANCE = 2.41931e+08
TARGET_NAME = MARS
/* CAMERA DATA ELEMENTS */
DETECTOR_TEMPERATURE = 18.5744
FOCAL_PLANE_TEMPERATURE = 9.195
INST_CMPRS_NAME = "DISCRETE COSINE TRANSFORMATION (DCT)"
INST_CMPRS_RATIO = 7.45697
INST_CMPRS_QUALITY = 0
INST_CMPRS_QUANTZ_TBL_ID = 0
INSTRUMENT_TEMPERATURE = 11.234
LENS_TEMPERATURE = 9.3989
MACROPIXEL_SIZE = 2
MISSING_FRAMES = 0
PIXEL_SUBSAMPLING_FLAG = N
SIGNAL_CHAIN_ID = 2
/* RADIOMETRIC DATA ELEMENTS */
BANDWIDTH = 88.0
CENTER_FILTER_WAVELENGTH = 538.0
RADIANCE_OFFSET = 0.0
RADIANCE_SCALING_FACTOR = 0.00764861
REFLECTANCE_SCALING_FACTOR = 0.000385488
MEX:REFLECTANCE_OFFSET = 0.0
/* IMAGE OBJECT DEFINITIONS */
OBJECT = IMAGE
  INTERCHANGE_FORMAT = BINARY
  LINES = 10957
  LINE_SAMPLES = 5905
  SAMPLE_TYPE = UNSIGNED_INTEGER
  SAMPLE_BITS = 8
  BANDS = 1
  BAND_STORAGE_TYPE = BAND_SEQUENTIAL
  MAXIMUM = 255
  MEAN = 164.382
  MINIMUM = 1
  STANDARD_DEVIATION = 87.9645
END_OBJECT = IMAGE
/* MAP OBJECT DEFINITIONS */
OBJECT = IMAGE_MAP_PROJECTION
  ^DATA_SET_MAP_PROJECTION_CATALOG= "DSMAP.CAT"
  A_AXIS_RADIUS = 3396.0
  B_AXIS_RADIUS = 3396.0
  C_AXIS_RADIUS = 3396.0
  CENTER_LATITUDE = 0.0
  CENTER_LONGITUDE = 291.0
  COORDINATE_SYSTEM_NAME = PLANETOGRAPHIC
  COORDINATE_SYSTEM_TYPE = "BODY-FIXED ROTATING"
  EASTERNMOST_LONGITUDE = 359.143
  FIRST_STANDARD_PARALLEL = "N/A"
  LINE_FIRST_PIXEL = 1
  LINE_LAST_PIXEL = 10957
  LINE_PROJECTION_OFFSET = 4822.0
  MAP_PROJECTION_ROTATION = 0.0
  MAP_PROJECTION_TYPE = SINUSOIDAL
  MAP_RESOLUTION = 74.08922548333329
  MAP_SCALE = 0.8
  MAXIMUM_LATITUDE = 65.9648
  MINIMUM_LATITUDE = -83.34910000000001
  POSITIVE_LONGITUDE_DIRECTION = EAST
  REFERENCE_LATITUDE = "N/A"
  REFERENCE_LONGITUDE = "N/A"
  SAMPLE_FIRST_PIXEL = 1
  SAMPLE_LAST_PIXEL = 5905
  SAMPLE_PROJECTION_OFFSET = 2112.0
  SECOND_STANDARD_PARALLEL = "N/A"
  WESTERNMOST_LONGITUDE = 240.088
END_OBJECT = IMAGE_MAP_PROJECTION
END
