PDS_VERSION_ID = PDS3
/* FILE DATA ELEMENTS */
RECORD_TYPE = UNDEFINED
/* POINTERS TO DATA OBJECTS */
^IMAGE = ("HL822_0000_BL4.TIF")
/* IDENTIFICATION DATA ELEMENTS */
DATA_SET_ID = "MEX-M-HRSC-4-REFDR-MAPPROJECT-EXT8-V4.0"
DATA_SET_NAME = "MARS EXPRESS HRSC MAP PROJECTED REFDR EXTENSION8 V4.0"
DETECTOR_ID = MEX_HRSC_BLUE
EVENT_TYPE = "MARS-TERMINATOR-CALIBRATION-Tc"
INSTRUMENT_HOST_ID = MEX
INSTRUMENT_HOST_NAME = "MARS EXPRESS"
INSTRUMENT_ID = HRSC
INSTRUMENT_NAME = "HIGH RESOLUTION STEREO CAMERA"
MISSION_NAME = "MARS EXPRESS"
MISSION_PHASE_NAME = ME_Phase_44
PROCESSING_LEVEL_ID = 4
PRODUCT_CREATION_TIME = 2023-01-25T08:48:24.000Z
PRODUCT_ID = "HL822_0000_BL4.TIF"
RELEASE_ID = 0001
REVISION_ID = 0000
/* QUALITY DATA ELEMENTS */
DATA_QUALITY_ID = 1
DATA_QUALITY_DESC = "Data calculated based on original SPICE kernels"
/* TIME DATA ELEMENTS */
SPACECRAFT_CLOCK_START_COUNT = "1/0565931751.25670"
SPACECRAFT_CLOCK_STOP_COUNT = "1/0565932194.23714"
START_TIME = 2021-04-08T03:18:26.979Z
STOP_TIME = 2021-04-08T03:22:24.988Z
/* ORBITAL DATA ELEMENTS */
ASCENDING_NODE_LONGITUDE = 166.46
MAXIMUM_RESOLUTION = 0.6013
FOOTPRINT_POINT_LATITUDE = (-33.7164,-33.7469,-33.6486,-32.5179, -32.2152,-29.9066,-28.0658,-29.3775, -26.4605,-27.3316,-24.8901,-23.7946, -19.52,-15.1388,-11.7934,-8.3171, -4.4326,-2.07032,1.81017,5.15365, 7.60065,11.232,13.8462,18.3928,21.5241, 26.0016,28.8202,31.8751,34.5497,38.4879 ,42.2911,44.7458,49.0186,51.797,54.8516 ,58.8534,61.3472,64.1857,65.2166, 65.9436,66.2154,66.0058,65.4912,64.4773 ,62.4193,60.584,61.1048,59.9746,62.8516 ,62.3732,65.5893,65.7591,65.336,66.2367 ,67.3809,68.3339,69.0722,68.3896, 67.9626,67.7008,70.608,74.805,78.8051, 80.8243,80.5962,78.2445,75.6679,73.6685 ,71.581,68.6269,63.9233,59.958,56.8779, 53.4504,50.8132,46.5587,43.4794,37.7647 ,33.3548,29.998,25.0364,21.2,18.3966, 14.8592,10.9299,7.7807,2.78255,-2.95312 ,-5.67859,-8.87474,-12.9191,-15.9974, -19.005,-22.9452,-27.4571,-30.2653, -33.4689,-32.9359,-33.7164)
FOOTPRINT_POINT_LONGITUDE = (312.953,312.971,313.728,318.986, 324.361,326.767,332.006,335.245,336.968 ,340.427,340.854,343.387,343.447, 341.515,340.262,339.143,338.082,337.537 ,336.776,336.24,335.93,335.584,335.427, 335.335,335.415,335.749,336.109,336.649 ,337.266,338.465,340.02,341.286,344.129 ,346.551,349.958,356.222,1.89874, 12.0086,18.1107,25.3045,34.1111,40.6213 ,46.5816,53.413,61.9047,67.0727,73.5297 ,77.8912,77.3798,84.6129,86.2843, 86.9453,93.4666,101.002,110.107,116.698 ,131.784,134.622,145.996,158.026, 161.869,170.577,187.959,214.79,239.341, 263.357,274.53,280.017,284.217,288.559, 293.238,295.95,297.571,299.027,299.954, 301.192,301.922,303.005,303.655,304.055 ,304.546,304.841,305.023,305.211, 305.369,305.461,305.552,305.573,305.554 ,305.505,305.406,305.299,305.169, 304.955,304.648,304.415,306.336,309.485 ,312.953)
ORBIT_NUMBER = 21822
ORBITAL_ECCENTRICITY = 0.576
ORBITAL_INCLINATION = 86.99
ORBITAL_SEMIMAJOR_AXIS = 8853.29
PERIAPSIS_ALTITUDE = 353.59
PERIAPSIS_ARGUMENT_ANGLE = 182.02
PERIAPSIS_TIME = 2021-04-08T04:58:35.000Z
SPACECRAFT_ORIENTATION = (0.0,-1.0,0.0)
^MEX_ORIENTATION_DESC = "MEX_ORIENTATION_DESC.TXT"
SPACECRAFT_POINTING_MODE = FIXED
^MEX_POINTING_DESC = "MEX_POINTING_DESC.TXT"
RIGHT_ASCENSION = -1e+32
DECLINATION = -1e+32
OFFSET_ANGLE = -1e+32
SPACECRAFT_SOLAR_DISTANCE = 2.42639e+08
TARGET_NAME = MARS
/* CAMERA DATA ELEMENTS */
DETECTOR_TEMPERATURE = 18.7783
FOCAL_PLANE_TEMPERATURE = 8.9911
INST_CMPRS_NAME = "DISCRETE COSINE TRANSFORMATION (DCT)"
INST_CMPRS_RATIO = 4.59628
INST_CMPRS_QUALITY = 0
INST_CMPRS_QUANTZ_TBL_ID = 0
INSTRUMENT_TEMPERATURE = 11.6418
LENS_TEMPERATURE = 9.3989
MACROPIXEL_SIZE = 2
MISSING_FRAMES = 0
PIXEL_SUBSAMPLING_FLAG = N
SIGNAL_CHAIN_ID = 2
/* RADIOMETRIC DATA ELEMENTS */
BANDWIDTH = 76.0
CENTER_FILTER_WAVELENGTH = 444.0
RADIANCE_OFFSET = 0.0
RADIANCE_SCALING_FACTOR = 0.00757161
REFLECTANCE_SCALING_FACTOR = 0.000457966
MEX:REFLECTANCE_OFFSET = 0.0
/* IMAGE OBJECT DEFINITIONS */
OBJECT = IMAGE
  INTERCHANGE_FORMAT = BINARY
  LINES = 9052
  LINE_SAMPLES = 9852
  SAMPLE_TYPE = UNSIGNED_INTEGER
  SAMPLE_BITS = 8
  BANDS = 1
  BAND_STORAGE_TYPE = BAND_SEQUENTIAL
  MAXIMUM = 255
  MEAN = 121.146
  MINIMUM = 26
  STANDARD_DEVIATION = 55.8772
END_OBJECT = IMAGE
/* MAP OBJECT DEFINITIONS */
OBJECT = IMAGE_MAP_PROJECTION
  ^DATA_SET_MAP_PROJECTION_CATALOG= "DSMAP.CAT"
  A_AXIS_RADIUS = 3396.0
  B_AXIS_RADIUS = 3396.0
  C_AXIS_RADIUS = 3396.0
  CENTER_LATITUDE = 0.0
  CENTER_LONGITUDE = 320.0
  COORDINATE_SYSTEM_NAME = PLANETOGRAPHIC
  COORDINATE_SYSTEM_TYPE = "BODY-FIXED ROTATING"
  EASTERNMOST_LONGITUDE = 360.0
  FIRST_STANDARD_PARALLEL = "N/A"
  LINE_FIRST_PIXEL = 1
  LINE_LAST_PIXEL = 9052
  LINE_PROJECTION_OFFSET = 6533.0
  MAP_PROJECTION_ROTATION = 0.0
  MAP_PROJECTION_TYPE = SINUSOIDAL
  MAP_RESOLUTION = 74.08922548333329
  MAP_SCALE = 0.8
  MAXIMUM_LATITUDE = 90.0
  MINIMUM_LATITUDE = -33.7469
  POSITIVE_LONGITUDE_DIRECTION = EAST
  REFERENCE_LATITUDE = "N/A"
  REFERENCE_LONGITUDE = "N/A"
  SAMPLE_FIRST_PIXEL = 1
  SAMPLE_LAST_PIXEL = 9852
  SAMPLE_PROJECTION_OFFSET = 4937.0
  SECOND_STANDARD_PARALLEL = "N/A"
  WESTERNMOST_LONGITUDE = 0.0
END_OBJECT = IMAGE_MAP_PROJECTION
END
