PDS_VERSION_ID = PDS3
/* FILE DATA ELEMENTS */
RECORD_TYPE = UNDEFINED
/* POINTERS TO DATA OBJECTS */
^IMAGE = ("HL822_0000_GR4.TIF")
/* IDENTIFICATION DATA ELEMENTS */
DATA_SET_ID = "MEX-M-HRSC-4-REFDR-MAPPROJECT-EXT8-V4.0"
DATA_SET_NAME = "MARS EXPRESS HRSC MAP PROJECTED REFDR EXTENSION8 V4.0"
DETECTOR_ID = MEX_HRSC_GREEN
EVENT_TYPE = "MARS-TERMINATOR-CALIBRATION-Tc"
INSTRUMENT_HOST_ID = MEX
INSTRUMENT_HOST_NAME = "MARS EXPRESS"
INSTRUMENT_ID = HRSC
INSTRUMENT_NAME = "HIGH RESOLUTION STEREO CAMERA"
MISSION_NAME = "MARS EXPRESS"
MISSION_PHASE_NAME = ME_Phase_44
PROCESSING_LEVEL_ID = 4
PRODUCT_CREATION_TIME = 2023-01-25T08:48:24.000Z
PRODUCT_ID = "HL822_0000_GR4.TIF"
RELEASE_ID = 0001
REVISION_ID = 0000
/* QUALITY DATA ELEMENTS */
DATA_QUALITY_ID = 1
DATA_QUALITY_DESC = "Data calculated based on original SPICE kernels"
/* TIME DATA ELEMENTS */
SPACECRAFT_CLOCK_START_COUNT = "1/0565931751.25670"
SPACECRAFT_CLOCK_STOP_COUNT = "1/0565932194.23714"
START_TIME = 2021-04-08T03:17:45.001Z
STOP_TIME = 2021-04-08T03:21:42.034Z
/* ORBITAL DATA ELEMENTS */
ASCENDING_NODE_LONGITUDE = 166.46
MAXIMUM_RESOLUTION = 0.6046
FOOTPRINT_POINT_LATITUDE = (-34.0117,-34.0608,-33.8431,-33.1431, -32.4962,-31.2224,-31.4891,-30.3042, -27.8035,-28.703,-25.1485,-26.53, -24.1606,-24.6661,-21.8277,-18.1118, -13.7517,-11.1205,-6.24155,-2.74314, 1.21879,4.51384,6.91699,9.93209,13.2331 ,17.8329,21.6549,24.8248,28.4332, 34.0615,38.7222,41.6334,46.401,49.535, 53.2612,57.004,59.1451,62.4177,64.0406, 65.5927,66.1405,65.9733,65.4667,64.4482 ,62.326,60.7149,58.526,61.3444,63.2565, 63.0438,66.2051,67.8443,69.1123,69.5891 ,69.1609,68.6988,68.4677,67.6608, 68.2533,70.9001,75.2014,78.3871,80.1184 ,80.6952,79.8029,77.8136,73.9486, 70.4416,68.148,65.4962,62.0692,58.6709, 54.8123,52.5286,48.9051,43.8095,40.0065 ,37.6779,35.0812,31.757,27.8107,25.0051 ,21.6117,18.9745,13.222,8.22746,4.94004 ,-0.105156,-5.1628,-8.46635,-13.3176, -16.2444,-19.034,-22.8558,-25.4754, -29.3412,-32.9394,-33.9693,-34.0117)
FOOTPRINT_POINT_LONGITUDE = (313.526,313.546,313.976,318.396, 322.234,324.953,328.849,333.74,334.318, 338.524,341.118,343.328,343.1,346.199, 344.779,342.946,341.131,340.193,338.72, 337.844,337.032,336.49,336.173,335.869, 335.629,335.503,335.592,335.812,336.231 ,337.33,338.743,339.919,342.495,344.763 ,348.309,353.264,357.082,5.4059,11.7341 ,21.908,31.175,40.4132,46.4547,53.405, 62.1507,66.7285,73.2468,73.0972,78.1746 ,83.7282,87.8417,98.5883,109.585, 124.921,133.619,138.619,143.98,153.124, 159.426,163.184,172.866,186.954,203.549 ,230.036,248.838,264.557,278.702,285.62 ,288.769,291.595,294.378,296.487, 298.345,299.25,300.456,301.788,302.574, 302.986,303.393,303.843,304.283,304.553 ,304.825,305.004,305.307,305.481, 305.555,305.609,305.597,305.552,305.432 ,305.327,305.203,304.993,304.82,304.52, 304.181,309.699,313.526)
ORBIT_NUMBER = 21822
ORBITAL_ECCENTRICITY = 0.576
ORBITAL_INCLINATION = 86.99
ORBITAL_SEMIMAJOR_AXIS = 8853.29
PERIAPSIS_ALTITUDE = 353.59
PERIAPSIS_ARGUMENT_ANGLE = 182.02
PERIAPSIS_TIME = 2021-04-08T04:58:35.000Z
SPACECRAFT_ORIENTATION = (0.0,-1.0,0.0)
^MEX_ORIENTATION_DESC = "MEX_ORIENTATION_DESC.TXT"
SPACECRAFT_POINTING_MODE = FIXED
^MEX_POINTING_DESC = "MEX_POINTING_DESC.TXT"
RIGHT_ASCENSION = -1e+32
DECLINATION = -1e+32
OFFSET_ANGLE = -1e+32
SPACECRAFT_SOLAR_DISTANCE = 2.42639e+08
TARGET_NAME = MARS
/* CAMERA DATA ELEMENTS */
DETECTOR_TEMPERATURE = 18.7783
FOCAL_PLANE_TEMPERATURE = 8.9911
INST_CMPRS_NAME = "DISCRETE COSINE TRANSFORMATION (DCT)"
INST_CMPRS_RATIO = 7.40778
INST_CMPRS_QUALITY = 0
INST_CMPRS_QUANTZ_TBL_ID = 0
INSTRUMENT_TEMPERATURE = 11.6418
LENS_TEMPERATURE = 9.3989
MACROPIXEL_SIZE = 2
MISSING_FRAMES = 0
PIXEL_SUBSAMPLING_FLAG = N
SIGNAL_CHAIN_ID = 2
/* RADIOMETRIC DATA ELEMENTS */
BANDWIDTH = 88.0
CENTER_FILTER_WAVELENGTH = 538.0
RADIANCE_OFFSET = 0.0
RADIANCE_SCALING_FACTOR = 0.00868535
REFLECTANCE_SCALING_FACTOR = 0.000440216
MEX:REFLECTANCE_OFFSET = 0.0
/* IMAGE OBJECT DEFINITIONS */
OBJECT = IMAGE
  INTERCHANGE_FORMAT = BINARY
  LINES = 9052
  LINE_SAMPLES = 9852
  SAMPLE_TYPE = UNSIGNED_INTEGER
  SAMPLE_BITS = 8
  BANDS = 1
  BAND_STORAGE_TYPE = BAND_SEQUENTIAL
  MAXIMUM = 255
  MEAN = 184.234
  MINIMUM = 35
  STANDARD_DEVIATION = 60.8871
END_OBJECT = IMAGE
/* MAP OBJECT DEFINITIONS */
OBJECT = IMAGE_MAP_PROJECTION
  ^DATA_SET_MAP_PROJECTION_CATALOG= "DSMAP.CAT"
  A_AXIS_RADIUS = 3396.0
  B_AXIS_RADIUS = 3396.0
  C_AXIS_RADIUS = 3396.0
  CENTER_LATITUDE = 0.0
  CENTER_LONGITUDE = 320.0
  COORDINATE_SYSTEM_NAME = PLANETOGRAPHIC
  COORDINATE_SYSTEM_TYPE = "BODY-FIXED ROTATING"
  EASTERNMOST_LONGITUDE = 360.0
  FIRST_STANDARD_PARALLEL = "N/A"
  LINE_FIRST_PIXEL = 1
  LINE_LAST_PIXEL = 9052
  LINE_PROJECTION_OFFSET = 6533.0
  MAP_PROJECTION_ROTATION = 0.0
  MAP_PROJECTION_TYPE = SINUSOIDAL
  MAP_RESOLUTION = 74.08922548333329
  MAP_SCALE = 0.8
  MAXIMUM_LATITUDE = 90.0
  MINIMUM_LATITUDE = -34.0608
  POSITIVE_LONGITUDE_DIRECTION = EAST
  REFERENCE_LATITUDE = "N/A"
  REFERENCE_LONGITUDE = "N/A"
  SAMPLE_FIRST_PIXEL = 1
  SAMPLE_LAST_PIXEL = 9852
  SAMPLE_PROJECTION_OFFSET = 4937.0
  SECOND_STANDARD_PARALLEL = "N/A"
  WESTERNMOST_LONGITUDE = 0.0
END_OBJECT = IMAGE_MAP_PROJECTION
END
