PDS_VERSION_ID = PDS3
/* FILE DATA ELEMENTS */
RECORD_TYPE = UNDEFINED
/* POINTERS TO DATA OBJECTS */
^IMAGE = ("HL846_0000_GR4.TIF")
/* IDENTIFICATION DATA ELEMENTS */
DATA_SET_ID = "MEX-M-HRSC-4-REFDR-MAPPROJECT-EXT8-V4.0"
DATA_SET_NAME = "MARS EXPRESS HRSC MAP PROJECTED REFDR EXTENSION8 V4.0"
DETECTOR_ID = MEX_HRSC_GREEN
EVENT_TYPE = "MARS-TERMINATOR-CALIBRATION-Tc"
INSTRUMENT_HOST_ID = MEX
INSTRUMENT_HOST_NAME = "MARS EXPRESS"
INSTRUMENT_ID = HRSC
INSTRUMENT_NAME = "HIGH RESOLUTION STEREO CAMERA"
MISSION_NAME = "MARS EXPRESS"
MISSION_PHASE_NAME = ME_Phase_44
PROCESSING_LEVEL_ID = 4
PRODUCT_CREATION_TIME = 2023-01-25T08:48:24.000Z
PRODUCT_ID = "HL846_0000_GR4.TIF"
RELEASE_ID = 0001
REVISION_ID = 0000
/* QUALITY DATA ELEMENTS */
DATA_QUALITY_ID = 1
DATA_QUALITY_DESC = "Data calculated based on original SPICE kernels"
/* TIME DATA ELEMENTS */
SPACECRAFT_CLOCK_START_COUNT = "1/0566535885.24900"
SPACECRAFT_CLOCK_STOP_COUNT = "1/0566536345.23363"
START_TIME = 2021-04-15T03:06:37.069Z
STOP_TIME = 2021-04-15T03:10:53.000Z
/* ORBITAL DATA ELEMENTS */
ASCENDING_NODE_LONGITUDE = 166.02
MAXIMUM_RESOLUTION = 0.5389
FOOTPRINT_POINT_LATITUDE = (-30.0416,-30.0997,-29.7967,-28.642, -27.5448,-28.3148,-25.9336,-26.4497, -22.7668,-23.3843,-20.7681,-21.1741, -17.7346,-13.0011,-8.73803,-6.0118, -1.86958,1.75725,4.78934,7.79205, 10.1509,15.7662,20.2354,24.9851,28.4417 ,33.3656,36.4735,39.1252,41.8721, 45.4323,47.6874,50.2556,53.2382,57.6405 ,61.5527,63.8279,65.6464,67.192,69.0064 ,69.7985,69.8928,68.9991,67.8551, 65.7183,63.7223,61.5323,62.517,66.0548, 65.4171,67.0639,68.2411,68.5203,67.6577 ,67.6697,66.8016,66.6013,65.3153,67.997 ,71.839,75.6992,77.9944,79.4458,80.5579 ,80.1286,79.1875,75.9969,72.9014, 68.7204,66.46,63.3157,59.9766,57.0562, 54.3644,49.9436,45.8936,41.6315,38.902, 35.4568,32.9171,28.5853,25.2421,22.4531 ,19.7829,16.6891,13.7437,9.9668,5.55372 ,1.71804,-0.611594,-3.80942,-7.64846, -11.0046,-13.4388,-16.4426,-19.4897, -23.0288,-27.0779,-29.8364,-30.0416)
FOOTPRINT_POINT_LONGITUDE = (21.9656,21.9857,24.2582,26.8991, 31.4692,34.1981,35.3594,39.2859,43.9495 ,47.6727,48.0483,51.0574,49.8293, 47.7412,46.1668,45.292,44.1323,43.2645, 42.6455,42.1321,41.7961,41.1879,40.9379 ,40.9029,41.0556,41.5443,42.0675,42.661 ,43.4853,44.7902,45.8442,47.3006, 49.4119,53.6922,59.3398,63.984,68.9251, 74.5898,85.1497,94.9938,104.863,117.569 ,124.964,133.579,139.044,143.506, 153.776,159.811,167.263,174.611,182.351 ,191.517,199.429,206.452,210.445, 217.177,224.033,226.952,232.879,242.88, 253.415,264.997,289.461,308.72,320.862, 339.272,348.141,355.305,357.99,0.89894, 3.27169,4.92588,6.19432,7.8827,9.10866, 10.1582,10.7271,11.351,11.7538,12.3451, 12.7339,13.019,13.2633,13.5128,13.7221, 13.95,14.1713,14.3247,14.4011,14.4871, 14.5636,14.6061,14.625,14.629,14.6147, 14.5735,14.4877,17.6931,21.9656)
ORBIT_NUMBER = 21846
ORBITAL_ECCENTRICITY = 0.576
ORBITAL_INCLINATION = 87.0
ORBITAL_SEMIMAJOR_AXIS = 8843.53
PERIAPSIS_ALTITUDE = 356.24
PERIAPSIS_ARGUMENT_ANGLE = 177.89
PERIAPSIS_TIME = 2021-04-15T04:33:53.000Z
SPACECRAFT_ORIENTATION = (0.0,-1.0,0.0)
^MEX_ORIENTATION_DESC = "MEX_ORIENTATION_DESC.TXT"
SPACECRAFT_POINTING_MODE = FIXED
^MEX_POINTING_DESC = "MEX_POINTING_DESC.TXT"
RIGHT_ASCENSION = -1e+32
DECLINATION = -1e+32
OFFSET_ANGLE = -1e+32
SPACECRAFT_SOLAR_DISTANCE = 2.43534e+08
TARGET_NAME = MARS
/* CAMERA DATA ELEMENTS */
DETECTOR_TEMPERATURE = 18.5744
FOCAL_PLANE_TEMPERATURE = 8.7872
INST_CMPRS_NAME = "DISCRETE COSINE TRANSFORMATION (DCT)"
INST_CMPRS_RATIO = 7.48032
INST_CMPRS_QUALITY = 0
INST_CMPRS_QUANTZ_TBL_ID = 0
INSTRUMENT_TEMPERATURE = 11.0301
LENS_TEMPERATURE = 8.9911
MACROPIXEL_SIZE = 2
MISSING_FRAMES = 1
PIXEL_SUBSAMPLING_FLAG = N
SIGNAL_CHAIN_ID = 2
/* RADIOMETRIC DATA ELEMENTS */
BANDWIDTH = 88.0
CENTER_FILTER_WAVELENGTH = 538.0
RADIANCE_OFFSET = 0.0
RADIANCE_SCALING_FACTOR = 0.00789281
REFLECTANCE_SCALING_FACTOR = 0.000403007
MEX:REFLECTANCE_OFFSET = 0.0
/* IMAGE OBJECT DEFINITIONS */
OBJECT = IMAGE
  INTERCHANGE_FORMAT = BINARY
  LINES = 17519
  LINE_SAMPLES = 20897
  SAMPLE_TYPE = UNSIGNED_INTEGER
  SAMPLE_BITS = 8
  BANDS = 1
  BAND_STORAGE_TYPE = BAND_SEQUENTIAL
  MAXIMUM = 255
  MEAN = 189.137
  MINIMUM = 39
  STANDARD_DEVIATION = 59.0838
END_OBJECT = IMAGE
/* MAP OBJECT DEFINITIONS */
OBJECT = IMAGE_MAP_PROJECTION
  ^DATA_SET_MAP_PROJECTION_CATALOG= "DSMAP.CAT"
  A_AXIS_RADIUS = 3396.0
  B_AXIS_RADIUS = 3396.0
  C_AXIS_RADIUS = 3396.0
  CENTER_LATITUDE = 0.0
  CENTER_LONGITUDE = 26.0
  COORDINATE_SYSTEM_NAME = PLANETOGRAPHIC
  COORDINATE_SYSTEM_TYPE = "BODY-FIXED ROTATING"
  EASTERNMOST_LONGITUDE = 360.0
  FIRST_STANDARD_PARALLEL = "N/A"
  LINE_FIRST_PIXEL = 1
  LINE_LAST_PIXEL = 17519
  LINE_PROJECTION_OFFSET = 13063.0
  MAP_PROJECTION_ROTATION = 0.0
  MAP_PROJECTION_TYPE = SINUSOIDAL
  MAP_RESOLUTION = 148.178450966667
  MAP_SCALE = 0.4
  MAXIMUM_LATITUDE = 90.0
  MINIMUM_LATITUDE = -30.0997
  POSITIVE_LONGITUDE_DIRECTION = EAST
  REFERENCE_LATITUDE = "N/A"
  REFERENCE_LONGITUDE = "N/A"
  SAMPLE_FIRST_PIXEL = 1
  SAMPLE_LAST_PIXEL = 20897
  SAMPLE_PROJECTION_OFFSET = 10485.0
  SECOND_STANDARD_PARALLEL = "N/A"
  WESTERNMOST_LONGITUDE = 0.0
END_OBJECT = IMAGE_MAP_PROJECTION
END
