PDS_VERSION_ID = PDS3
/* FILE DATA ELEMENTS */
RECORD_TYPE = UNDEFINED
/* POINTERS TO DATA OBJECTS */
^IMAGE = ("HL868_0000_P24.TIF")
/* IDENTIFICATION DATA ELEMENTS */
DATA_SET_ID = "MEX-M-HRSC-4-REFDR-MAPPROJECT-EXT8-V4.0"
DATA_SET_NAME = "MARS EXPRESS HRSC MAP PROJECTED REFDR EXTENSION8 V4.0"
DETECTOR_ID = MEX_HRSC_P2
EVENT_TYPE = "MARS-REGIONAL-MAPPING-Te-Im-Mw"
INSTRUMENT_HOST_ID = MEX
INSTRUMENT_HOST_NAME = "MARS EXPRESS"
INSTRUMENT_ID = HRSC
INSTRUMENT_NAME = "HIGH RESOLUTION STEREO CAMERA"
MISSION_NAME = "MARS EXPRESS"
MISSION_PHASE_NAME = ME_Phase_44
PROCESSING_LEVEL_ID = 4
PRODUCT_CREATION_TIME = 2023-01-25T08:48:24.000Z
PRODUCT_ID = "HL868_0000_P24.TIF"
RELEASE_ID = 0001
REVISION_ID = 0000
/* QUALITY DATA ELEMENTS */
DATA_QUALITY_ID = 1
DATA_QUALITY_DESC = "Data calculated based on original SPICE kernels"
/* TIME DATA ELEMENTS */
SPACECRAFT_CLOCK_START_COUNT = "1/0567093470.23976"
SPACECRAFT_CLOCK_STOP_COUNT = "1/0567093867.19119"
START_TIME = 2021-04-21T14:00:51.293Z
STOP_TIME = 2021-04-21T14:04:42.873Z
/* ORBITAL DATA ELEMENTS */
ASCENDING_NODE_LONGITUDE = 165.63
MAXIMUM_RESOLUTION = 0.0416
FOOTPRINT_POINT_LATITUDE = (47.1612,47.1621,47.1611,47.1581,47.153 ,47.1459,47.1323,47.1316,47.1901, 46.8861,46.5813,46.2759,45.9699,45.6632 ,45.3559,44.8983,44.595,44.295,43.9952, 43.6991,43.4027,43.1103,42.8175,42.529, 42.0969,41.8119,41.527,41.2459,40.8252, 40.548,40.1336,39.86,39.5859,39.3164, 39.0465,38.6457,38.1156,37.3286,36.8031 ,36.2761,35.7478,35.2182,34.6876, 34.4218,34.0223,33.7558,33.3553,33.2216 ,33.2032,33.1957,33.1842,33.1686, 33.1598,33.1506,33.15,33.1505,33.5525, 33.8204,34.0878,34.3549,34.6218,34.8883 ,35.1548,35.4209,35.952,36.4822,37.011, 37.5386,38.0649,38.5981,38.8651,39.1366 ,39.4075,39.6804,39.956,40.2312,40.5103 ,40.7894,41.2124,41.4955,41.7815, 42.0685,42.5034,42.794,43.0889,43.3836, 43.6818,43.9802,44.2822,44.5845,44.8904 ,45.1964,45.5064,45.8164,46.1253, 46.4335,46.7417,47.049,47.2025,47.1612)
FOOTPRINT_POINT_LONGITUDE = (85.1532,84.6086,84.0586,83.502,82.9391 ,82.3693,81.5725,81.5359,81.4187, 81.4677,81.516,81.5635,81.6102,81.656, 81.701,81.7664,81.8083,81.8493,81.8895, 81.9282,81.9666,82.0033,82.0392,82.0738 ,82.1249,82.1578,82.1905,82.2217, 82.2675,82.2967,82.3399,82.3678,82.3953 ,82.4218,82.4479,82.4857,82.5328, 82.6034,82.6473,82.6902,82.7315,82.7717 ,82.8102,82.8289,82.857,82.875,82.9018, 82.9106,82.9118,83.291,83.7943,84.4332, 84.7664,85.0951,85.1155,85.1229,85.125, 85.1262,85.1275,85.1288,85.1301,85.1313 ,85.1325,85.1335,85.1358,85.1377, 85.1396,85.1414,85.143,85.1445,85.1451, 85.1457,85.1464,85.147,85.1474,85.1477, 85.1481,85.1484,85.1488,85.149,85.1492, 85.1493,85.1492,85.1491,85.1489,85.1486 ,85.1482,85.1478,85.1471,85.1465, 85.1457,85.1448,85.1439,85.1428,85.1416 ,85.1404,85.139,85.1375,85.1367, 85.1532)
ORBIT_NUMBER = 21868
ORBITAL_ECCENTRICITY = 0.576
ORBITAL_INCLINATION = 87.0
ORBITAL_SEMIMAJOR_AXIS = 8852.94
PERIAPSIS_ALTITUDE = 357.35
PERIAPSIS_ARGUMENT_ANGLE = 174.07
PERIAPSIS_TIME = 2021-04-21T14:11:23.000Z
SPACECRAFT_ORIENTATION = (0.0,-1.0,0.0)
^MEX_ORIENTATION_DESC = "MEX_ORIENTATION_DESC.TXT"
SPACECRAFT_POINTING_MODE = ACROSSTRACK
^MEX_POINTING_DESC = "MEX_POINTING_DESC.TXT"
RIGHT_ASCENSION = -1e+32
DECLINATION = -1e+32
OFFSET_ANGLE = -1.603
SPACECRAFT_SOLAR_DISTANCE = 2.44302e+08
TARGET_NAME = MARS
/* CAMERA DATA ELEMENTS */
DETECTOR_TEMPERATURE = 19.39
FOCAL_PLANE_TEMPERATURE = 9.195
INST_CMPRS_NAME = "DISCRETE COSINE TRANSFORMATION (DCT)"
INST_CMPRS_RATIO = 14.1299
INST_CMPRS_QUALITY = 0
INST_CMPRS_QUANTZ_TBL_ID = 0
INSTRUMENT_TEMPERATURE = 11.4379
LENS_TEMPERATURE = 9.3989
MACROPIXEL_SIZE = 2
MISSING_FRAMES = 0
PIXEL_SUBSAMPLING_FLAG = N
SIGNAL_CHAIN_ID = 3
/* RADIOMETRIC DATA ELEMENTS */
BANDWIDTH = 177.0
CENTER_FILTER_WAVELENGTH = 676.5
RADIANCE_OFFSET = 1.34259
RADIANCE_SCALING_FACTOR = 0.00303453
REFLECTANCE_SCALING_FACTOR = 9.60286e-05
MEX:REFLECTANCE_OFFSET = 0.0424865
/* IMAGE OBJECT DEFINITIONS */
OBJECT = IMAGE
  INTERCHANGE_FORMAT = BINARY
  LINES = 16743
  LINE_SAMPLES = 3321
  SAMPLE_TYPE = UNSIGNED_INTEGER
  SAMPLE_BITS = 8
  BANDS = 1
  BAND_STORAGE_TYPE = BAND_SEQUENTIAL
  MAXIMUM = 255
  MEAN = 180.093
  MINIMUM = 1
  STANDARD_DEVIATION = 51.6367
END_OBJECT = IMAGE
/* MAP OBJECT DEFINITIONS */
OBJECT = IMAGE_MAP_PROJECTION
  ^DATA_SET_MAP_PROJECTION_CATALOG= "DSMAP.CAT"
  A_AXIS_RADIUS = 3396.0
  B_AXIS_RADIUS = 3396.0
  C_AXIS_RADIUS = 3396.0
  CENTER_LATITUDE = 0.0
  CENTER_LONGITUDE = 84.0
  COORDINATE_SYSTEM_NAME = PLANETOGRAPHIC
  COORDINATE_SYSTEM_TYPE = "BODY-FIXED ROTATING"
  EASTERNMOST_LONGITUDE = 85.1532
  FIRST_STANDARD_PARALLEL = "N/A"
  LINE_FIRST_PIXEL = 1
  LINE_LAST_PIXEL = 16743
  LINE_PROJECTION_OFFSET = 56032.75
  MAP_PROJECTION_ROTATION = 0.0
  MAP_PROJECTION_TYPE = SINUSOIDAL
  MAP_RESOLUTION = 1185.42760773333
  MAP_SCALE = 0.05
  MAXIMUM_LATITUDE = 47.2025
  MINIMUM_LATITUDE = 33.15
  POSITIVE_LONGITUDE_DIRECTION = EAST
  REFERENCE_LATITUDE = "N/A"
  REFERENCE_LONGITUDE = "N/A"
  SAMPLE_FIRST_PIXEL = 1
  SAMPLE_LAST_PIXEL = 3321
  SAMPLE_PROJECTION_OFFSET = 2157.75
  SECOND_STANDARD_PARALLEL = "N/A"
  WESTERNMOST_LONGITUDE = 81.4187
END_OBJECT = IMAGE_MAP_PROJECTION
END
