PDS_VERSION_ID = PDS3
/* FILE DATA ELEMENTS */
RECORD_TYPE = UNDEFINED
/* POINTERS TO DATA OBJECTS */
^IMAGE = ("HL882_0000_BL4.TIF")
/* IDENTIFICATION DATA ELEMENTS */
DATA_SET_ID = "MEX-M-HRSC-4-REFDR-MAPPROJECT-EXT8-V4.0"
DATA_SET_NAME = "MARS EXPRESS HRSC MAP PROJECTED REFDR EXTENSION8 V4.0"
DETECTOR_ID = MEX_HRSC_BLUE
EVENT_TYPE = "MARS-TERMINATOR-CALIBRATION-Tc"
INSTRUMENT_HOST_ID = MEX
INSTRUMENT_HOST_NAME = "MARS EXPRESS"
INSTRUMENT_ID = HRSC
INSTRUMENT_NAME = "HIGH RESOLUTION STEREO CAMERA"
MISSION_NAME = "MARS EXPRESS"
MISSION_PHASE_NAME = ME_Phase_44
PROCESSING_LEVEL_ID = 4
PRODUCT_CREATION_TIME = 2023-01-25T08:48:24.000Z
PRODUCT_ID = "HL882_0000_BL4.TIF"
RELEASE_ID = 0001
REVISION_ID = 0000
/* QUALITY DATA ELEMENTS */
DATA_QUALITY_ID = 1
DATA_QUALITY_DESC = "Data calculated based on original SPICE kernels"
/* TIME DATA ELEMENTS */
SPACECRAFT_CLOCK_START_COUNT = "1/0567441343.25686"
SPACECRAFT_CLOCK_STOP_COUNT = "1/0567441880.22505"
START_TIME = 2021-04-25T14:37:46.023Z
STOP_TIME = 2021-04-25T14:42:51.020Z
/* ORBITAL DATA ELEMENTS */
ASCENDING_NODE_LONGITUDE = 165.37
MAXIMUM_RESOLUTION = 0.4992
FOOTPRINT_POINT_LATITUDE = (72.5011,72.2314,73.2064,73.3366, 71.6563,70.1837,71.5668,68.869,68.2103, 65.5793,65.2689,62.4336,59.1339,60.1366 ,57.2053,58.2019,57.8667,53.5931, 56.0946,57.3559,58.3054,58.0972,57.5374 ,55.9443,54.3359,52.0476,49.114,46.6412 ,41.9766,38.3408,35.5936,32.196,28.4103 ,25.7409,21.9822,17.5324,14.8852, 10.5482,6.91696,3.61741,-1.49158, -3.90509,-7.04467,-7.1326,-9.23032, -7.27399,-9.79906,-8.15557,-10.5814, -8.95099,-11.9243,-10.7877,-13.6625, -12.3102,-15.2799,-16.3932,-16.0732, -19.1988,-19.3603,-21.7325,-22.5841, -23.4171,-23.6587,-23.5545,-20.1727, -17.0442,-12.9694,-10.401,-6.27093, -3.55905,2.01723,6.11806,9.21157, 12.7129,17.8354,22.8202,26.1291,30.2278 ,35.2482,41.3413,44.4832,49.5948, 52.5799,56.6359,59.394,64.406,68.4977, 73.418,77.9609,81.0043,83.8389,86.9827, 87.3757,84.9486,82.4312,79.1593,74.8128 ,73.5237,72.5011)
FOOTPRINT_POINT_LONGITUDE = (127.938,127.772,127.563,110.173,99.689 ,88.4135,79.859,82.1149,73.218,68.292, 59.7246,55.001,55.2222,49.8323,52.0114, 47.1601,46.8425,46.8967,39.9494,34.1878 ,24.2469,16.2882,11.4218,3.98649, 359.246,354.447,350.083,347.356,343.719 ,341.825,340.802,339.918,339.364, 339.202,339.238,339.723,340.206,341.334 ,342.592,344.028,346.784,348.399, 350.351,347.294,348.935,347.166,347.721 ,345.579,346.714,344.198,345.28,342.176 ,342.726,340.394,339.841,337.107, 334.392,332.817,328.187,326.858,323.237 ,318.065,317.994,317.826,316.805, 315.949,314.945,314.349,313.481,312.962 ,311.978,311.33,310.871,310.381,309.701 ,309.072,308.666,308.164,307.544, 306.753,306.327,305.581,305.106,304.398 ,303.862,302.727,301.57,299.672,296.896 ,293.682,288.072,268.603,165.742, 143.695,136.485,132.023,128.842,128.151 ,127.938)
ORBIT_NUMBER = 21882
ORBITAL_ECCENTRICITY = 0.576
ORBITAL_INCLINATION = 86.99
ORBITAL_SEMIMAJOR_AXIS = 8851.76
PERIAPSIS_ALTITUDE = 358.8
PERIAPSIS_ARGUMENT_ANGLE = 171.66
PERIAPSIS_TIME = 2021-04-25T15:57:29.000Z
SPACECRAFT_ORIENTATION = (0.0,-1.0,0.0)
^MEX_ORIENTATION_DESC = "MEX_ORIENTATION_DESC.TXT"
SPACECRAFT_POINTING_MODE = FIXED
^MEX_POINTING_DESC = "MEX_POINTING_DESC.TXT"
RIGHT_ASCENSION = -1e+32
DECLINATION = -1e+32
OFFSET_ANGLE = -1e+32
SPACECRAFT_SOLAR_DISTANCE = 2.44765e+08
TARGET_NAME = MARS
/* CAMERA DATA ELEMENTS */
DETECTOR_TEMPERATURE = 18.7783
FOCAL_PLANE_TEMPERATURE = 9.3989
INST_CMPRS_NAME = "DISCRETE COSINE TRANSFORMATION (DCT)"
INST_CMPRS_RATIO = 4.57444
INST_CMPRS_QUALITY = 0
INST_CMPRS_QUANTZ_TBL_ID = 0
INSTRUMENT_TEMPERATURE = 11.6418
LENS_TEMPERATURE = 9.6028
MACROPIXEL_SIZE = 2
MISSING_FRAMES = 8
PIXEL_SUBSAMPLING_FLAG = N
SIGNAL_CHAIN_ID = 2
/* RADIOMETRIC DATA ELEMENTS */
BANDWIDTH = 76.0
CENTER_FILTER_WAVELENGTH = 444.0
RADIANCE_OFFSET = 0.0
RADIANCE_SCALING_FACTOR = 0.00929737
REFLECTANCE_SCALING_FACTOR = 0.000572258
MEX:REFLECTANCE_OFFSET = 0.0
/* IMAGE OBJECT DEFINITIONS */
OBJECT = IMAGE
  INTERCHANGE_FORMAT = BINARY
  LINES = 16693
  LINE_SAMPLES = 9923
  SAMPLE_TYPE = UNSIGNED_INTEGER
  SAMPLE_BITS = 8
  BANDS = 1
  BAND_STORAGE_TYPE = BAND_SEQUENTIAL
  MAXIMUM = 255
  MEAN = 125.894
  MINIMUM = 32
  STANDARD_DEVIATION = 51.4959
END_OBJECT = IMAGE
/* MAP OBJECT DEFINITIONS */
OBJECT = IMAGE_MAP_PROJECTION
  ^DATA_SET_MAP_PROJECTION_CATALOG= "DSMAP.CAT"
  A_AXIS_RADIUS = 3396.0
  B_AXIS_RADIUS = 3396.0
  C_AXIS_RADIUS = 3396.0
  CENTER_LATITUDE = 0.0
  CENTER_LONGITUDE = 322.0
  COORDINATE_SYSTEM_NAME = PLANETOGRAPHIC
  COORDINATE_SYSTEM_TYPE = "BODY-FIXED ROTATING"
  EASTERNMOST_LONGITUDE = 360.0
  FIRST_STANDARD_PARALLEL = "N/A"
  LINE_FIRST_PIXEL = 1
  LINE_LAST_PIXEL = 16693
  LINE_PROJECTION_OFFSET = 13072.0
  MAP_PROJECTION_ROTATION = 0.0
  MAP_PROJECTION_TYPE = SINUSOIDAL
  MAP_RESOLUTION = 148.178450966667
  MAP_SCALE = 0.4
  MAXIMUM_LATITUDE = 90.0
  MINIMUM_LATITUDE = -23.6587
  POSITIVE_LONGITUDE_DIRECTION = EAST
  REFERENCE_LATITUDE = "N/A"
  REFERENCE_LONGITUDE = "N/A"
  SAMPLE_FIRST_PIXEL = 1
  SAMPLE_LAST_PIXEL = 9923
  SAMPLE_PROJECTION_OFFSET = 2324.0
  SECOND_STANDARD_PARALLEL = "N/A"
  WESTERNMOST_LONGITUDE = 0.0
END_OBJECT = IMAGE_MAP_PROJECTION
END
