PDS_VERSION_ID = PDS3
/* FILE DATA ELEMENTS */
RECORD_TYPE = UNDEFINED
/* POINTERS TO DATA OBJECTS */
^IMAGE = ("HL896_0000_P24.TIF")
/* IDENTIFICATION DATA ELEMENTS */
DATA_SET_ID = "MEX-M-HRSC-4-REFDR-MAPPROJECT-EXT8-V4.0"
DATA_SET_NAME = "MARS EXPRESS HRSC MAP PROJECTED REFDR EXTENSION8 V4.0"
DETECTOR_ID = MEX_HRSC_P2
EVENT_TYPE = "MARS-REGIONAL-MAPPING-Vo-Im"
INSTRUMENT_HOST_ID = MEX
INSTRUMENT_HOST_NAME = "MARS EXPRESS"
INSTRUMENT_ID = HRSC
INSTRUMENT_NAME = "HIGH RESOLUTION STEREO CAMERA"
MISSION_NAME = "MARS EXPRESS"
MISSION_PHASE_NAME = ME_Phase_44
PROCESSING_LEVEL_ID = 4
PRODUCT_CREATION_TIME = 2023-01-25T08:48:24.000Z
PRODUCT_ID = "HL896_0000_P24.TIF"
RELEASE_ID = 0001
REVISION_ID = 0000
/* QUALITY DATA ELEMENTS */
DATA_QUALITY_ID = 1
DATA_QUALITY_DESC = "Data calculated based on original SPICE kernels"
/* TIME DATA ELEMENTS */
SPACECRAFT_CLOCK_START_COUNT = "1/0567797806.23979"
SPACECRAFT_CLOCK_STOP_COUNT = "1/0567798104.30500"
START_TIME = 2021-04-29T17:38:34.803Z
STOP_TIME = 2021-04-29T17:42:04.533Z
/* ORBITAL DATA ELEMENTS */
ASCENDING_NODE_LONGITUDE = 165.12
MAXIMUM_RESOLUTION = 0.0309
FOOTPRINT_POINT_LATITUDE = (31.0289,31.0483,31.0669,31.0879, 31.0884,31.1287,30.7011,30.4159,30.1346 ,29.8561,29.5774,29.2984,29.0192, 28.7452,28.4726,28.1999,27.9269,27.6539 ,27.3827,26.9832,26.4502,26.05,25.5163, 24.9822,24.715,24.4476,24.18,23.9127, 23.6452,23.3777,23.1101,22.8423,22.4406 ,22.1728,21.9047,21.5027,21.2342, 20.9664,20.6982,20.4302,20.1622,19.7599 ,19.4916,19.2234,18.9553,18.6871, 18.4191,18.1507,17.7484,17.6143,17.5881 ,17.571,17.552,17.5214,17.4997,17.4989, 17.4992,17.9022,18.1712,18.4396,18.7086 ,18.9773,19.2457,19.5145,19.9174, 20.3205,20.7232,21.1258,21.3942,21.6628 ,21.9312,22.1995,22.4678,22.7362, 23.0044,23.2725,23.5408,23.9429,24.2109 ,24.4788,24.8805,25.1481,25.5497, 25.9508,26.2182,26.7526,27.2864,27.5576 ,27.8316,28.1051,28.5153,28.7885, 29.2058,29.4855,29.905,30.1844,30.4688, 30.8976,31.0406,31.0289)
FOOTPRINT_POINT_LONGITUDE = (105.407,104.846,104.267,103.551, 103.531,103.457,103.479,103.494,103.508 ,103.522,103.535,103.548,103.561, 103.573,103.585,103.597,103.609,103.62, 103.631,103.647,103.667,103.682,103.7, 103.718,103.726,103.735,103.743,103.751 ,103.759,103.766,103.773,103.781, 103.791,103.798,103.804,103.814,103.82, 103.826,103.832,103.837,103.842,103.85, 103.855,103.86,103.864,103.869,103.873, 103.877,103.883,103.885,103.885,104.171 ,104.494,104.99,105.344,105.358,105.363 ,105.364,105.364,105.365,105.366, 105.367,105.368,105.368,105.369,105.37, 105.372,105.373,105.374,105.374,105.375 ,105.376,105.376,105.377,105.378, 105.378,105.379,105.379,105.38,105.38, 105.381,105.382,105.382,105.383,105.383 ,105.384,105.384,105.384,105.384, 105.384,105.384,105.384,105.384,105.384 ,105.384,105.384,105.384,105.384, 105.384,105.407)
ORBIT_NUMBER = 21896
ORBITAL_ECCENTRICITY = 0.576
ORBITAL_INCLINATION = 86.99
ORBITAL_SEMIMAJOR_AXIS = 8849.67
PERIAPSIS_ALTITUDE = 360.22
PERIAPSIS_ARGUMENT_ANGLE = 169.25
PERIAPSIS_TIME = 2021-04-29T17:43:27.000Z
SPACECRAFT_ORIENTATION = (0.0,-1.0,0.0)
^MEX_ORIENTATION_DESC = "MEX_ORIENTATION_DESC.TXT"
SPACECRAFT_POINTING_MODE = ACROSSTRACK
^MEX_POINTING_DESC = "MEX_POINTING_DESC.TXT"
RIGHT_ASCENSION = -1e+32
DECLINATION = -1e+32
OFFSET_ANGLE = -1.603
SPACECRAFT_SOLAR_DISTANCE = 2.45206e+08
TARGET_NAME = MARS
/* CAMERA DATA ELEMENTS */
DETECTOR_TEMPERATURE = 19.39
FOCAL_PLANE_TEMPERATURE = 8.9911
INST_CMPRS_NAME = "DISCRETE COSINE TRANSFORMATION (DCT)"
INST_CMPRS_RATIO = 5.59019
INST_CMPRS_QUALITY = 0
INST_CMPRS_QUANTZ_TBL_ID = 0
INSTRUMENT_TEMPERATURE = 11.6418
LENS_TEMPERATURE = 9.3989
MACROPIXEL_SIZE = 2
MISSING_FRAMES = 0
PIXEL_SUBSAMPLING_FLAG = N
SIGNAL_CHAIN_ID = 3
/* RADIOMETRIC DATA ELEMENTS */
BANDWIDTH = 177.0
CENTER_FILTER_WAVELENGTH = 676.5
RADIANCE_OFFSET = 1.55151
RADIANCE_SCALING_FACTOR = 0.00819049
REFLECTANCE_SCALING_FACTOR = 0.000261113
MEX:REFLECTANCE_OFFSET = 0.0494622
/* IMAGE OBJECT DEFINITIONS */
OBJECT = IMAGE
  INTERCHANGE_FORMAT = BINARY
  LINES = 32179
  LINE_SAMPLES = 4020
  SAMPLE_TYPE = UNSIGNED_INTEGER
  SAMPLE_BITS = 8
  BANDS = 1
  BAND_STORAGE_TYPE = BAND_SEQUENTIAL
  MAXIMUM = 255
  MEAN = 87.3319
  MINIMUM = 1
  STANDARD_DEVIATION = 27.7407
END_OBJECT = IMAGE
/* MAP OBJECT DEFINITIONS */
OBJECT = IMAGE_MAP_PROJECTION
  ^DATA_SET_MAP_PROJECTION_CATALOG= "DSMAP.CAT"
  A_AXIS_RADIUS = 3396.0
  B_AXIS_RADIUS = 3396.0
  C_AXIS_RADIUS = 3396.0
  CENTER_LATITUDE = 0.0
  CENTER_LONGITUDE = 105.0
  COORDINATE_SYSTEM_NAME = PLANETOGRAPHIC
  COORDINATE_SYSTEM_TYPE = "BODY-FIXED ROTATING"
  EASTERNMOST_LONGITUDE = 105.407
  FIRST_STANDARD_PARALLEL = "N/A"
  LINE_FIRST_PIXEL = 1
  LINE_LAST_PIXEL = 32179
  LINE_PROJECTION_OFFSET = 73736.25
  MAP_PROJECTION_ROTATION = 0.0
  MAP_PROJECTION_TYPE = SINUSOIDAL
  MAP_RESOLUTION = 2370.85521546667
  MAP_SCALE = 0.025
  MAXIMUM_LATITUDE = 31.1287
  MINIMUM_LATITUDE = 17.4989
  POSITIVE_LONGITUDE_DIRECTION = EAST
  REFERENCE_LATITUDE = "N/A"
  REFERENCE_LONGITUDE = "N/A"
  SAMPLE_FIRST_PIXEL = 1
  SAMPLE_LAST_PIXEL = 4020
  SAMPLE_PROJECTION_OFFSET = 3157.75
  SECOND_STANDARD_PARALLEL = "N/A"
  WESTERNMOST_LONGITUDE = 103.457
END_OBJECT = IMAGE_MAP_PROJECTION
END
