PDS_VERSION_ID = PDS3
/* FILE DATA ELEMENTS */
RECORD_TYPE = UNDEFINED
/* POINTERS TO DATA OBJECTS */
^IMAGE = ("HL906_0000_RE4.TIF")
/* IDENTIFICATION DATA ELEMENTS */
DATA_SET_ID = "MEX-M-HRSC-4-REFDR-MAPPROJECT-EXT8-V4.0"
DATA_SET_NAME = "MARS EXPRESS HRSC MAP PROJECTED REFDR EXTENSION8 V4.0"
DETECTOR_ID = MEX_HRSC_RED
EVENT_TYPE = "MARS-REGIONAL-MAPPING-Vo-Te-Im"
INSTRUMENT_HOST_ID = MEX
INSTRUMENT_HOST_NAME = "MARS EXPRESS"
INSTRUMENT_ID = HRSC
INSTRUMENT_NAME = "HIGH RESOLUTION STEREO CAMERA"
MISSION_NAME = "MARS EXPRESS"
MISSION_PHASE_NAME = ME_Phase_44
PROCESSING_LEVEL_ID = 4
PRODUCT_CREATION_TIME = 2023-01-25T08:48:24.000Z
PRODUCT_ID = "HL906_0000_RE4.TIF"
RELEASE_ID = 0001
REVISION_ID = 0000
/* QUALITY DATA ELEMENTS */
DATA_QUALITY_ID = 1
DATA_QUALITY_DESC = "Data calculated based on original SPICE kernels"
/* TIME DATA ELEMENTS */
SPACECRAFT_CLOCK_START_COUNT = "1/0568048927.25695"
SPACECRAFT_CLOCK_STOP_COUNT = "1/0568049332.39605"
START_TIME = 2021-05-02T15:24:48.401Z
STOP_TIME = 2021-05-02T15:29:17.522Z
/* ORBITAL DATA ELEMENTS */
ASCENDING_NODE_LONGITUDE = 164.93
MAXIMUM_RESOLUTION = 0.0732
FOOTPRINT_POINT_LATITUDE = (46.8689,46.8364,46.815,46.7926,46.7695 ,46.7207,46.7191,46.7992,46.2102, 45.8203,45.4343,45.0503,44.67,44.2917, 43.9175,43.5442,43.1751,42.8066,42.4441 ,41.9004,41.5436,41.009,40.4827,40.1317 ,39.7869,39.4417,39.0981,38.7592, 38.4199,38.0832,37.7504,37.4172,37.0852 ,36.7586,36.4318,36.1047,35.6225, 35.3018,34.8218,34.1936,33.7214,33.0917 ,32.6187,31.9859,31.6636,31.1864,30.403 ,29.9301,29.7718,29.6765,29.7162, 29.7589,29.8126,29.8462,29.8479,29.8497 ,30.1664,30.4825,30.7991,31.1153, 31.4312,31.7468,32.2199,32.5352,33.1659 ,33.6382,34.1099,34.7378,35.3721, 35.8532,36.1731,36.6624,36.9888,37.315, 37.6481,37.9809,38.3131,38.6506,38.9896 ,39.3288,39.6734,40.0178,40.5373, 40.8887,41.2395,41.5965,42.1317,42.4945 ,42.8568,43.4079,43.776,44.1505,44.5242 ,44.9028,45.2837,45.6685,46.0531, 46.6392,46.8345,46.8689)
FOOTPRINT_POINT_LONGITUDE = (170.606,169.763,169.262,168.772, 168.295,167.37,167.342,167.407,167.42, 167.427,167.435,167.441,167.447,167.453 ,167.458,167.464,167.468,167.472, 167.476,167.481,167.485,167.489,167.492 ,167.494,167.496,167.497,167.498, 167.499,167.5,167.501,167.501,167.501, 167.501,167.501,167.501,167.5,167.499, 167.498,167.496,167.494,167.492,167.488 ,167.485,167.479,167.47,167.463,167.464 ,167.462,167.461,167.46,167.915,168.412 ,169.057,169.47,169.491,169.498,169.515 ,169.532,169.549,169.567,169.584, 169.602,169.629,169.647,169.685,169.714 ,169.743,169.782,169.822,169.855, 169.876,169.909,169.931,169.953,169.977 ,170.001,170.025,170.049,170.075, 170.102,170.128,170.154,170.192,170.222 ,170.251,170.281,170.326,170.357, 170.389,170.438,170.471,170.506,170.54, 170.575,170.614,170.652,170.689,170.749 ,170.769,170.606)
ORBIT_NUMBER = 21906
ORBITAL_ECCENTRICITY = 0.575
ORBITAL_INCLINATION = 87.0
ORBITAL_SEMIMAJOR_AXIS = 8839.59
PERIAPSIS_ALTITUDE = 361.97
PERIAPSIS_ARGUMENT_ANGLE = 167.54
PERIAPSIS_TIME = 2021-05-02T15:33:14.000Z
SPACECRAFT_ORIENTATION = (0.0,-1.0,0.0)
^MEX_ORIENTATION_DESC = "MEX_ORIENTATION_DESC.TXT"
SPACECRAFT_POINTING_MODE = ACROSSTRACK
^MEX_POINTING_DESC = "MEX_POINTING_DESC.TXT"
RIGHT_ASCENSION = -1e+32
DECLINATION = -1e+32
OFFSET_ANGLE = 2.747
SPACECRAFT_SOLAR_DISTANCE = 2.45508e+08
TARGET_NAME = MARS
/* CAMERA DATA ELEMENTS */
DETECTOR_TEMPERATURE = 18.9822
FOCAL_PLANE_TEMPERATURE = 9.3989
INST_CMPRS_NAME = "DISCRETE COSINE TRANSFORMATION (DCT)"
INST_CMPRS_RATIO = 9.2673
INST_CMPRS_QUALITY = 0
INST_CMPRS_QUANTZ_TBL_ID = 0
INSTRUMENT_TEMPERATURE = 11.8457
LENS_TEMPERATURE = 9.6028
MACROPIXEL_SIZE = 4
MISSING_FRAMES = 0
PIXEL_SUBSAMPLING_FLAG = N
SIGNAL_CHAIN_ID = 2
/* RADIOMETRIC DATA ELEMENTS */
BANDWIDTH = 48.0
CENTER_FILTER_WAVELENGTH = 748.0
RADIANCE_OFFSET = 0.411479
RADIANCE_SCALING_FACTOR = 0.0022591
REFLECTANCE_SCALING_FACTOR = 0.000310737
MEX:REFLECTANCE_OFFSET = 0.0565985
/* IMAGE OBJECT DEFINITIONS */
OBJECT = IMAGE
  INTERCHANGE_FORMAT = BINARY
  LINES = 20326
  LINE_SAMPLES = 3096
  SAMPLE_TYPE = UNSIGNED_INTEGER
  SAMPLE_BITS = 8
  BANDS = 1
  BAND_STORAGE_TYPE = BAND_SEQUENTIAL
  MAXIMUM = 255
  MEAN = 95.1393
  MINIMUM = 1
  STANDARD_DEVIATION = 37.9347
END_OBJECT = IMAGE
/* MAP OBJECT DEFINITIONS */
OBJECT = IMAGE_MAP_PROJECTION
  ^DATA_SET_MAP_PROJECTION_CATALOG= "DSMAP.CAT"
  A_AXIS_RADIUS = 3396.0
  B_AXIS_RADIUS = 3396.0
  C_AXIS_RADIUS = 3396.0
  CENTER_LATITUDE = 0.0
  CENTER_LONGITUDE = 169.0
  COORDINATE_SYSTEM_NAME = PLANETOGRAPHIC
  COORDINATE_SYSTEM_TYPE = "BODY-FIXED ROTATING"
  EASTERNMOST_LONGITUDE = 170.769
  FIRST_STANDARD_PARALLEL = "N/A"
  LINE_FIRST_PIXEL = 1
  LINE_LAST_PIXEL = 20326
  LINE_PROJECTION_OFFSET = 55547.625
  MAP_PROJECTION_ROTATION = 0.0
  MAP_PROJECTION_TYPE = SINUSOIDAL
  MAP_RESOLUTION = 1185.42760773333
  MAP_SCALE = 0.05
  MAXIMUM_LATITUDE = 46.8689
  MINIMUM_LATITUDE = 29.6765
  POSITIVE_LONGITUDE_DIRECTION = EAST
  REFERENCE_LATITUDE = "N/A"
  REFERENCE_LONGITUDE = "N/A"
  SAMPLE_FIRST_PIXEL = 1
  SAMPLE_LAST_PIXEL = 3096
  SAMPLE_PROJECTION_OFFSET = 1630.875
  SECOND_STANDARD_PARALLEL = "N/A"
  WESTERNMOST_LONGITUDE = 167.342
END_OBJECT = IMAGE_MAP_PROJECTION
END
