PDS_VERSION_ID = PDS3
/* FILE DATA ELEMENTS */
RECORD_TYPE = UNDEFINED
/* POINTERS TO DATA OBJECTS */
^IMAGE = ("HL929_0000_P14.TIF")
/* IDENTIFICATION DATA ELEMENTS */
DATA_SET_ID = "MEX-M-HRSC-4-REFDR-MAPPROJECT-EXT8-V4.0"
DATA_SET_NAME = "MARS EXPRESS HRSC MAP PROJECTED REFDR EXTENSION8 V4.0"
DETECTOR_ID = MEX_HRSC_P1
EVENT_TYPE = "MARS-LOCAL-CARTOGRAPHY-Eb-Tc-Ot"
INSTRUMENT_HOST_ID = MEX
INSTRUMENT_HOST_NAME = "MARS EXPRESS"
INSTRUMENT_ID = HRSC
INSTRUMENT_NAME = "HIGH RESOLUTION STEREO CAMERA"
MISSION_NAME = "MARS EXPRESS"
MISSION_PHASE_NAME = ME_Phase_44
PROCESSING_LEVEL_ID = 4
PRODUCT_CREATION_TIME = 2023-01-25T08:48:24.000Z
PRODUCT_ID = "HL929_0000_P14.TIF"
RELEASE_ID = 0001
REVISION_ID = 0000
/* QUALITY DATA ELEMENTS */
DATA_QUALITY_ID = 1
DATA_QUALITY_DESC = "Data calculated based on original SPICE kernels"
/* TIME DATA ELEMENTS */
SPACECRAFT_CLOCK_START_COUNT = "1/0568627599.25668"
SPACECRAFT_CLOCK_STOP_COUNT = "1/0568627805.26504"
START_TIME = 2021-05-09T08:07:25.340Z
STOP_TIME = 2021-05-09T08:09:41.413Z
/* ORBITAL DATA ELEMENTS */
ASCENDING_NODE_LONGITUDE = 164.52
MAXIMUM_RESOLUTION = 0.0604
FOOTPRINT_POINT_LATITUDE = (23.2134,23.2057,23.1975,23.1887, 23.1795,23.1696,23.1523,23.1516,23.1199 ,22.9349,22.6577,22.4714,22.2868,22.101 ,21.9153,21.7296,21.4511,21.2654, 21.0791,20.7998,20.6135,20.4272,20.241, 20.0542,19.8678,19.6807,19.4936,19.3064 ,19.1194,18.9321,18.7451,18.5579, 18.3703,18.0271,17.6329,17.3181,17.0817 ,16.7665,16.5301,16.2146,16.0566, 15.8986,15.5832,15.4252,15.1881,14.9505 ,14.7127,14.5541,14.4746,14.4461, 14.4566,14.468,14.4758,14.4864,14.4962, 14.4965,14.4975,14.7349,14.8934,15.0521 ,15.2107,15.4488,15.7644,15.9243, 16.0822,16.2404,16.3982,16.5561,16.7139 ,16.8718,17.0296,17.345,17.5027,17.8175 ,18.1326,18.3924,18.5803,18.7682, 18.9558,19.2375,19.4252,19.7059,19.8929 ,20.0807,20.2634,20.451,20.6369,20.8278 ,21.0144,21.2006,21.4791,21.665,21.9446 ,22.2234,22.5016,22.6877,22.8734, 23.0585,23.151,23.2134)
FOOTPRINT_POINT_LONGITUDE = (335.991,335.778,335.564,335.347, 335.127,334.906,334.539,334.525,334.483 ,334.487,334.493,334.495,334.5,334.502, 334.506,334.509,334.514,334.517,334.52, 334.524,334.527,334.53,334.532,334.535, 334.538,334.54,334.542,334.544,334.546, 334.548,334.55,334.552,334.554,334.557, 334.559,334.562,334.563,334.565,334.567 ,334.569,334.57,334.57,334.572,334.573, 334.574,334.574,334.574,334.574,334.574 ,334.574,334.836,335.133,335.337, 335.638,335.922,335.934,335.939,335.94, 335.94,335.941,335.942,335.943,335.945, 335.946,335.947,335.948,335.948,335.949 ,335.95,335.951,335.951,335.953,335.954 ,335.955,335.957,335.958,335.959,335.96 ,335.961,335.963,335.964,335.965, 335.966,335.967,335.967,335.968,335.969 ,335.971,335.972,335.973,335.974, 335.975,335.977,335.978,335.979,335.981 ,335.982,335.982,335.983,335.991)
ORBIT_NUMBER = 21929
ORBITAL_ECCENTRICITY = 0.575
ORBITAL_INCLINATION = 87.01
ORBITAL_SEMIMAJOR_AXIS = 8836.61
PERIAPSIS_ALTITUDE = 363.86
PERIAPSIS_ARGUMENT_ANGLE = 163.53
PERIAPSIS_TIME = 2021-05-09T08:09:32.000Z
SPACECRAFT_ORIENTATION = (0.0,-1.0,0.0)
^MEX_ORIENTATION_DESC = "MEX_ORIENTATION_DESC.TXT"
SPACECRAFT_POINTING_MODE = ACROSSTRACK
^MEX_POINTING_DESC = "MEX_POINTING_DESC.TXT"
RIGHT_ASCENSION = -1e+32
DECLINATION = -1e+32
OFFSET_ANGLE = -1.0
SPACECRAFT_SOLAR_DISTANCE = 2.46161e+08
TARGET_NAME = MARS
/* CAMERA DATA ELEMENTS */
DETECTOR_TEMPERATURE = 17.5549
FOCAL_PLANE_TEMPERATURE = 9.6028
INST_CMPRS_NAME = "DISCRETE COSINE TRANSFORMATION (DCT)"
INST_CMPRS_RATIO = 13.5666
INST_CMPRS_QUALITY = 0
INST_CMPRS_QUANTZ_TBL_ID = 0
INSTRUMENT_TEMPERATURE = 11.6418
LENS_TEMPERATURE = 10.0106
MACROPIXEL_SIZE = 4
MISSING_FRAMES = 0
PIXEL_SUBSAMPLING_FLAG = N
SIGNAL_CHAIN_ID = 3
/* RADIOMETRIC DATA ELEMENTS */
BANDWIDTH = 174.0
CENTER_FILTER_WAVELENGTH = 675.0
RADIANCE_OFFSET = 1.65831
RADIANCE_SCALING_FACTOR = 0.00482711
REFLECTANCE_SCALING_FACTOR = 0.00015733
MEX:REFLECTANCE_OFFSET = 0.0540495
/* IMAGE OBJECT DEFINITIONS */
OBJECT = IMAGE
  INTERCHANGE_FORMAT = BINARY
  LINES = 10304
  LINE_SAMPLES = 1639
  SAMPLE_TYPE = UNSIGNED_INTEGER
  SAMPLE_BITS = 8
  BANDS = 1
  BAND_STORAGE_TYPE = BAND_SEQUENTIAL
  MAXIMUM = 255
  MEAN = 118.451
  MINIMUM = 1
  STANDARD_DEVIATION = 29.6908
END_OBJECT = IMAGE
/* MAP OBJECT DEFINITIONS */
OBJECT = IMAGE_MAP_PROJECTION
  ^DATA_SET_MAP_PROJECTION_CATALOG= "DSMAP.CAT"
  A_AXIS_RADIUS = 3396.0
  B_AXIS_RADIUS = 3396.0
  C_AXIS_RADIUS = 3396.0
  CENTER_LATITUDE = 0.0
  CENTER_LONGITUDE = 335.0
  COORDINATE_SYSTEM_NAME = PLANETOGRAPHIC
  COORDINATE_SYSTEM_TYPE = "BODY-FIXED ROTATING"
  EASTERNMOST_LONGITUDE = 335.991
  FIRST_STANDARD_PARALLEL = "N/A"
  LINE_FIRST_PIXEL = 1
  LINE_LAST_PIXEL = 10304
  LINE_PROJECTION_OFFSET = 27474.375
  MAP_PROJECTION_ROTATION = 0.0
  MAP_PROJECTION_TYPE = SINUSOIDAL
  MAP_RESOLUTION = 1185.42760773333
  MAP_SCALE = 0.05
  MAXIMUM_LATITUDE = 23.2134
  MINIMUM_LATITUDE = 14.4461
  POSITIVE_LONGITUDE_DIRECTION = EAST
  REFERENCE_LATITUDE = "N/A"
  REFERENCE_LONGITUDE = "N/A"
  SAMPLE_FIRST_PIXEL = 1
  SAMPLE_LAST_PIXEL = 1639
  SAMPLE_PROJECTION_OFFSET = 558.125
  SECOND_STANDARD_PARALLEL = "N/A"
  WESTERNMOST_LONGITUDE = 334.483
END_OBJECT = IMAGE_MAP_PROJECTION
END
