PDS_VERSION_ID = PDS3
/* FILE DATA ELEMENTS */
RECORD_TYPE = UNDEFINED
/* POINTERS TO DATA OBJECTS */
^IMAGE = ("HL929_0000_RE4.TIF")
/* IDENTIFICATION DATA ELEMENTS */
DATA_SET_ID = "MEX-M-HRSC-4-REFDR-MAPPROJECT-EXT8-V4.0"
DATA_SET_NAME = "MARS EXPRESS HRSC MAP PROJECTED REFDR EXTENSION8 V4.0"
DETECTOR_ID = MEX_HRSC_RED
EVENT_TYPE = "MARS-LOCAL-CARTOGRAPHY-Eb-Tc-Ot"
INSTRUMENT_HOST_ID = MEX
INSTRUMENT_HOST_NAME = "MARS EXPRESS"
INSTRUMENT_ID = HRSC
INSTRUMENT_NAME = "HIGH RESOLUTION STEREO CAMERA"
MISSION_NAME = "MARS EXPRESS"
MISSION_PHASE_NAME = ME_Phase_44
PROCESSING_LEVEL_ID = 4
PRODUCT_CREATION_TIME = 2023-01-25T08:48:24.000Z
PRODUCT_ID = "HL929_0000_RE4.TIF"
RELEASE_ID = 0001
REVISION_ID = 0000
/* QUALITY DATA ELEMENTS */
DATA_QUALITY_ID = 1
DATA_QUALITY_DESC = "Data calculated based on original SPICE kernels"
/* TIME DATA ELEMENTS */
SPACECRAFT_CLOCK_START_COUNT = "1/0568627599.25668"
SPACECRAFT_CLOCK_STOP_COUNT = "1/0568627805.26504"
START_TIME = 2021-05-09T08:08:16.558Z
STOP_TIME = 2021-05-09T08:10:31.053Z
/* ORBITAL DATA ELEMENTS */
ASCENDING_NODE_LONGITUDE = 164.52
MAXIMUM_RESOLUTION = 0.0309
FOOTPRINT_POINT_LATITUDE = (23.1319,23.1417,23.1516,23.1614, 23.1714,23.1814,23.1952,23.1959,23.2358 ,22.9342,22.7331,22.4327,22.2311, 22.0309,21.8303,21.6296,21.3593,21.1909 ,20.9392,20.7712,20.603,20.4351,20.2669 ,20.0152,19.8473,19.6798,19.5122, 19.2612,19.0937,18.8425,18.675,18.5073, 18.2565,18.0893,17.9223,17.5893,17.4223 ,17.2553,17.0054,16.8387,16.6718, 16.5051,16.2549,16.0057,15.6727,15.506, 15.1744,15.008,14.6771,14.5944,14.5581, 14.5453,14.5353,14.5216,14.5031,14.4827 ,14.482,14.4822,14.8146,15.2292,15.5599 ,15.8118,16.0595,16.2263,16.3933, 16.6438,16.8108,16.9775,17.1448,17.3956 ,17.5629,17.8143,18.0652,18.2325, 18.4834,18.6507,18.8181,18.9857,19.1532 ,19.3204,19.4874,19.6564,19.8239, 20.0751,20.3334,20.4999,20.6693,20.9161 ,21.0841,21.2529,21.4221,21.7184, 21.9189,22.1202,22.3209,22.6227,22.8233 ,23.025,23.1258,23.1319)
FOOTPRINT_POINT_LONGITUDE = (335.973,335.756,335.536,335.314, 335.089,334.861,334.542,334.527,334.483 ,334.488,334.492,334.496,334.5,334.502, 334.505,334.508,334.512,334.515,334.518 ,334.52,334.522,334.524,334.526,334.529 ,334.531,334.533,334.534,334.536, 334.538,334.54,334.541,334.543,334.545, 334.546,334.547,334.547,334.548,334.549 ,334.55,334.551,334.552,334.552,334.554 ,334.554,334.555,334.556,334.555, 334.556,334.555,334.555,334.555,334.791 ,334.969,335.226,335.546,335.925, 335.938,335.942,335.943,335.944,335.946 ,335.946,335.947,335.947,335.948, 335.948,335.949,335.949,335.949,335.95, 335.951,335.951,335.952,335.952,335.953 ,335.953,335.954,335.954,335.955, 335.955,335.956,335.956,335.957,335.957 ,335.957,335.957,335.958,335.959,335.96 ,335.96,335.96,335.961,335.962,335.962, 335.963,335.963,335.964,335.964,335.964 ,335.973)
ORBIT_NUMBER = 21929
ORBITAL_ECCENTRICITY = 0.575
ORBITAL_INCLINATION = 87.01
ORBITAL_SEMIMAJOR_AXIS = 8836.61
PERIAPSIS_ALTITUDE = 363.86
PERIAPSIS_ARGUMENT_ANGLE = 163.53
PERIAPSIS_TIME = 2021-05-09T08:09:32.000Z
SPACECRAFT_ORIENTATION = (0.0,-1.0,0.0)
^MEX_ORIENTATION_DESC = "MEX_ORIENTATION_DESC.TXT"
SPACECRAFT_POINTING_MODE = ACROSSTRACK
^MEX_POINTING_DESC = "MEX_POINTING_DESC.TXT"
RIGHT_ASCENSION = -1e+32
DECLINATION = -1e+32
OFFSET_ANGLE = -1.0
SPACECRAFT_SOLAR_DISTANCE = 2.46161e+08
TARGET_NAME = MARS
/* CAMERA DATA ELEMENTS */
DETECTOR_TEMPERATURE = 19.39
FOCAL_PLANE_TEMPERATURE = 9.6028
INST_CMPRS_NAME = "DISCRETE COSINE TRANSFORMATION (DCT)"
INST_CMPRS_RATIO = 5.63373
INST_CMPRS_QUALITY = 0
INST_CMPRS_QUANTZ_TBL_ID = 0
INSTRUMENT_TEMPERATURE = 11.6418
LENS_TEMPERATURE = 10.0106
MACROPIXEL_SIZE = 2
MISSING_FRAMES = 0
PIXEL_SUBSAMPLING_FLAG = N
SIGNAL_CHAIN_ID = 1
/* RADIOMETRIC DATA ELEMENTS */
BANDWIDTH = 48.0
CENTER_FILTER_WAVELENGTH = 748.0
RADIANCE_OFFSET = 0.432712
RADIANCE_SCALING_FACTOR = 0.00147653
REFLECTANCE_SCALING_FACTOR = 0.000204178
MEX:REFLECTANCE_OFFSET = 0.0598364
/* IMAGE OBJECT DEFINITIONS */
OBJECT = IMAGE
  INTERCHANGE_FORMAT = BINARY
  LINES = 20608
  LINE_SAMPLES = 3277
  SAMPLE_TYPE = UNSIGNED_INTEGER
  SAMPLE_BITS = 8
  BANDS = 1
  BAND_STORAGE_TYPE = BAND_SEQUENTIAL
  MAXIMUM = 255
  MEAN = 114.364
  MINIMUM = 1
  STANDARD_DEVIATION = 30.0088
END_OBJECT = IMAGE
/* MAP OBJECT DEFINITIONS */
OBJECT = IMAGE_MAP_PROJECTION
  ^DATA_SET_MAP_PROJECTION_CATALOG= "DSMAP.CAT"
  A_AXIS_RADIUS = 3396.0
  B_AXIS_RADIUS = 3396.0
  C_AXIS_RADIUS = 3396.0
  CENTER_LATITUDE = 0.0
  CENTER_LONGITUDE = 335.0
  COORDINATE_SYSTEM_NAME = PLANETOGRAPHIC
  COORDINATE_SYSTEM_TYPE = "BODY-FIXED ROTATING"
  EASTERNMOST_LONGITUDE = 335.973
  FIRST_STANDARD_PARALLEL = "N/A"
  LINE_FIRST_PIXEL = 1
  LINE_LAST_PIXEL = 20608
  LINE_PROJECTION_OFFSET = 54949.25
  MAP_PROJECTION_ROTATION = 0.0
  MAP_PROJECTION_TYPE = SINUSOIDAL
  MAP_RESOLUTION = 2370.85521546667
  MAP_SCALE = 0.025
  MAXIMUM_LATITUDE = 23.2358
  MINIMUM_LATITUDE = 14.482
  POSITIVE_LONGITUDE_DIRECTION = EAST
  REFERENCE_LATITUDE = "N/A"
  REFERENCE_LONGITUDE = "N/A"
  SAMPLE_FIRST_PIXEL = 1
  SAMPLE_LAST_PIXEL = 3277
  SAMPLE_PROJECTION_OFFSET = 1116.75
  SECOND_STANDARD_PARALLEL = "N/A"
  WESTERNMOST_LONGITUDE = 334.483
END_OBJECT = IMAGE_MAP_PROJECTION
END
