PDS_VERSION_ID = PDS3
/* FILE DATA ELEMENTS */
RECORD_TYPE = UNDEFINED
/* POINTERS TO DATA OBJECTS */
^IMAGE = ("HL930_0000_P24.TIF")
/* IDENTIFICATION DATA ELEMENTS */
DATA_SET_ID = "MEX-M-HRSC-4-REFDR-MAPPROJECT-EXT8-V4.0"
DATA_SET_NAME = "MARS EXPRESS HRSC MAP PROJECTED REFDR EXTENSION8 V4.0"
DETECTOR_ID = MEX_HRSC_P2
EVENT_TYPE = "MARS-LOCAL-CARTOGRAPHY-Vo-Te-Fl"
INSTRUMENT_HOST_ID = MEX
INSTRUMENT_HOST_NAME = "MARS EXPRESS"
INSTRUMENT_ID = HRSC
INSTRUMENT_NAME = "HIGH RESOLUTION STEREO CAMERA"
MISSION_NAME = "MARS EXPRESS"
MISSION_PHASE_NAME = ME_Phase_44
PROCESSING_LEVEL_ID = 4
PRODUCT_CREATION_TIME = 2023-01-25T08:48:24.000Z
PRODUCT_ID = "HL930_0000_P24.TIF"
RELEASE_ID = 0001
REVISION_ID = 0000
/* QUALITY DATA ELEMENTS */
DATA_QUALITY_ID = 1
DATA_QUALITY_DESC = "Data calculated based on original SPICE kernels"
/* TIME DATA ELEMENTS */
SPACECRAFT_CLOCK_START_COUNT = "1/0568652614.23962"
SPACECRAFT_CLOCK_STOP_COUNT = "1/0568652897.12963"
START_TIME = 2021-05-09T15:05:14.708Z
STOP_TIME = 2021-05-09T15:08:37.001Z
/* ORBITAL DATA ELEMENTS */
ASCENDING_NODE_LONGITUDE = 164.5
MAXIMUM_RESOLUTION = 0.061
FOOTPRINT_POINT_LATITUDE = (30.6457,30.6679,30.6899,30.7184, 30.7191,30.7388,30.4715,30.2044,29.943, 29.6827,29.4226,29.162,28.9016,28.6411, 28.2503,27.9891,27.7275,27.4659,27.2037 ,26.9423,26.55,26.1558,25.8938,25.5026, 25.111,24.8499,24.5892,24.3272,23.9345, 23.6728,23.4111,23.1495,22.8878,22.6258 ,22.3637,22.1017,21.8393,21.5769, 21.3142,20.9205,20.6576,20.3953,20.1334 ,19.8718,19.61,19.3491,18.958,18.4395, 17.9223,17.7924,17.6645,17.6222,17.594, 17.5618,17.5609,17.5617,17.8224,18.2137 ,18.4747,18.7357,19.1277,19.389,19.6505 ,19.9123,20.1741,20.4359,20.698,21.0911 ,21.4844,21.7465,22.0086,22.2707, 22.5328,22.7948,23.0568,23.3177,23.5798 ,23.9726,24.236,24.6263,24.8883,25.1512 ,25.4139,25.8105,26.0728,26.3351, 26.5973,26.9908,27.384,27.906,28.1689, 28.6904,28.9518,29.2131,29.4746,29.7359 ,29.9974,30.3972,30.5314,30.6457)
FOOTPRINT_POINT_LONGITUDE = (232.866,232.365,231.843,231.122, 231.104,231.059,231.072,231.084,231.096 ,231.108,231.119,231.13,231.141,231.151 ,231.166,231.177,231.188,231.199, 231.211,231.221,231.236,231.254,231.264 ,231.275,231.286,231.294,231.3,231.309, 231.321,231.328,231.336,231.343,231.35, 231.358,231.365,231.373,231.38,231.388, 231.396,231.408,231.416,231.424,231.43, 231.436,231.442,231.447,231.453,231.455 ,231.456,231.457,231.459,232.066, 232.465,232.924,232.937,232.941,232.94, 232.939,232.938,232.937,232.935,232.934 ,232.933,232.932,232.93,232.929,232.927 ,232.925,232.923,232.921,232.919, 232.918,232.916,232.915,232.913,232.913 ,232.911,232.909,232.906,232.906, 232.905,232.902,232.9,232.893,232.891, 232.889,232.887,232.883,232.88,232.877, 232.873,232.87,232.868,232.865,232.863, 232.86,232.857,232.853,232.852,232.866)
ORBIT_NUMBER = 21930
ORBITAL_ECCENTRICITY = 0.575
ORBITAL_INCLINATION = 87.0
ORBITAL_SEMIMAJOR_AXIS = 8851.94
PERIAPSIS_ALTITUDE = 363.35
PERIAPSIS_ARGUMENT_ANGLE = 163.36
PERIAPSIS_TIME = 2021-05-09T15:08:29.000Z
SPACECRAFT_ORIENTATION = (0.0,-1.0,0.0)
^MEX_ORIENTATION_DESC = "MEX_ORIENTATION_DESC.TXT"
SPACECRAFT_POINTING_MODE = ACROSSTRACK
^MEX_POINTING_DESC = "MEX_POINTING_DESC.TXT"
RIGHT_ASCENSION = -1e+32
DECLINATION = -1e+32
OFFSET_ANGLE = -1.89
SPACECRAFT_SOLAR_DISTANCE = 2.46188e+08
TARGET_NAME = MARS
/* CAMERA DATA ELEMENTS */
DETECTOR_TEMPERATURE = 18.3705
FOCAL_PLANE_TEMPERATURE = 9.195
INST_CMPRS_NAME = "DISCRETE COSINE TRANSFORMATION (DCT)"
INST_CMPRS_RATIO = 4.40562
INST_CMPRS_QUALITY = 0
INST_CMPRS_QUANTZ_TBL_ID = 0
INSTRUMENT_TEMPERATURE = 11.6418
LENS_TEMPERATURE = 9.6028
MACROPIXEL_SIZE = 4
MISSING_FRAMES = 0
PIXEL_SUBSAMPLING_FLAG = N
SIGNAL_CHAIN_ID = 3
/* RADIOMETRIC DATA ELEMENTS */
BANDWIDTH = 177.0
CENTER_FILTER_WAVELENGTH = 676.5
RADIANCE_OFFSET = 2.01537
RADIANCE_SCALING_FACTOR = 0.0163519
REFLECTANCE_SCALING_FACTOR = 0.000525484
MEX:REFLECTANCE_OFFSET = 0.0647659
/* IMAGE OBJECT DEFINITIONS */
OBJECT = IMAGE
  INTERCHANGE_FORMAT = BINARY
  LINES = 15543
  LINE_SAMPLES = 2035
  SAMPLE_TYPE = UNSIGNED_INTEGER
  SAMPLE_BITS = 8
  BANDS = 1
  BAND_STORAGE_TYPE = BAND_SEQUENTIAL
  MAXIMUM = 255
  MEAN = 99.739
  MINIMUM = 1
  STANDARD_DEVIATION = 33.672
END_OBJECT = IMAGE
/* MAP OBJECT DEFINITIONS */
OBJECT = IMAGE_MAP_PROJECTION
  ^DATA_SET_MAP_PROJECTION_CATALOG= "DSMAP.CAT"
  A_AXIS_RADIUS = 3396.0
  B_AXIS_RADIUS = 3396.0
  C_AXIS_RADIUS = 3396.0
  CENTER_LATITUDE = 0.0
  CENTER_LONGITUDE = 232.0
  COORDINATE_SYSTEM_NAME = PLANETOGRAPHIC
  COORDINATE_SYSTEM_TYPE = "BODY-FIXED ROTATING"
  EASTERNMOST_LONGITUDE = 232.941
  FIRST_STANDARD_PARALLEL = "N/A"
  LINE_FIRST_PIXEL = 1
  LINE_LAST_PIXEL = 15543
  LINE_PROJECTION_OFFSET = 36427.375
  MAP_PROJECTION_ROTATION = 0.0
  MAP_PROJECTION_TYPE = SINUSOIDAL
  MAP_RESOLUTION = 1185.42760773333
  MAP_SCALE = 0.05
  MAXIMUM_LATITUDE = 30.7388
  MINIMUM_LATITUDE = 17.5609
  POSITIVE_LONGITUDE_DIRECTION = EAST
  REFERENCE_LATITUDE = "N/A"
  REFERENCE_LONGITUDE = "N/A"
  SAMPLE_FIRST_PIXEL = 1
  SAMPLE_LAST_PIXEL = 2035
  SAMPLE_PROJECTION_OFFSET = 966.375
  SECOND_STANDARD_PARALLEL = "N/A"
  WESTERNMOST_LONGITUDE = 231.059
END_OBJECT = IMAGE_MAP_PROJECTION
END
