PDS_VERSION_ID = PDS3
/* FILE DATA ELEMENTS */
RECORD_TYPE = UNDEFINED
/* POINTERS TO DATA OBJECTS */
^IMAGE = ("HL930_0000_RE4.TIF")
/* IDENTIFICATION DATA ELEMENTS */
DATA_SET_ID = "MEX-M-HRSC-4-REFDR-MAPPROJECT-EXT8-V4.0"
DATA_SET_NAME = "MARS EXPRESS HRSC MAP PROJECTED REFDR EXTENSION8 V4.0"
DETECTOR_ID = MEX_HRSC_RED
EVENT_TYPE = "MARS-LOCAL-CARTOGRAPHY-Vo-Te-Fl"
INSTRUMENT_HOST_ID = MEX
INSTRUMENT_HOST_NAME = "MARS EXPRESS"
INSTRUMENT_ID = HRSC
INSTRUMENT_NAME = "HIGH RESOLUTION STEREO CAMERA"
MISSION_NAME = "MARS EXPRESS"
MISSION_PHASE_NAME = ME_Phase_44
PROCESSING_LEVEL_ID = 4
PRODUCT_CREATION_TIME = 2023-01-25T08:48:24.000Z
PRODUCT_ID = "HL930_0000_RE4.TIF"
RELEASE_ID = 0001
REVISION_ID = 0000
/* QUALITY DATA ELEMENTS */
DATA_QUALITY_ID = 1
DATA_QUALITY_DESC = "Data calculated based on original SPICE kernels"
/* TIME DATA ELEMENTS */
SPACECRAFT_CLOCK_START_COUNT = "1/0568652614.23962"
SPACECRAFT_CLOCK_STOP_COUNT = "1/0568652897.12963"
START_TIME = 2021-05-09T15:05:21.064Z
STOP_TIME = 2021-05-09T15:08:42.937Z
/* ORBITAL DATA ELEMENTS */
ASCENDING_NODE_LONGITUDE = 164.5
MAXIMUM_RESOLUTION = 0.0619
FOOTPRINT_POINT_LATITUDE = (30.633,30.6634,30.6941,30.735,30.736, 30.7613,30.4975,30.2382,29.9784,29.5888 ,29.1997,28.9403,28.6808,28.2915, 28.0312,27.7706,27.3794,26.9871,26.5974 ,26.3369,26.0729,25.812,25.5549,25.2951 ,24.905,24.6456,24.3849,24.1247,23.8641 ,23.6038,23.3435,23.0833,22.8232, 22.5628,22.1713,21.7798,21.5188,21.1275 ,20.8662,20.6045,20.2139,19.824,19.5641 ,19.1758,18.9171,18.4038,17.8916, 17.7628,17.6797,17.6392,17.5854,17.5479 ,17.5468,17.5475,17.8059,18.1941,18.453 ,18.7119,18.9711,19.2305,19.4899, 19.7497,20.0096,20.2696,20.5297,20.9205 ,21.311,21.5714,21.832,22.2227,22.4833, 22.7436,23.0042,23.2639,23.5238,23.7851 ,24.0446,24.3064,24.5641,24.8249, 25.0866,25.4807,25.7442,26.0053,26.2666 ,26.5277,26.789,27.0502,27.3113,27.7029 ,28.0928,28.3525,28.743,29.0034,29.3942 ,29.6548,30.0459,30.4366,30.569,30.633)
FOOTPRINT_POINT_LONGITUDE = (232.859,232.359,231.838,231.117,231.1, 231.054,231.067,231.078,231.091,231.108 ,231.124,231.135,231.145,231.16,231.171 ,231.182,231.198,231.216,231.229, 231.238,231.253,231.263,231.267,231.274 ,231.286,231.293,231.301,231.309, 231.317,231.325,231.332,231.339,231.346 ,231.353,231.365,231.377,231.384, 231.396,231.404,231.412,231.422,231.431 ,231.437,231.443,231.447,231.449,231.45 ,231.451,231.452,231.905,232.501, 232.922,232.934,232.939,232.938,232.936 ,232.935,232.934,232.933,232.932, 232.931,232.929,232.928,232.926,232.925 ,232.922,232.92,232.918,232.917,232.914 ,232.913,232.911,232.909,232.908, 232.907,232.905,232.904,232.902,232.902 ,232.9,232.898,232.893,232.889,232.887, 232.884,232.882,232.879,232.877,232.874 ,232.871,232.868,232.866,232.863, 232.861,232.857,232.854,232.85,232.846, 232.844,232.859)
ORBIT_NUMBER = 21930
ORBITAL_ECCENTRICITY = 0.575
ORBITAL_INCLINATION = 87.0
ORBITAL_SEMIMAJOR_AXIS = 8851.94
PERIAPSIS_ALTITUDE = 363.35
PERIAPSIS_ARGUMENT_ANGLE = 163.36
PERIAPSIS_TIME = 2021-05-09T15:08:29.000Z
SPACECRAFT_ORIENTATION = (0.0,-1.0,0.0)
^MEX_ORIENTATION_DESC = "MEX_ORIENTATION_DESC.TXT"
SPACECRAFT_POINTING_MODE = ACROSSTRACK
^MEX_POINTING_DESC = "MEX_POINTING_DESC.TXT"
RIGHT_ASCENSION = -1e+32
DECLINATION = -1e+32
OFFSET_ANGLE = -1.89
SPACECRAFT_SOLAR_DISTANCE = 2.46188e+08
TARGET_NAME = MARS
/* CAMERA DATA ELEMENTS */
DETECTOR_TEMPERATURE = 18.3705
FOCAL_PLANE_TEMPERATURE = 9.195
INST_CMPRS_NAME = "DISCRETE COSINE TRANSFORMATION (DCT)"
INST_CMPRS_RATIO = 5.65806
INST_CMPRS_QUALITY = 0
INST_CMPRS_QUANTZ_TBL_ID = 0
INSTRUMENT_TEMPERATURE = 11.6418
LENS_TEMPERATURE = 9.6028
MACROPIXEL_SIZE = 4
MISSING_FRAMES = 0
PIXEL_SUBSAMPLING_FLAG = N
SIGNAL_CHAIN_ID = 2
/* RADIOMETRIC DATA ELEMENTS */
BANDWIDTH = 48.0
CENTER_FILTER_WAVELENGTH = 748.0
RADIANCE_OFFSET = 0.598676
RADIANCE_SCALING_FACTOR = 0.00545775
REFLECTANCE_SCALING_FACTOR = 0.000754875
MEX:REFLECTANCE_OFFSET = 0.0828043
/* IMAGE OBJECT DEFINITIONS */
OBJECT = IMAGE
  INTERCHANGE_FORMAT = BINARY
  LINES = 15543
  LINE_SAMPLES = 2035
  SAMPLE_TYPE = UNSIGNED_INTEGER
  SAMPLE_BITS = 8
  BANDS = 1
  BAND_STORAGE_TYPE = BAND_SEQUENTIAL
  MAXIMUM = 255
  MEAN = 84.3035
  MINIMUM = 1
  STANDARD_DEVIATION = 28.2554
END_OBJECT = IMAGE
/* MAP OBJECT DEFINITIONS */
OBJECT = IMAGE_MAP_PROJECTION
  ^DATA_SET_MAP_PROJECTION_CATALOG= "DSMAP.CAT"
  A_AXIS_RADIUS = 3396.0
  B_AXIS_RADIUS = 3396.0
  C_AXIS_RADIUS = 3396.0
  CENTER_LATITUDE = 0.0
  CENTER_LONGITUDE = 232.0
  COORDINATE_SYSTEM_NAME = PLANETOGRAPHIC
  COORDINATE_SYSTEM_TYPE = "BODY-FIXED ROTATING"
  EASTERNMOST_LONGITUDE = 232.939
  FIRST_STANDARD_PARALLEL = "N/A"
  LINE_FIRST_PIXEL = 1
  LINE_LAST_PIXEL = 15543
  LINE_PROJECTION_OFFSET = 36427.375
  MAP_PROJECTION_ROTATION = 0.0
  MAP_PROJECTION_TYPE = SINUSOIDAL
  MAP_RESOLUTION = 1185.42760773333
  MAP_SCALE = 0.05
  MAXIMUM_LATITUDE = 30.7613
  MINIMUM_LATITUDE = 17.5468
  POSITIVE_LONGITUDE_DIRECTION = EAST
  REFERENCE_LATITUDE = "N/A"
  REFERENCE_LONGITUDE = "N/A"
  SAMPLE_FIRST_PIXEL = 1
  SAMPLE_LAST_PIXEL = 2035
  SAMPLE_PROJECTION_OFFSET = 966.375
  SECOND_STANDARD_PARALLEL = "N/A"
  WESTERNMOST_LONGITUDE = 231.054
END_OBJECT = IMAGE_MAP_PROJECTION
END
