PDS_VERSION_ID = PDS3
/* FILE DATA ELEMENTS */
RECORD_TYPE = UNDEFINED
/* POINTERS TO DATA OBJECTS */
^IMAGE = ("HL935_0000_P14.TIF")
/* IDENTIFICATION DATA ELEMENTS */
DATA_SET_ID = "MEX-M-HRSC-4-REFDR-MAPPROJECT-EXT8-V4.0"
DATA_SET_NAME = "MARS EXPRESS HRSC MAP PROJECTED REFDR EXTENSION8 V4.0"
DETECTOR_ID = MEX_HRSC_P1
EVENT_TYPE = "MARS-LOCAL-CARTOGRAPHY-Im-Pf"
INSTRUMENT_HOST_ID = MEX
INSTRUMENT_HOST_NAME = "MARS EXPRESS"
INSTRUMENT_ID = HRSC
INSTRUMENT_NAME = "HIGH RESOLUTION STEREO CAMERA"
MISSION_NAME = "MARS EXPRESS"
MISSION_PHASE_NAME = ME_Phase_44
PROCESSING_LEVEL_ID = 4
PRODUCT_CREATION_TIME = 2023-01-25T08:48:24.000Z
PRODUCT_ID = "HL935_0000_P14.TIF"
RELEASE_ID = 0001
REVISION_ID = 0000
/* QUALITY DATA ELEMENTS */
DATA_QUALITY_ID = 1
DATA_QUALITY_DESC = "Data calculated based on original SPICE kernels"
/* TIME DATA ELEMENTS */
SPACECRAFT_CLOCK_START_COUNT = "1/0568778079.25676"
SPACECRAFT_CLOCK_STOP_COUNT = "1/0568778415.06754"
START_TIME = 2021-05-11T01:55:34.190Z
STOP_TIME = 2021-05-11T01:59:45.764Z
/* ORBITAL DATA ELEMENTS */
ASCENDING_NODE_LONGITUDE = 164.41
MAXIMUM_RESOLUTION = 0.0677
FOOTPRINT_POINT_LATITUDE = (44.975,44.9616,44.9465,44.9296,44.9107 ,44.8899,44.8517,44.8501,44.7918,44.458 ,44.1286,43.799,43.4743,42.9879,42.6671 ,42.3464,41.8713,41.5547,41.2428, 40.7747,40.3134,40.0053,39.7023,39.3989 ,39.0955,38.7974,38.4984,38.1999, 37.9065,37.6118,37.3167,37.0279,36.7387 ,36.4488,36.0191,35.7345,35.4491,35.165 ,34.886,34.6063,34.3254,34.0449,33.7703 ,33.4951,33.0821,32.807,31.996,31.4553, 30.926,30.2618,30.1285,30.0906,30.1128, 30.1359,30.1531,30.1535,30.1547,30.8208 ,31.4858,31.891,32.1628,32.8402,33.2533 ,33.5297,33.806,34.0814,34.3617,34.6433 ,34.9243,35.205,35.489,35.7754,36.0611, 36.3465,36.6373,37.0735,37.3639,37.6592 ,37.9548,38.2499,38.5489,38.8494, 39.1493,39.4532,39.7582,40.0626,40.5265 ,40.8358,41.3057,41.6195,42.0963, 42.4146,42.8979,43.2204,43.5481,43.8753 ,44.207,44.7054,44.8738,44.975)
FOOTPRINT_POINT_LONGITUDE = (83.5492,83.1486,82.7461,82.3408, 81.9335,81.5238,80.8514,80.8254,80.7587 ,80.796,80.8323,80.8682,80.9027,80.9527 ,80.9848,81.0162,81.0607,81.0895, 81.1175,81.1585,81.1978,81.2231,81.2472 ,81.2712,81.2945,81.3172,81.3392, 81.3609,81.3818,81.4018,81.4216,81.4407 ,81.4597,81.4782,81.5045,81.5217, 81.5382,81.5544,81.5706,81.5863,81.601, 81.6156,81.6298,81.6435,81.6644,81.6769 ,81.7135,81.7366,81.7594,81.7862, 81.7911,81.7924,82.3047,82.9342,83.4599 ,83.4752,83.4803,83.4843,83.4882, 83.4906,83.4922,83.4962,83.4986,83.5002 ,83.5018,83.5034,83.505,83.5066,83.5082 ,83.5098,83.5114,83.513,83.5145,83.5161 ,83.5177,83.5201,83.5216,83.5232, 83.5248,83.5263,83.5279,83.5294,83.531, 83.5325,83.534,83.5355,83.5378,83.5393, 83.5415,83.5429,83.5451,83.5465,83.5487 ,83.5501,83.5515,83.5528,83.5541, 83.5561,83.5567,83.5492)
ORBIT_NUMBER = 21935
ORBITAL_ECCENTRICITY = 0.575
ORBITAL_INCLINATION = 87.01
ORBITAL_SEMIMAJOR_AXIS = 8845.08
PERIAPSIS_ALTITUDE = 363.61
PERIAPSIS_ARGUMENT_ANGLE = 162.49
PERIAPSIS_TIME = 2021-05-11T02:03:28.000Z
SPACECRAFT_ORIENTATION = (0.0,-1.0,0.0)
^MEX_ORIENTATION_DESC = "MEX_ORIENTATION_DESC.TXT"
SPACECRAFT_POINTING_MODE = ACROSSTRACK
^MEX_POINTING_DESC = "MEX_POINTING_DESC.TXT"
RIGHT_ASCENSION = -1e+32
DECLINATION = -1e+32
OFFSET_ANGLE = -0.8
SPACECRAFT_SOLAR_DISTANCE = 2.46322e+08
TARGET_NAME = MARS
/* CAMERA DATA ELEMENTS */
DETECTOR_TEMPERATURE = 17.5549
FOCAL_PLANE_TEMPERATURE = 9.6028
INST_CMPRS_NAME = "DISCRETE COSINE TRANSFORMATION (DCT)"
INST_CMPRS_RATIO = 7.57766
INST_CMPRS_QUALITY = 0
INST_CMPRS_QUANTZ_TBL_ID = 0
INSTRUMENT_TEMPERATURE = 12.0496
LENS_TEMPERATURE = 9.8067
MACROPIXEL_SIZE = 4
MISSING_FRAMES = 0
PIXEL_SUBSAMPLING_FLAG = N
SIGNAL_CHAIN_ID = 3
/* RADIOMETRIC DATA ELEMENTS */
BANDWIDTH = 174.0
CENTER_FILTER_WAVELENGTH = 675.0
RADIANCE_OFFSET = 1.98965
RADIANCE_SCALING_FACTOR = 0.0107094
REFLECTANCE_SCALING_FACTOR = 0.000349505
MEX:REFLECTANCE_OFFSET = 0.064933
/* IMAGE OBJECT DEFINITIONS */
OBJECT = IMAGE
  INTERCHANGE_FORMAT = BINARY
  LINES = 17533
  LINE_SAMPLES = 2497
  SAMPLE_TYPE = UNSIGNED_INTEGER
  SAMPLE_BITS = 8
  BANDS = 1
  BAND_STORAGE_TYPE = BAND_SEQUENTIAL
  MAXIMUM = 255
  MEAN = 120.851
  MINIMUM = 1
  STANDARD_DEVIATION = 20.6315
END_OBJECT = IMAGE
/* MAP OBJECT DEFINITIONS */
OBJECT = IMAGE_MAP_PROJECTION
  ^DATA_SET_MAP_PROJECTION_CATALOG= "DSMAP.CAT"
  A_AXIS_RADIUS = 3396.0
  B_AXIS_RADIUS = 3396.0
  C_AXIS_RADIUS = 3396.0
  CENTER_LATITUDE = 0.0
  CENTER_LONGITUDE = 82.0
  COORDINATE_SYSTEM_NAME = PLANETOGRAPHIC
  COORDINATE_SYSTEM_TYPE = "BODY-FIXED ROTATING"
  EASTERNMOST_LONGITUDE = 83.55670000000001
  FIRST_STANDARD_PARALLEL = "N/A"
  LINE_FIRST_PIXEL = 1
  LINE_LAST_PIXEL = 17533
  LINE_PROJECTION_OFFSET = 53249.125
  MAP_PROJECTION_ROTATION = 0.0
  MAP_PROJECTION_TYPE = SINUSOIDAL
  MAP_RESOLUTION = 1185.42760773333
  MAP_SCALE = 0.05
  MAXIMUM_LATITUDE = 44.975
  MINIMUM_LATITUDE = 30.0906
  POSITIVE_LONGITUDE_DIRECTION = EAST
  REFERENCE_LATITUDE = "N/A"
  REFERENCE_LONGITUDE = "N/A"
  SAMPLE_FIRST_PIXEL = 1
  SAMPLE_LAST_PIXEL = 2497
  SAMPLE_PROJECTION_OFFSET = 998.125
  SECOND_STANDARD_PARALLEL = "N/A"
  WESTERNMOST_LONGITUDE = 80.7587
END_OBJECT = IMAGE_MAP_PROJECTION
END
