PDS_VERSION_ID = PDS3
/* FILE DATA ELEMENTS */
RECORD_TYPE = UNDEFINED
/* POINTERS TO DATA OBJECTS */
^IMAGE = ("HL935_0000_S14.TIF")
/* IDENTIFICATION DATA ELEMENTS */
DATA_SET_ID = "MEX-M-HRSC-4-REFDR-MAPPROJECT-EXT8-V4.0"
DATA_SET_NAME = "MARS EXPRESS HRSC MAP PROJECTED REFDR EXTENSION8 V4.0"
DETECTOR_ID = MEX_HRSC_S1
EVENT_TYPE = "MARS-LOCAL-CARTOGRAPHY-Im-Pf"
INSTRUMENT_HOST_ID = MEX
INSTRUMENT_HOST_NAME = "MARS EXPRESS"
INSTRUMENT_ID = HRSC
INSTRUMENT_NAME = "HIGH RESOLUTION STEREO CAMERA"
MISSION_NAME = "MARS EXPRESS"
MISSION_PHASE_NAME = ME_Phase_44
PROCESSING_LEVEL_ID = 4
PRODUCT_CREATION_TIME = 2023-01-25T08:48:24.000Z
PRODUCT_ID = "HL935_0000_S14.TIF"
RELEASE_ID = 0001
REVISION_ID = 0000
/* QUALITY DATA ELEMENTS */
DATA_QUALITY_ID = 1
DATA_QUALITY_DESC = "Data calculated based on original SPICE kernels"
/* TIME DATA ELEMENTS */
SPACECRAFT_CLOCK_START_COUNT = "1/0568778079.25676"
SPACECRAFT_CLOCK_STOP_COUNT = "1/0568778415.06754"
START_TIME = 2021-05-11T01:55:13.084Z
STOP_TIME = 2021-05-11T01:59:32.026Z
/* ORBITAL DATA ELEMENTS */
ASCENDING_NODE_LONGITUDE = 164.41
MAXIMUM_RESOLUTION = 0.0355
FOOTPRINT_POINT_LATITUDE = (45.0128,44.9951,44.9751,44.9527, 44.9279,44.9005,44.8586,44.8566,44.7682 ,44.2714,43.942,43.616,43.2904,42.9681, 42.6456,42.3273,42.0079,41.6931,41.2216 ,40.9109,40.4459,40.1392,39.6801, 39.3775,38.9244,38.6263,38.3275,38.0304 ,37.5887,37.2934,36.8586,36.5686, 36.2789,35.9939,35.708,35.279,34.9981, 34.7172,34.4353,34.0177,33.7408,33.4632 ,33.185,32.913,32.6405,32.3673,31.9573, 31.4217,30.8856,30.2239,30.092,30.0812, 30.1092,30.1435,30.1683,30.169,30.1698, 30.6959,31.2346,32.0407,32.3148,32.5891 ,32.8622,33.1352,33.5509,33.8295, 34.1074,34.3845,34.8087,35.0916,35.3737 ,35.8036,36.0905,36.3771,36.8136, 37.1049,37.5446,37.8407,38.1362,38.4346 ,38.7352,39.0348,39.4907,39.7946, 40.2562,40.5647,41.0326,41.3452,41.8191 ,42.1357,42.4568,42.7769,43.1017, 43.4264,43.754,44.083,44.4155,44.7478, 44.9162,45.0128)
FOOTPRINT_POINT_LONGITUDE = (83.5949,83.1632,82.7291,82.2922, 81.8532,81.4114,80.7985,80.7705,80.7033 ,80.7611,80.7987,80.8348,80.8702, 80.9042,80.9373,80.9695,81.0007,81.0306 ,81.0747,81.1028,81.1441,81.1703, 81.2087,81.2332,81.2693,81.2922,81.3149 ,81.3369,81.3683,81.3888,81.4184, 81.4379,81.4564,81.4746,81.4923,81.5177 ,81.5342,81.5508,81.5668,81.5892, 81.6039,81.6183,81.6324,81.6461,81.6593 ,81.6721,81.6908,81.7144,81.7382, 81.7656,81.7706,81.771,82.2465,82.9297, 83.4697,83.486,83.4918,83.4956,83.4995, 83.5054,83.5075,83.5095,83.5115,83.5135 ,83.5166,83.5187,83.5207,83.5228,83.526 ,83.5281,83.5302,83.5335,83.5356, 83.5378,83.5411,83.5433,83.5466,83.5489 ,83.5512,83.5534,83.5557,83.5581, 83.5616,83.5639,83.5675,83.5699,83.5735 ,83.576,83.5797,83.5822,83.5848,83.5874 ,83.5899,83.5926,83.5952,83.5979, 83.6005,83.6033,83.6046,83.5949)
ORBIT_NUMBER = 21935
ORBITAL_ECCENTRICITY = 0.575
ORBITAL_INCLINATION = 87.01
ORBITAL_SEMIMAJOR_AXIS = 8845.08
PERIAPSIS_ALTITUDE = 363.61
PERIAPSIS_ARGUMENT_ANGLE = 162.49
PERIAPSIS_TIME = 2021-05-11T02:03:28.000Z
SPACECRAFT_ORIENTATION = (0.0,-1.0,0.0)
^MEX_ORIENTATION_DESC = "MEX_ORIENTATION_DESC.TXT"
SPACECRAFT_POINTING_MODE = ACROSSTRACK
^MEX_POINTING_DESC = "MEX_POINTING_DESC.TXT"
RIGHT_ASCENSION = -1e+32
DECLINATION = -1e+32
OFFSET_ANGLE = -0.8
SPACECRAFT_SOLAR_DISTANCE = 2.46322e+08
TARGET_NAME = MARS
/* CAMERA DATA ELEMENTS */
DETECTOR_TEMPERATURE = 17.5549
FOCAL_PLANE_TEMPERATURE = 9.6028
INST_CMPRS_NAME = "DISCRETE COSINE TRANSFORMATION (DCT)"
INST_CMPRS_RATIO = 7.09566
INST_CMPRS_QUALITY = 0
INST_CMPRS_QUANTZ_TBL_ID = 0
INSTRUMENT_TEMPERATURE = 12.0496
LENS_TEMPERATURE = 9.8067
MACROPIXEL_SIZE = 2
MISSING_FRAMES = 0
PIXEL_SUBSAMPLING_FLAG = N
SIGNAL_CHAIN_ID = 1
/* RADIOMETRIC DATA ELEMENTS */
BANDWIDTH = 180.0
CENTER_FILTER_WAVELENGTH = 677.0
RADIANCE_OFFSET = 2.14488
RADIANCE_SCALING_FACTOR = 0.0110398
REFLECTANCE_SCALING_FACTOR = 0.000349468
MEX:REFLECTANCE_OFFSET = 0.0678967
/* IMAGE OBJECT DEFINITIONS */
OBJECT = IMAGE
  INTERCHANGE_FORMAT = BINARY
  LINES = 35065
  LINE_SAMPLES = 4994
  SAMPLE_TYPE = UNSIGNED_INTEGER
  SAMPLE_BITS = 8
  BANDS = 1
  BAND_STORAGE_TYPE = BAND_SEQUENTIAL
  MAXIMUM = 255
  MEAN = 124.921
  MINIMUM = 1
  STANDARD_DEVIATION = 22.0032
END_OBJECT = IMAGE
/* MAP OBJECT DEFINITIONS */
OBJECT = IMAGE_MAP_PROJECTION
  ^DATA_SET_MAP_PROJECTION_CATALOG= "DSMAP.CAT"
  A_AXIS_RADIUS = 3396.0
  B_AXIS_RADIUS = 3396.0
  C_AXIS_RADIUS = 3396.0
  CENTER_LATITUDE = 0.0
  CENTER_LONGITUDE = 82.0
  COORDINATE_SYSTEM_NAME = PLANETOGRAPHIC
  COORDINATE_SYSTEM_TYPE = "BODY-FIXED ROTATING"
  EASTERNMOST_LONGITUDE = 83.6046
  FIRST_STANDARD_PARALLEL = "N/A"
  LINE_FIRST_PIXEL = 1
  LINE_LAST_PIXEL = 35065
  LINE_PROJECTION_OFFSET = 106498.75
  MAP_PROJECTION_ROTATION = 0.0
  MAP_PROJECTION_TYPE = SINUSOIDAL
  MAP_RESOLUTION = 2370.85521546667
  MAP_SCALE = 0.025
  MAXIMUM_LATITUDE = 45.0128
  MINIMUM_LATITUDE = 30.0812
  POSITIVE_LONGITUDE_DIRECTION = EAST
  REFERENCE_LATITUDE = "N/A"
  REFERENCE_LONGITUDE = "N/A"
  SAMPLE_FIRST_PIXEL = 1
  SAMPLE_LAST_PIXEL = 4994
  SAMPLE_PROJECTION_OFFSET = 1996.75
  SECOND_STANDARD_PARALLEL = "N/A"
  WESTERNMOST_LONGITUDE = 80.7033
END_OBJECT = IMAGE_MAP_PROJECTION
END
