PDS_VERSION_ID = PDS3
/* FILE DATA ELEMENTS */
RECORD_TYPE = UNDEFINED
/* POINTERS TO DATA OBJECTS */
^IMAGE = ("HL938_0000_BL4.TIF")
/* IDENTIFICATION DATA ELEMENTS */
DATA_SET_ID = "MEX-M-HRSC-4-REFDR-MAPPROJECT-EXT8-V4.0"
DATA_SET_NAME = "MARS EXPRESS HRSC MAP PROJECTED REFDR EXTENSION8 V4.0"
DETECTOR_ID = MEX_HRSC_BLUE
EVENT_TYPE = "MARS-REGIONAL-MAPPING-Vo-Im-Mw"
INSTRUMENT_HOST_ID = MEX
INSTRUMENT_HOST_NAME = "MARS EXPRESS"
INSTRUMENT_ID = HRSC
INSTRUMENT_NAME = "HIGH RESOLUTION STEREO CAMERA"
MISSION_NAME = "MARS EXPRESS"
MISSION_PHASE_NAME = ME_Phase_44
PROCESSING_LEVEL_ID = 4
PRODUCT_CREATION_TIME = 2023-01-25T08:48:24.000Z
PRODUCT_ID = "HL938_0000_BL4.TIF"
RELEASE_ID = 0001
REVISION_ID = 0000
/* QUALITY DATA ELEMENTS */
DATA_QUALITY_ID = 1
DATA_QUALITY_DESC = "Data calculated based on original SPICE kernels"
/* TIME DATA ELEMENTS */
SPACECRAFT_CLOCK_START_COUNT = "1/0568853951.25687"
SPACECRAFT_CLOCK_STOP_COUNT = "1/0568854254.30631"
START_TIME = 2021-05-11T23:00:24.376Z
STOP_TIME = 2021-05-11T23:04:13.032Z
/* ORBITAL DATA ELEMENTS */
ASCENDING_NODE_LONGITUDE = 164.35
MAXIMUM_RESOLUTION = 0.0589
FOOTPRINT_POINT_LATITUDE = (18.5484,18.5533,18.5576,18.5622, 18.5623,18.5668,18.1811,17.6669,16.8958 ,16.3819,15.8684,15.4834,14.9701, 14.6699,14.364,14.0582,13.7524,13.4469, 13.1415,12.8363,12.5313,12.2263,11.9214 ,11.6168,11.3123,11.0081,10.704,10.4001 ,10.0964,9.79292,9.4896,9.18651,8.88369 ,8.58121,8.27886,7.82577,7.52418, 7.22275,6.92159,6.62062,6.32001,6.0197, 5.71968,5.41991,5.12036,4.8213,4.52246, 4.22397,4.07484,4.00179,3.99316,3.9801, 3.97093,3.97065,3.97154,4.27016,4.56908 ,4.86839,5.16799,5.46789,5.76804,6.0685 ,6.36914,6.67016,6.97145,7.27305, 7.57493,7.87704,8.17942,8.482,8.78477, 9.08783,9.39111,9.69466,10.1505,10.4546 ,10.7589,11.0633,11.3679,11.6728, 11.9777,12.283,12.5883,13.0467,13.3524, 13.6582,13.9641,14.2702,14.5765,15.0175 ,15.6596,16.431,16.8169,17.0742,17.3315 ,17.8461,18.1035,18.361,18.4897, 18.5484)
FOOTPRINT_POINT_LONGITUDE = (136.811,136.412,136.005,135.455, 135.442,135.415,135.417,135.419,135.423 ,135.425,135.425,135.425,135.426, 135.425,135.425,135.424,135.423,135.422 ,135.421,135.419,135.417,135.416, 135.414,135.412,135.41,135.408,135.405, 135.403,135.4,135.397,135.394,135.391, 135.388,135.384,135.38,135.374,135.37, 135.366,135.361,135.357,135.352,135.347 ,135.342,135.337,135.332,135.327, 135.321,135.316,135.313,135.311,135.717 ,136.332,136.758,136.771,136.776, 136.776,136.776,136.776,136.777,136.777 ,136.777,136.778,136.778,136.779, 136.779,136.78,136.78,136.781,136.781, 136.782,136.782,136.783,136.784,136.784 ,136.785,136.786,136.786,136.787, 136.788,136.789,136.789,136.79,136.791, 136.792,136.793,136.793,136.794,136.795 ,136.796,136.797,136.799,136.801, 136.802,136.802,136.803,136.804,136.805 ,136.806,136.806,136.811)
ORBIT_NUMBER = 21938
ORBITAL_ECCENTRICITY = 0.575
ORBITAL_INCLINATION = 86.99
ORBITAL_SEMIMAJOR_AXIS = 8840.8
PERIAPSIS_ALTITUDE = 364.79
PERIAPSIS_ARGUMENT_ANGLE = 162.0
PERIAPSIS_TIME = 2021-05-11T23:00:27.000Z
SPACECRAFT_ORIENTATION = (0.0,-1.0,0.0)
^MEX_ORIENTATION_DESC = "MEX_ORIENTATION_DESC.TXT"
SPACECRAFT_POINTING_MODE = ACROSSTRACK
^MEX_POINTING_DESC = "MEX_POINTING_DESC.TXT"
RIGHT_ASCENSION = -1e+32
DECLINATION = -1e+32
OFFSET_ANGLE = -1.0
SPACECRAFT_SOLAR_DISTANCE = 2.46401e+08
TARGET_NAME = MARS
/* CAMERA DATA ELEMENTS */
DETECTOR_TEMPERATURE = 18.5744
FOCAL_PLANE_TEMPERATURE = 9.3989
INST_CMPRS_NAME = "DISCRETE COSINE TRANSFORMATION (DCT)"
INST_CMPRS_RATIO = 3.08765
INST_CMPRS_QUALITY = 0
INST_CMPRS_QUANTZ_TBL_ID = 0
INSTRUMENT_TEMPERATURE = 11.6418
LENS_TEMPERATURE = 9.6028
MACROPIXEL_SIZE = 4
MISSING_FRAMES = 0
PIXEL_SUBSAMPLING_FLAG = N
SIGNAL_CHAIN_ID = 2
/* RADIOMETRIC DATA ELEMENTS */
BANDWIDTH = 76.0
CENTER_FILTER_WAVELENGTH = 444.0
RADIANCE_OFFSET = 0.283604
RADIANCE_SCALING_FACTOR = 0.0014829
REFLECTANCE_SCALING_FACTOR = 9.25019e-05
MEX:REFLECTANCE_OFFSET = 0.017691
/* IMAGE OBJECT DEFINITIONS */
OBJECT = IMAGE
  INTERCHANGE_FORMAT = BINARY
  LINES = 17299
  LINE_SAMPLES = 1735
  SAMPLE_TYPE = UNSIGNED_INTEGER
  SAMPLE_BITS = 8
  BANDS = 1
  BAND_STORAGE_TYPE = BAND_SEQUENTIAL
  MAXIMUM = 255
  MEAN = 104.415
  MINIMUM = 1
  STANDARD_DEVIATION = 33.3659
END_OBJECT = IMAGE
/* MAP OBJECT DEFINITIONS */
OBJECT = IMAGE_MAP_PROJECTION
  ^DATA_SET_MAP_PROJECTION_CATALOG= "DSMAP.CAT"
  A_AXIS_RADIUS = 3396.0
  B_AXIS_RADIUS = 3396.0
  C_AXIS_RADIUS = 3396.0
  CENTER_LATITUDE = 0.0
  CENTER_LONGITUDE = 136.0
  COORDINATE_SYSTEM_NAME = PLANETOGRAPHIC
  COORDINATE_SYSTEM_TYPE = "BODY-FIXED ROTATING"
  EASTERNMOST_LONGITUDE = 136.811
  FIRST_STANDARD_PARALLEL = "N/A"
  LINE_FIRST_PIXEL = 1
  LINE_LAST_PIXEL = 17299
  LINE_PROJECTION_OFFSET = 22002.875
  MAP_PROJECTION_ROTATION = 0.0
  MAP_PROJECTION_TYPE = SINUSOIDAL
  MAP_RESOLUTION = 1185.42760773333
  MAP_SCALE = 0.05
  MAXIMUM_LATITUDE = 18.5668
  MINIMUM_LATITUDE = 3.97065
  POSITIVE_LONGITUDE_DIRECTION = EAST
  REFERENCE_LATITUDE = "N/A"
  REFERENCE_LONGITUDE = "N/A"
  SAMPLE_FIRST_PIXEL = 1
  SAMPLE_LAST_PIXEL = 1735
  SAMPLE_PROJECTION_OFFSET = 820.375
  SECOND_STANDARD_PARALLEL = "N/A"
  WESTERNMOST_LONGITUDE = 135.311
END_OBJECT = IMAGE_MAP_PROJECTION
END
