PDS_VERSION_ID = PDS3
/* FILE DATA ELEMENTS */
RECORD_TYPE = UNDEFINED
/* POINTERS TO DATA OBJECTS */
^IMAGE = ("HL938_0000_IR4.TIF")
/* IDENTIFICATION DATA ELEMENTS */
DATA_SET_ID = "MEX-M-HRSC-4-REFDR-MAPPROJECT-EXT8-V4.0"
DATA_SET_NAME = "MARS EXPRESS HRSC MAP PROJECTED REFDR EXTENSION8 V4.0"
DETECTOR_ID = MEX_HRSC_IR
EVENT_TYPE = "MARS-REGIONAL-MAPPING-Vo-Im-Mw"
INSTRUMENT_HOST_ID = MEX
INSTRUMENT_HOST_NAME = "MARS EXPRESS"
INSTRUMENT_ID = HRSC
INSTRUMENT_NAME = "HIGH RESOLUTION STEREO CAMERA"
MISSION_NAME = "MARS EXPRESS"
MISSION_PHASE_NAME = ME_Phase_44
PROCESSING_LEVEL_ID = 4
PRODUCT_CREATION_TIME = 2023-01-25T08:48:24.000Z
PRODUCT_ID = "HL938_0000_IR4.TIF"
RELEASE_ID = 0001
REVISION_ID = 0000
/* QUALITY DATA ELEMENTS */
DATA_QUALITY_ID = 1
DATA_QUALITY_DESC = "Data calculated based on original SPICE kernels"
/* TIME DATA ELEMENTS */
SPACECRAFT_CLOCK_START_COUNT = "1/0568853951.25687"
SPACECRAFT_CLOCK_STOP_COUNT = "1/0568854254.30631"
START_TIME = 2021-05-11T22:59:50.938Z
STOP_TIME = 2021-05-11T23:03:36.153Z
/* ORBITAL DATA ELEMENTS */
ASCENDING_NODE_LONGITUDE = 164.35
MAXIMUM_RESOLUTION = 0.0614
FOOTPRINT_POINT_LATITUDE = (18.5952,18.5768,18.5565,18.5263, 18.5256,18.5005,17.8521,17.3335,16.8141 ,16.5544,16.2939,15.9034,15.6427, 15.2521,14.9918,14.7301,14.4688,14.2077 ,13.9463,13.6851,13.4232,13.0305, 12.7683,12.4652,12.1527,11.6834,11.2141 ,10.901,10.5879,10.2748,9.96144,9.64821 ,9.33507,9.0217,8.70795,8.23763,7.92279 ,7.45317,7.1395,6.82589,6.51266,6.19875 ,5.8851,5.41474,4.94453,4.47438,4.16093 ,4.00422,3.93658,3.94908,3.96541, 3.97992,3.98915,3.98955,3.99068,4.3044, 4.77495,5.08877,5.55952,5.87339,6.1877, 6.65908,6.9731,7.28699,7.601,8.07191, 8.386,8.70036,9.01434,9.32843,9.64227, 9.95593,10.426,10.7396,11.0536,11.5237, 11.8371,12.3068,12.6201,12.9087,13.1707 ,13.4329,13.6954,13.9575,14.2194, 14.4811,14.7427,15.0042,15.3959,15.6574 ,15.9176,16.1782,16.566,16.9598,17.3502 ,17.6104,17.8705,18.3901,18.52,18.5952)
FOOTPRINT_POINT_LONGITUDE = (136.811,136.41,135.999,135.444,135.43, 135.403,135.408,135.411,135.414,135.416 ,135.416,135.418,135.418,135.419,135.42 ,135.42,135.42,135.42,135.419,135.419, 135.419,135.417,135.416,135.415,135.414 ,135.411,135.409,135.407,135.405, 135.403,135.4,135.398,135.395,135.393, 135.389,135.384,135.38,135.375,135.371, 135.367,135.363,135.358,135.354,135.346 ,135.339,135.331,135.326,135.323, 135.322,135.623,136.054,136.463,136.734 ,136.747,136.752,136.752,136.754, 136.755,136.756,136.757,136.758,136.76, 136.761,136.762,136.763,136.764,136.766 ,136.767,136.768,136.769,136.77,136.771 ,136.773,136.774,136.776,136.778, 136.779,136.781,136.782,136.783,136.784 ,136.785,136.786,136.788,136.789,136.79 ,136.791,136.792,136.794,136.795, 136.796,136.797,136.798,136.8,136.802, 136.803,136.804,136.806,136.807, 136.811)
ORBIT_NUMBER = 21938
ORBITAL_ECCENTRICITY = 0.575
ORBITAL_INCLINATION = 86.99
ORBITAL_SEMIMAJOR_AXIS = 8840.8
PERIAPSIS_ALTITUDE = 364.79
PERIAPSIS_ARGUMENT_ANGLE = 162.0
PERIAPSIS_TIME = 2021-05-11T23:00:27.000Z
SPACECRAFT_ORIENTATION = (0.0,-1.0,0.0)
^MEX_ORIENTATION_DESC = "MEX_ORIENTATION_DESC.TXT"
SPACECRAFT_POINTING_MODE = ACROSSTRACK
^MEX_POINTING_DESC = "MEX_POINTING_DESC.TXT"
RIGHT_ASCENSION = -1e+32
DECLINATION = -1e+32
OFFSET_ANGLE = -1.0
SPACECRAFT_SOLAR_DISTANCE = 2.46401e+08
TARGET_NAME = MARS
/* CAMERA DATA ELEMENTS */
DETECTOR_TEMPERATURE = 17.351
FOCAL_PLANE_TEMPERATURE = 9.3989
INST_CMPRS_NAME = "DISCRETE COSINE TRANSFORMATION (DCT)"
INST_CMPRS_RATIO = 4.97631
INST_CMPRS_QUALITY = 0
INST_CMPRS_QUANTZ_TBL_ID = 0
INSTRUMENT_TEMPERATURE = 11.6418
LENS_TEMPERATURE = 9.6028
MACROPIXEL_SIZE = 4
MISSING_FRAMES = 0
PIXEL_SUBSAMPLING_FLAG = N
SIGNAL_CHAIN_ID = 2
/* RADIOMETRIC DATA ELEMENTS */
BANDWIDTH = 81.0
CENTER_FILTER_WAVELENGTH = 955.5
RADIANCE_OFFSET = 0.374519
RADIANCE_SCALING_FACTOR = 0.00332498
REFLECTANCE_SCALING_FACTOR = 0.000435511
MEX:REFLECTANCE_OFFSET = 0.0490551
/* IMAGE OBJECT DEFINITIONS */
OBJECT = IMAGE
  INTERCHANGE_FORMAT = BINARY
  LINES = 17299
  LINE_SAMPLES = 1735
  SAMPLE_TYPE = UNSIGNED_INTEGER
  SAMPLE_BITS = 8
  BANDS = 1
  BAND_STORAGE_TYPE = BAND_SEQUENTIAL
  MAXIMUM = 255
  MEAN = 90.1499
  MINIMUM = 1
  STANDARD_DEVIATION = 33.7095
END_OBJECT = IMAGE
/* MAP OBJECT DEFINITIONS */
OBJECT = IMAGE_MAP_PROJECTION
  ^DATA_SET_MAP_PROJECTION_CATALOG= "DSMAP.CAT"
  A_AXIS_RADIUS = 3396.0
  B_AXIS_RADIUS = 3396.0
  C_AXIS_RADIUS = 3396.0
  CENTER_LATITUDE = 0.0
  CENTER_LONGITUDE = 136.0
  COORDINATE_SYSTEM_NAME = PLANETOGRAPHIC
  COORDINATE_SYSTEM_TYPE = "BODY-FIXED ROTATING"
  EASTERNMOST_LONGITUDE = 136.811
  FIRST_STANDARD_PARALLEL = "N/A"
  LINE_FIRST_PIXEL = 1
  LINE_LAST_PIXEL = 17299
  LINE_PROJECTION_OFFSET = 22002.875
  MAP_PROJECTION_ROTATION = 0.0
  MAP_PROJECTION_TYPE = SINUSOIDAL
  MAP_RESOLUTION = 1185.42760773333
  MAP_SCALE = 0.05
  MAXIMUM_LATITUDE = 18.5952
  MINIMUM_LATITUDE = 3.93658
  POSITIVE_LONGITUDE_DIRECTION = EAST
  REFERENCE_LATITUDE = "N/A"
  REFERENCE_LONGITUDE = "N/A"
  SAMPLE_FIRST_PIXEL = 1
  SAMPLE_LAST_PIXEL = 1735
  SAMPLE_PROJECTION_OFFSET = 820.375
  SECOND_STANDARD_PARALLEL = "N/A"
  WESTERNMOST_LONGITUDE = 135.322
END_OBJECT = IMAGE_MAP_PROJECTION
END
