PDS_VERSION_ID = PDS3
/* FILE DATA ELEMENTS */
RECORD_TYPE = UNDEFINED
/* POINTERS TO DATA OBJECTS */
^IMAGE = ("HL938_0000_P14.TIF")
/* IDENTIFICATION DATA ELEMENTS */
DATA_SET_ID = "MEX-M-HRSC-4-REFDR-MAPPROJECT-EXT8-V4.0"
DATA_SET_NAME = "MARS EXPRESS HRSC MAP PROJECTED REFDR EXTENSION8 V4.0"
DETECTOR_ID = MEX_HRSC_P1
EVENT_TYPE = "MARS-REGIONAL-MAPPING-Vo-Im-Mw"
INSTRUMENT_HOST_ID = MEX
INSTRUMENT_HOST_NAME = "MARS EXPRESS"
INSTRUMENT_ID = HRSC
INSTRUMENT_NAME = "HIGH RESOLUTION STEREO CAMERA"
MISSION_NAME = "MARS EXPRESS"
MISSION_PHASE_NAME = ME_Phase_44
PROCESSING_LEVEL_ID = 4
PRODUCT_CREATION_TIME = 2023-01-25T08:48:24.000Z
PRODUCT_ID = "HL938_0000_P14.TIF"
RELEASE_ID = 0001
REVISION_ID = 0000
/* QUALITY DATA ELEMENTS */
DATA_QUALITY_ID = 1
DATA_QUALITY_DESC = "Data calculated based on original SPICE kernels"
/* TIME DATA ELEMENTS */
SPACECRAFT_CLOCK_START_COUNT = "1/0568853951.25687"
SPACECRAFT_CLOCK_STOP_COUNT = "1/0568854254.30631"
START_TIME = 2021-05-11T22:59:56.549Z
STOP_TIME = 2021-05-11T23:03:42.543Z
/* ORBITAL DATA ELEMENTS */
ASCENDING_NODE_LONGITUDE = 164.35
MAXIMUM_RESOLUTION = 0.0302
FOOTPRINT_POINT_LATITUDE = (18.5983,18.5832,18.5663,18.5435, 18.5429,18.5232,17.874,17.3544,16.8344, 16.4443,16.1833,15.9229,15.6621,15.4016 ,15.1412,14.7492,14.488,14.2269,13.9656 ,13.7045,13.4429,13.1814,12.7283, 12.4158,12.1036,11.7913,11.3227,10.8539 ,10.5413,10.229,9.9163,9.6038,9.29142, 8.9789,8.66611,8.19726,7.88345,7.4156, 7.10312,6.79073,6.32234,6.00997,5.69771 ,5.38577,5.07388,4.76171,4.44988, 4.13806,3.98218,3.93428,3.94467,3.95691 ,3.9726,3.97289,3.97351,4.28556,4.59779 ,4.90988,5.22209,5.69089,6.00334, 6.31633,6.62915,6.94202,7.25474,7.72403 ,8.03687,8.34986,8.66315,9.13275, 9.44586,9.91537,10.3843,10.8539,11.167, 11.4798,11.7927,12.2618,12.5746,12.8874 ,13.1918,13.4538,13.7159,13.9779, 14.2397,14.5013,14.7628,15.0243,15.4161 ,15.6776,15.938,16.1988,16.5876,16.9811 ,17.3719,17.6324,17.8928,18.4131, 18.5432,18.5983)
FOOTPRINT_POINT_LONGITUDE = (136.812,136.394,135.967,135.445, 135.431,135.403,135.407,135.41,135.413, 135.415,135.415,135.416,135.417,135.418 ,135.418,135.418,135.418,135.418, 135.418,135.418,135.417,135.416,135.414 ,135.413,135.411,135.41,135.407,135.404 ,135.402,135.4,135.397,135.395,135.392, 135.389,135.386,135.381,135.375,135.371 ,135.367,135.363,135.356,135.352, 135.347,135.342,135.337,135.332,135.327 ,135.321,135.318,135.317,135.661,136.11 ,136.738,136.751,136.756,136.757, 136.758,136.758,136.759,136.76,136.761, 136.762,136.763,136.764,136.765,136.767 ,136.768,136.769,136.77,136.771,136.772 ,136.774,136.776,136.777,136.779,136.78 ,136.781,136.783,136.784,136.785, 136.786,136.787,136.788,136.789,136.79, 136.791,136.792,136.793,136.795,136.796 ,136.797,136.798,136.799,136.801, 136.803,136.804,136.805,136.807,136.807 ,136.812)
ORBIT_NUMBER = 21938
ORBITAL_ECCENTRICITY = 0.575
ORBITAL_INCLINATION = 86.99
ORBITAL_SEMIMAJOR_AXIS = 8840.8
PERIAPSIS_ALTITUDE = 364.79
PERIAPSIS_ARGUMENT_ANGLE = 162.0
PERIAPSIS_TIME = 2021-05-11T23:00:27.000Z
SPACECRAFT_ORIENTATION = (0.0,-1.0,0.0)
^MEX_ORIENTATION_DESC = "MEX_ORIENTATION_DESC.TXT"
SPACECRAFT_POINTING_MODE = ACROSSTRACK
^MEX_POINTING_DESC = "MEX_POINTING_DESC.TXT"
RIGHT_ASCENSION = -1e+32
DECLINATION = -1e+32
OFFSET_ANGLE = -1.0
SPACECRAFT_SOLAR_DISTANCE = 2.46401e+08
TARGET_NAME = MARS
/* CAMERA DATA ELEMENTS */
DETECTOR_TEMPERATURE = 17.351
FOCAL_PLANE_TEMPERATURE = 9.3989
INST_CMPRS_NAME = "DISCRETE COSINE TRANSFORMATION (DCT)"
INST_CMPRS_RATIO = 7.67236
INST_CMPRS_QUALITY = 0
INST_CMPRS_QUANTZ_TBL_ID = 0
INSTRUMENT_TEMPERATURE = 11.6418
LENS_TEMPERATURE = 9.6028
MACROPIXEL_SIZE = 2
MISSING_FRAMES = 0
PIXEL_SUBSAMPLING_FLAG = N
SIGNAL_CHAIN_ID = 3
/* RADIOMETRIC DATA ELEMENTS */
BANDWIDTH = 174.0
CENTER_FILTER_WAVELENGTH = 675.0
RADIANCE_OFFSET = 1.53337
RADIANCE_SCALING_FACTOR = 0.0120925
REFLECTANCE_SCALING_FACTOR = 0.000394898
MEX:REFLECTANCE_OFFSET = 0.0500744
/* IMAGE OBJECT DEFINITIONS */
OBJECT = IMAGE
  INTERCHANGE_FORMAT = BINARY
  LINES = 34597
  LINE_SAMPLES = 3469
  SAMPLE_TYPE = UNSIGNED_INTEGER
  SAMPLE_BITS = 8
  BANDS = 1
  BAND_STORAGE_TYPE = BAND_SEQUENTIAL
  MAXIMUM = 255
  MEAN = 85.3469
  MINIMUM = 1
  STANDARD_DEVIATION = 32.1093
END_OBJECT = IMAGE
/* MAP OBJECT DEFINITIONS */
OBJECT = IMAGE_MAP_PROJECTION
  ^DATA_SET_MAP_PROJECTION_CATALOG= "DSMAP.CAT"
  A_AXIS_RADIUS = 3396.0
  B_AXIS_RADIUS = 3396.0
  C_AXIS_RADIUS = 3396.0
  CENTER_LATITUDE = 0.0
  CENTER_LONGITUDE = 136.0
  COORDINATE_SYSTEM_NAME = PLANETOGRAPHIC
  COORDINATE_SYSTEM_TYPE = "BODY-FIXED ROTATING"
  EASTERNMOST_LONGITUDE = 136.812
  FIRST_STANDARD_PARALLEL = "N/A"
  LINE_FIRST_PIXEL = 1
  LINE_LAST_PIXEL = 34597
  LINE_PROJECTION_OFFSET = 44006.25
  MAP_PROJECTION_ROTATION = 0.0
  MAP_PROJECTION_TYPE = SINUSOIDAL
  MAP_RESOLUTION = 2370.85521546667
  MAP_SCALE = 0.025
  MAXIMUM_LATITUDE = 18.5983
  MINIMUM_LATITUDE = 3.93428
  POSITIVE_LONGITUDE_DIRECTION = EAST
  REFERENCE_LATITUDE = "N/A"
  REFERENCE_LONGITUDE = "N/A"
  SAMPLE_FIRST_PIXEL = 1
  SAMPLE_LAST_PIXEL = 3469
  SAMPLE_PROJECTION_OFFSET = 1641.25
  SECOND_STANDARD_PARALLEL = "N/A"
  WESTERNMOST_LONGITUDE = 135.317
END_OBJECT = IMAGE_MAP_PROJECTION
END
