PDS_VERSION_ID = PDS3
/* FILE DATA ELEMENTS */
RECORD_TYPE = UNDEFINED
/* POINTERS TO DATA OBJECTS */
^IMAGE = ("HL963_0000_P14.TIF")
/* IDENTIFICATION DATA ELEMENTS */
DATA_SET_ID = "MEX-M-HRSC-4-REFDR-MAPPROJECT-EXT8-V4.0"
DATA_SET_NAME = "MARS EXPRESS HRSC MAP PROJECTED REFDR EXTENSION8 V4.0"
DETECTOR_ID = MEX_HRSC_P1
EVENT_TYPE = "MARS-REGIONAL-MAPPING-Te-Fl-Mw"
INSTRUMENT_HOST_ID = MEX
INSTRUMENT_HOST_NAME = "MARS EXPRESS"
INSTRUMENT_ID = HRSC
INSTRUMENT_NAME = "HIGH RESOLUTION STEREO CAMERA"
MISSION_NAME = "MARS EXPRESS"
MISSION_PHASE_NAME = ME_Phase_44
PROCESSING_LEVEL_ID = 4
PRODUCT_CREATION_TIME = 2023-01-25T08:48:24.000Z
PRODUCT_ID = "HL963_0000_P14.TIF"
RELEASE_ID = 0001
REVISION_ID = 0000
/* QUALITY DATA ELEMENTS */
DATA_QUALITY_ID = 1
DATA_QUALITY_DESC = "Data calculated based on original SPICE kernels"
/* TIME DATA ELEMENTS */
SPACECRAFT_CLOCK_START_COUNT = "1/0569482522.23971"
SPACECRAFT_CLOCK_STOP_COUNT = "1/0569482812.07363"
START_TIME = 2021-05-19T05:36:07.328Z
STOP_TIME = 2021-05-19T05:39:35.573Z
/* ORBITAL DATA ELEMENTS */
ASCENDING_NODE_LONGITUDE = 163.9
MAXIMUM_RESOLUTION = 0.0305
FOOTPRINT_POINT_LATITUDE = (18.1924,18.1956,18.1978,18.1978, 18.1977,18.1773,17.8278,17.5946,17.3613 ,17.1278,16.895,16.6614,16.4284,16.1951 ,15.9617,15.7287,15.4906,15.2118, 14.7937,14.5151,14.2359,13.9573,13.539, 13.2603,12.9822,12.5652,12.2863,11.8667 ,11.5886,11.1743,10.8961,10.6138, 10.3322,9.91581,9.63629,9.35616,8.93894 ,8.66071,8.3831,7.96639,7.54858,7.13227 ,6.71585,6.29973,6.02212,5.74482, 5.46314,5.17052,4.88635,4.73992,4.73472 ,4.73204,4.72728,4.72156,4.71829, 4.71807,4.71851,5.14856,5.44189,5.72414 ,6.0017,6.28023,6.69889,6.97614,7.39291 ,7.80899,8.08638,8.36495,8.64418, 8.92265,9.20079,9.47857,9.76058,10.0405 ,10.3219,10.6005,11.0167,11.2933, 11.5733,11.9935,12.2716,12.6886,13.1067 ,13.5253,13.9436,14.2229,14.6398, 15.0598,15.3388,15.6004,15.834,16.1839, 16.5346,16.8844,17.1178,17.468,17.8178, 18.0512,18.1679,18.1924)
FOOTPRINT_POINT_LONGITUDE = (104.662,104.258,103.712,103.334, 103.321,103.306,103.305,103.305,103.304 ,103.302,103.301,103.3,103.299,103.298, 103.296,103.295,103.293,103.291,103.287 ,103.285,103.282,103.28,103.275,103.273 ,103.27,103.266,103.262,103.256,103.253 ,103.249,103.245,103.239,103.233, 103.229,103.224,103.219,103.212,103.207 ,103.202,103.195,103.186,103.178,103.17 ,103.161,103.155,103.149,103.143, 103.137,103.13,103.127,103.127,103.454, 103.881,104.337,104.579,104.594,104.599 ,104.6,104.601,104.602,104.602,104.603, 104.603,104.604,104.606,104.608,104.609 ,104.61,104.611,104.612,104.614,104.615 ,104.615,104.616,104.618,104.619, 104.622,104.625,104.626,104.628,104.63, 104.633,104.636,104.638,104.641,104.643 ,104.646,104.648,104.65,104.652,104.654 ,104.657,104.659,104.662,104.664, 104.666,104.669,104.671,104.672, 104.662)
ORBIT_NUMBER = 21963
ORBITAL_ECCENTRICITY = 0.575
ORBITAL_INCLINATION = 87.0
ORBITAL_SEMIMAJOR_AXIS = 8839.67
PERIAPSIS_ALTITUDE = 366.71
PERIAPSIS_ARGUMENT_ANGLE = 157.67
PERIAPSIS_TIME = 2021-05-19T05:35:25.000Z
SPACECRAFT_ORIENTATION = (0.0,-1.0,0.0)
^MEX_ORIENTATION_DESC = "MEX_ORIENTATION_DESC.TXT"
SPACECRAFT_POINTING_MODE = NADIR
^MEX_POINTING_DESC = "MEX_POINTING_DESC.TXT"
RIGHT_ASCENSION = -1e+32
DECLINATION = -1e+32
OFFSET_ANGLE = -1e+32
SPACECRAFT_SOLAR_DISTANCE = 2.47016e+08
TARGET_NAME = MARS
/* CAMERA DATA ELEMENTS */
DETECTOR_TEMPERATURE = 17.5549
FOCAL_PLANE_TEMPERATURE = 8.5833
INST_CMPRS_NAME = "DISCRETE COSINE TRANSFORMATION (DCT)"
INST_CMPRS_RATIO = 4.27458
INST_CMPRS_QUALITY = 0
INST_CMPRS_QUANTZ_TBL_ID = 0
INSTRUMENT_TEMPERATURE = 11.234
LENS_TEMPERATURE = 8.5833
MACROPIXEL_SIZE = 2
PIXEL_SUBSAMPLING_FLAG = N
SIGNAL_CHAIN_ID = 3
/* RADIOMETRIC DATA ELEMENTS */
BANDWIDTH = 174.0
CENTER_FILTER_WAVELENGTH = 675.0
RADIANCE_OFFSET = 1.63447
RADIANCE_SCALING_FACTOR = 0.0111013
REFLECTANCE_SCALING_FACTOR = 0.000364343
MEX:REFLECTANCE_OFFSET = 0.053643
/* IMAGE OBJECT DEFINITIONS */
OBJECT = IMAGE
  INTERCHANGE_FORMAT = BINARY
  LINES = 31930
  LINE_SAMPLES = 3630
  SAMPLE_TYPE = UNSIGNED_INTEGER
  SAMPLE_BITS = 8
  BANDS = 1
  BAND_STORAGE_TYPE = BAND_SEQUENTIAL
  MAXIMUM = 255
  MEAN = 108.868
  MINIMUM = 1
  STANDARD_DEVIATION = 28.7324
END_OBJECT = IMAGE
/* MAP OBJECT DEFINITIONS */
OBJECT = IMAGE_MAP_PROJECTION
  ^DATA_SET_MAP_PROJECTION_CATALOG= "DSMAP.CAT"
  A_AXIS_RADIUS = 3396.0
  B_AXIS_RADIUS = 3396.0
  C_AXIS_RADIUS = 3396.0
  CENTER_LATITUDE = 0.0
  CENTER_LONGITUDE = 104.0
  COORDINATE_SYSTEM_NAME = PLANETOGRAPHIC
  COORDINATE_SYSTEM_TYPE = "BODY-FIXED ROTATING"
  EASTERNMOST_LONGITUDE = 104.672
  FIRST_STANDARD_PARALLEL = "N/A"
  LINE_FIRST_PIXEL = 1
  LINE_LAST_PIXEL = 31930
  LINE_PROJECTION_OFFSET = 43128.75
  MAP_PROJECTION_ROTATION = 0.0
  MAP_PROJECTION_TYPE = SINUSOIDAL
  MAP_RESOLUTION = 2370.85521546667
  MAP_SCALE = 0.025
  MAXIMUM_LATITUDE = 18.1978
  MINIMUM_LATITUDE = 4.71807
  POSITIVE_LONGITUDE_DIRECTION = EAST
  REFERENCE_LATITUDE = "N/A"
  REFERENCE_LONGITUDE = "N/A"
  SAMPLE_FIRST_PIXEL = 1
  SAMPLE_LAST_PIXEL = 3630
  SAMPLE_PROJECTION_OFFSET = 2112.25
  SECOND_STANDARD_PARALLEL = "N/A"
  WESTERNMOST_LONGITUDE = 103.127
END_OBJECT = IMAGE_MAP_PROJECTION
END
