PDS_VERSION_ID = PDS3
/* FILE DATA ELEMENTS */
RECORD_TYPE = UNDEFINED
/* POINTERS TO DATA OBJECTS */
^IMAGE = ("HL963_0000_RE4.TIF")
/* IDENTIFICATION DATA ELEMENTS */
DATA_SET_ID = "MEX-M-HRSC-4-REFDR-MAPPROJECT-EXT8-V4.0"
DATA_SET_NAME = "MARS EXPRESS HRSC MAP PROJECTED REFDR EXTENSION8 V4.0"
DETECTOR_ID = MEX_HRSC_RED
EVENT_TYPE = "MARS-REGIONAL-MAPPING-Te-Fl-Mw"
INSTRUMENT_HOST_ID = MEX
INSTRUMENT_HOST_NAME = "MARS EXPRESS"
INSTRUMENT_ID = HRSC
INSTRUMENT_NAME = "HIGH RESOLUTION STEREO CAMERA"
MISSION_NAME = "MARS EXPRESS"
MISSION_PHASE_NAME = ME_Phase_44
PROCESSING_LEVEL_ID = 4
PRODUCT_CREATION_TIME = 2023-01-25T08:48:24.000Z
PRODUCT_ID = "HL963_0000_RE4.TIF"
RELEASE_ID = 0001
REVISION_ID = 0000
/* QUALITY DATA ELEMENTS */
DATA_QUALITY_ID = 1
DATA_QUALITY_DESC = "Data calculated based on original SPICE kernels"
/* TIME DATA ELEMENTS */
SPACECRAFT_CLOCK_START_COUNT = "1/0569482522.23971"
SPACECRAFT_CLOCK_STOP_COUNT = "1/0569482812.07363"
START_TIME = 2021-05-19T05:36:57.329Z
STOP_TIME = 2021-05-19T05:40:35.980Z
/* ORBITAL DATA ELEMENTS */
ASCENDING_NODE_LONGITUDE = 163.9
MAXIMUM_RESOLUTION = 0.0631
FOOTPRINT_POINT_LATITUDE = (18.1721,18.1742,18.1771,18.1804, 18.1805,18.2064,17.9358,17.6655,17.3958 ,17.1266,16.8566,16.5876,16.184,15.9156 ,15.5128,15.2455,14.9777,14.711,14.4442 ,14.1781,13.9119,13.5134,13.2481, 12.9817,12.7166,12.4507,12.1899,11.9264 ,11.5314,11.2637,11.0003,10.4847, 10.0894,9.82679,9.31068,8.89745,8.63054 ,8.36549,8.1013,7.83819,7.56727,7.29753 ,6.89271,6.48898,6.21456,5.80295, 5.52854,5.25473,4.97497,4.83538,4.75896 ,4.75003,4.74464,4.73595,4.73579, 4.73678,5.01719,5.29572,5.57029,5.84454 ,6.25537,6.661,6.9314,7.20156,7.47322, 7.87701,8.14265,8.53936,8.80462,9.0875, 9.35109,9.86771,10.2598,10.5217,10.7862 ,11.1809,11.4451,11.9684,12.2335, 12.4991,12.7644,13.1622,13.4278,13.6938 ,14.0928,14.359,14.6276,15.0273,15.2949 ,15.6973,16.1009,16.3694,16.6386, 16.9087,17.1784,17.4486,17.7193,17.9893 ,18.1249,18.1721)
FOOTPRINT_POINT_LONGITUDE = (104.673,104.329,103.856,103.32,103.307 ,103.294,103.293,103.291,103.289, 103.287,103.285,103.283,103.28,103.277, 103.274,103.271,103.268,103.265,103.262 ,103.259,103.256,103.25,103.247,103.244 ,103.24,103.237,103.232,103.228,103.221 ,103.219,103.215,103.203,103.197, 103.193,103.181,103.173,103.168,103.162 ,103.156,103.15,103.144,103.138,103.128 ,103.119,103.112,103.101,103.094, 103.087,103.08,103.076,103.074,103.603, 103.999,104.631,104.645,104.65,104.65, 104.65,104.65,104.649,104.648,104.647, 104.648,104.648,104.648,104.648,104.649 ,104.649,104.649,104.649,104.65,104.649 ,104.65,104.651,104.653,104.654,104.655 ,104.655,104.657,104.658,104.659, 104.661,104.662,104.663,104.664,104.665 ,104.667,104.668,104.669,104.671, 104.673,104.674,104.675,104.677,104.678 ,104.68,104.681,104.683,104.683, 104.673)
ORBIT_NUMBER = 21963
ORBITAL_ECCENTRICITY = 0.575
ORBITAL_INCLINATION = 87.0
ORBITAL_SEMIMAJOR_AXIS = 8839.67
PERIAPSIS_ALTITUDE = 366.71
PERIAPSIS_ARGUMENT_ANGLE = 157.67
PERIAPSIS_TIME = 2021-05-19T05:35:25.000Z
SPACECRAFT_ORIENTATION = (0.0,-1.0,0.0)
^MEX_ORIENTATION_DESC = "MEX_ORIENTATION_DESC.TXT"
SPACECRAFT_POINTING_MODE = NADIR
^MEX_POINTING_DESC = "MEX_POINTING_DESC.TXT"
RIGHT_ASCENSION = -1e+32
DECLINATION = -1e+32
OFFSET_ANGLE = -1e+32
SPACECRAFT_SOLAR_DISTANCE = 2.47016e+08
TARGET_NAME = MARS
/* CAMERA DATA ELEMENTS */
DETECTOR_TEMPERATURE = 18.5744
FOCAL_PLANE_TEMPERATURE = 8.5833
INST_CMPRS_NAME = "DISCRETE COSINE TRANSFORMATION (DCT)"
INST_CMPRS_RATIO = 5.46542
INST_CMPRS_QUALITY = 0
INST_CMPRS_QUANTZ_TBL_ID = 0
INSTRUMENT_TEMPERATURE = 11.234
LENS_TEMPERATURE = 8.5833
MACROPIXEL_SIZE = 4
PIXEL_SUBSAMPLING_FLAG = N
SIGNAL_CHAIN_ID = 2
/* RADIOMETRIC DATA ELEMENTS */
BANDWIDTH = 48.0
CENTER_FILTER_WAVELENGTH = 748.0
RADIANCE_OFFSET = 0.437476
RADIANCE_SCALING_FACTOR = 0.00323323
REFLECTANCE_SCALING_FACTOR = 0.000450209
MEX:REFLECTANCE_OFFSET = 0.060916
/* IMAGE OBJECT DEFINITIONS */
OBJECT = IMAGE
  INTERCHANGE_FORMAT = BINARY
  LINES = 15965
  LINE_SAMPLES = 1815
  SAMPLE_TYPE = UNSIGNED_INTEGER
  SAMPLE_BITS = 8
  BANDS = 1
  BAND_STORAGE_TYPE = BAND_SEQUENTIAL
  MAXIMUM = 255
  MEAN = 108.487
  MINIMUM = 1
  STANDARD_DEVIATION = 27.3717
END_OBJECT = IMAGE
/* MAP OBJECT DEFINITIONS */
OBJECT = IMAGE_MAP_PROJECTION
  ^DATA_SET_MAP_PROJECTION_CATALOG= "DSMAP.CAT"
  A_AXIS_RADIUS = 3396.0
  B_AXIS_RADIUS = 3396.0
  C_AXIS_RADIUS = 3396.0
  CENTER_LATITUDE = 0.0
  CENTER_LONGITUDE = 104.0
  COORDINATE_SYSTEM_NAME = PLANETOGRAPHIC
  COORDINATE_SYSTEM_TYPE = "BODY-FIXED ROTATING"
  EASTERNMOST_LONGITUDE = 104.683
  FIRST_STANDARD_PARALLEL = "N/A"
  LINE_FIRST_PIXEL = 1
  LINE_LAST_PIXEL = 15965
  LINE_PROJECTION_OFFSET = 21564.125
  MAP_PROJECTION_ROTATION = 0.0
  MAP_PROJECTION_TYPE = SINUSOIDAL
  MAP_RESOLUTION = 1185.42760773333
  MAP_SCALE = 0.05
  MAXIMUM_LATITUDE = 18.2064
  MINIMUM_LATITUDE = 4.73579
  POSITIVE_LONGITUDE_DIRECTION = EAST
  REFERENCE_LATITUDE = "N/A"
  REFERENCE_LONGITUDE = "N/A"
  SAMPLE_FIRST_PIXEL = 1
  SAMPLE_LAST_PIXEL = 1815
  SAMPLE_PROJECTION_OFFSET = 1055.875
  SECOND_STANDARD_PARALLEL = "N/A"
  WESTERNMOST_LONGITUDE = 103.074
END_OBJECT = IMAGE_MAP_PROJECTION
END
