PDS_VERSION_ID = PDS3
/* FILE DATA ELEMENTS */
RECORD_TYPE = UNDEFINED
/* POINTERS TO DATA OBJECTS */
^IMAGE = ("HL976_0000_S24.TIF")
/* IDENTIFICATION DATA ELEMENTS */
DATA_SET_ID = "MEX-M-HRSC-4-REFDR-MAPPROJECT-EXT8-V4.0"
DATA_SET_NAME = "MARS EXPRESS HRSC MAP PROJECTED REFDR EXTENSION8 V4.0"
DETECTOR_ID = MEX_HRSC_S2
EVENT_TYPE = "MARS-LOCAL-CARTOGRAPHY-Vo-Te-Mw"
INSTRUMENT_HOST_ID = MEX
INSTRUMENT_HOST_NAME = "MARS EXPRESS"
INSTRUMENT_ID = HRSC
INSTRUMENT_NAME = "HIGH RESOLUTION STEREO CAMERA"
MISSION_NAME = "MARS EXPRESS"
MISSION_PHASE_NAME = ME_Phase_44
PROCESSING_LEVEL_ID = 4
PRODUCT_CREATION_TIME = 2023-01-25T08:48:24.000Z
PRODUCT_ID = "HL976_0000_S24.TIF"
RELEASE_ID = 0001
REVISION_ID = 0000
/* QUALITY DATA ELEMENTS */
DATA_QUALITY_ID = 1
DATA_QUALITY_DESC = "Data calculated based on original SPICE kernels"
/* TIME DATA ELEMENTS */
SPACECRAFT_CLOCK_START_COUNT = "1/0569809021.24886"
SPACECRAFT_CLOCK_STOP_COUNT = "1/0569809361.22823"
START_TIME = 2021-05-23T00:18:52.840Z
STOP_TIME = 2021-05-23T00:23:13.068Z
/* ORBITAL DATA ELEMENTS */
ASCENDING_NODE_LONGITUDE = 163.67
MAXIMUM_RESOLUTION = 0.0316
FOOTPRINT_POINT_LATITUDE = (38.9339,38.9263,38.9156,38.9154, 38.9894,38.4325,37.8755,37.5041,37.1329 ,36.7617,36.2049,35.834,35.463,35.092, 34.7211,34.1646,33.6083,33.2361,32.8636 ,32.3059,31.9362,31.5663,31.1968, 30.8238,30.4537,30.1015,29.7916,29.4833 ,29.1721,28.7084,28.2479,27.7866,27.325 ,27.0168,26.5561,26.2511,25.7939,25.487 ,25.1782,24.7218,24.2621,23.9565,23.653 ,23.3503,23.0447,22.7417,22.288,22.1289 ,22.1179,22.1148,22.1116,22.1125, 22.1127,22.1132,22.5761,22.8799,23.1824 ,23.4864,23.7911,24.0959,24.4016, 24.7067,25.0132,25.4727,25.7796,26.3951 ,26.8545,27.1592,27.4675,27.7758, 28.0839,28.5475,29.0093,29.3174,29.6274 ,29.9382,30.2592,30.629,31.0045,31.3733 ,31.7447,32.1134,32.4845,33.0418, 33.4158,33.7877,34.1544,34.5263,34.9016 ,35.4639,35.8358,36.2074,36.5794, 36.9513,37.5092,38.0672,38.4392,38.8109 ,38.9967,38.9339)
FOOTPRINT_POINT_LONGITUDE = (217.207,216.322,215.438,215.421, 215.384,215.41,215.434,215.449,215.464, 215.478,215.498,215.511,215.524,215.536 ,215.547,215.564,215.58,215.59,215.6, 215.615,215.623,215.631,215.638,215.647 ,215.654,215.661,215.666,215.671, 215.677,215.684,215.689,215.694,215.699 ,215.703,215.707,215.709,215.712, 215.714,215.717,215.718,215.721,215.722 ,215.723,215.723,215.724,215.724, 215.723,215.723,215.723,216.082,216.687 ,217.129,217.143,217.148,217.149, 217.151,217.152,217.153,217.154,217.156 ,217.157,217.159,217.16,217.163,217.164 ,217.168,217.17,217.171,217.172,217.174 ,217.176,217.178,217.18,217.182,217.183 ,217.186,217.188,217.19,217.194,217.195 ,217.198,217.199,217.201,217.204, 217.207,217.209,217.209,217.211,217.214 ,217.219,217.221,217.222,217.224, 217.226,217.228,217.231,217.232,217.234 ,217.234,217.207)
ORBIT_NUMBER = 21976
ORBITAL_ECCENTRICITY = 0.574
ORBITAL_INCLINATION = 87.01
ORBITAL_SEMIMAJOR_AXIS = 8834.69
PERIAPSIS_ALTITUDE = 368.27
PERIAPSIS_ARGUMENT_ANGLE = 155.41
PERIAPSIS_TIME = 2021-05-23T00:22:01.000Z
SPACECRAFT_ORIENTATION = (0.0,-1.0,0.0)
^MEX_ORIENTATION_DESC = "MEX_ORIENTATION_DESC.TXT"
SPACECRAFT_POINTING_MODE = NADIR
^MEX_POINTING_DESC = "MEX_POINTING_DESC.TXT"
RIGHT_ASCENSION = -1e+32
DECLINATION = -1e+32
OFFSET_ANGLE = -1e+32
SPACECRAFT_SOLAR_DISTANCE = 2.47307e+08
TARGET_NAME = MARS
/* CAMERA DATA ELEMENTS */
DETECTOR_TEMPERATURE = 17.7588
FOCAL_PLANE_TEMPERATURE = 9.3989
INST_CMPRS_NAME = "DISCRETE COSINE TRANSFORMATION (DCT)"
INST_CMPRS_RATIO = 7.53875
INST_CMPRS_QUALITY = 0
INST_CMPRS_QUANTZ_TBL_ID = 0
INSTRUMENT_TEMPERATURE = 11.234
LENS_TEMPERATURE = 9.6028
MACROPIXEL_SIZE = 2
MISSING_FRAMES = 0
PIXEL_SUBSAMPLING_FLAG = N
SIGNAL_CHAIN_ID = 1
/* RADIOMETRIC DATA ELEMENTS */
BANDWIDTH = 178.0
CENTER_FILTER_WAVELENGTH = 679.0
RADIANCE_OFFSET = 2.8906
RADIANCE_SCALING_FACTOR = 0.0157128
REFLECTANCE_SCALING_FACTOR = 0.000508929
MEX:REFLECTANCE_OFFSET = 0.0936248
/* IMAGE OBJECT DEFINITIONS */
OBJECT = IMAGE
  INTERCHANGE_FORMAT = BINARY
  LINES = 40066
  LINE_SAMPLES = 3671
  SAMPLE_TYPE = UNSIGNED_INTEGER
  SAMPLE_BITS = 8
  BANDS = 1
  BAND_STORAGE_TYPE = BAND_SEQUENTIAL
  MAXIMUM = 255
  MEAN = 108.82
  MINIMUM = 1
  STANDARD_DEVIATION = 31.715
END_OBJECT = IMAGE
/* MAP OBJECT DEFINITIONS */
OBJECT = IMAGE_MAP_PROJECTION
  ^DATA_SET_MAP_PROJECTION_CATALOG= "DSMAP.CAT"
  A_AXIS_RADIUS = 3396.0
  B_AXIS_RADIUS = 3396.0
  C_AXIS_RADIUS = 3396.0
  CENTER_LATITUDE = 0.0
  CENTER_LONGITUDE = 216.0
  COORDINATE_SYSTEM_NAME = PLANETOGRAPHIC
  COORDINATE_SYSTEM_TYPE = "BODY-FIXED ROTATING"
  EASTERNMOST_LONGITUDE = 217.234
  FIRST_STANDARD_PARALLEL = "N/A"
  LINE_FIRST_PIXEL = 1
  LINE_LAST_PIXEL = 40066
  LINE_PROJECTION_OFFSET = 92428.25
  MAP_PROJECTION_ROTATION = 0.0
  MAP_PROJECTION_TYPE = SINUSOIDAL
  MAP_RESOLUTION = 2370.85521546667
  MAP_SCALE = 0.025
  MAXIMUM_LATITUDE = 38.9967
  MINIMUM_LATITUDE = 22.1116
  POSITIVE_LONGITUDE_DIRECTION = EAST
  REFERENCE_LATITUDE = "N/A"
  REFERENCE_LONGITUDE = "N/A"
  SAMPLE_FIRST_PIXEL = 1
  SAMPLE_LAST_PIXEL = 3671
  SAMPLE_PROJECTION_OFFSET = 1177.75
  SECOND_STANDARD_PARALLEL = "N/A"
  WESTERNMOST_LONGITUDE = 215.384
END_OBJECT = IMAGE_MAP_PROJECTION
END
