PDS_VERSION_ID = PDS3
/* FILE DATA ELEMENTS */
RECORD_TYPE = UNDEFINED
/* POINTERS TO DATA OBJECTS */
^IMAGE = ("HL990_0000_IR4.TIF")
/* IDENTIFICATION DATA ELEMENTS */
DATA_SET_ID = "MEX-M-HRSC-4-REFDR-MAPPROJECT-EXT8-V4.0"
DATA_SET_NAME = "MARS EXPRESS HRSC MAP PROJECTED REFDR EXTENSION8 V4.0"
DETECTOR_ID = MEX_HRSC_IR
EVENT_TYPE = "MARS-LOCAL-CARTOGRAPHY-Vo-Gl-Mw"
INSTRUMENT_HOST_ID = MEX
INSTRUMENT_HOST_NAME = "MARS EXPRESS"
INSTRUMENT_ID = HRSC
INSTRUMENT_NAME = "HIGH RESOLUTION STEREO CAMERA"
MISSION_NAME = "MARS EXPRESS"
MISSION_PHASE_NAME = ME_Phase_44
PROCESSING_LEVEL_ID = 4
PRODUCT_CREATION_TIME = 2023-01-25T08:48:24.000Z
PRODUCT_ID = "HL990_0000_IR4.TIF"
RELEASE_ID = 0001
REVISION_ID = 0000
/* QUALITY DATA ELEMENTS */
DATA_QUALITY_ID = 1
DATA_QUALITY_DESC = "Data calculated based on original SPICE kernels"
/* TIME DATA ELEMENTS */
SPACECRAFT_CLOCK_START_COUNT = "1/0570161057.24869"
SPACECRAFT_CLOCK_STOP_COUNT = "1/0570161514.42219"
START_TIME = 2021-05-27T02:04:57.723Z
STOP_TIME = 2021-05-27T02:11:13.696Z
/* ORBITAL DATA ELEMENTS */
ASCENDING_NODE_LONGITUDE = 163.41
MAXIMUM_RESOLUTION = 0.0594
FOOTPRINT_POINT_LATITUDE = (35.5763,35.5151,35.4665,35.4652, 35.4203,34.7189,34.2513,33.7832,33.3148 ,32.8435,32.1376,31.6666,30.9588, 30.2466,29.5376,29.0448,28.3285,27.6111 ,27.1299,26.4077,25.9236,25.2012, 24.7203,24.2383,23.5152,23.0456,22.5935 ,22.1127,21.631,21.1508,20.4336,19.9579 ,19.4815,19.0018,18.5206,18.037,17.5485 ,17.0588,16.5669,16.071,15.5733,15.0732 ,14.5623,14.0651,13.3184,12.8264, 12.3396,11.8534,11.6102,11.3694,11.4005 ,11.436,11.4365,11.4378,11.9246,12.4116 ,12.8989,13.3892,13.89,14.3998,14.8999, 15.4037,15.9083,16.4093,17.1575,17.6475 ,18.3659,18.8587,19.3347,19.8055, 20.5188,20.9978,21.4789,21.9585,22.4401 ,22.9216,23.8443,24.3263,24.81,25.2929, 25.7761,26.2577,26.7416,27.4637,27.9443 ,28.665,29.1456,29.8729,30.3494,30.824, 31.5358,32.2451,32.7179,33.1897,33.6606 ,34.1309,34.6031,35.0721,35.3062, 35.5763)
FOOTPRINT_POINT_LONGITUDE = (226.154,225.145,224.456,224.439, 224.388,224.422,224.445,224.468,224.49, 224.509,224.54,224.56,224.589,224.614, 224.642,224.657,224.677,224.697,224.707 ,224.721,224.727,224.741,224.751, 224.759,224.772,224.793,224.831,224.84, 224.848,224.857,224.872,224.885,224.896 ,224.904,224.91,224.913,224.911,224.907 ,224.9,224.889,224.876,224.86,224.833, 224.819,224.797,224.786,224.781,224.775 ,224.772,224.769,225.408,226.242, 226.255,226.26,226.259,226.259,226.259, 226.259,226.261,226.266,226.268,226.272 ,226.275,226.278,226.281,226.281, 226.277,226.278,226.274,226.269,226.263 ,226.26,226.257,226.254,226.251,226.248 ,226.232,226.229,226.227,226.225, 226.223,226.22,226.218,226.214,226.211, 226.207,226.204,226.198,226.194,226.19, 226.184,226.177,226.173,226.168,226.164 ,226.159,226.155,226.15,226.147, 226.154)
ORBIT_NUMBER = 21990
ORBITAL_ECCENTRICITY = 0.574
ORBITAL_INCLINATION = 87.01
ORBITAL_SEMIMAJOR_AXIS = 8835.6
PERIAPSIS_ALTITUDE = 369.3
PERIAPSIS_ARGUMENT_ANGLE = 152.98
PERIAPSIS_TIME = 2021-05-27T02:07:41.000Z
SPACECRAFT_ORIENTATION = (0.0,-1.0,0.0)
^MEX_ORIENTATION_DESC = "MEX_ORIENTATION_DESC.TXT"
SPACECRAFT_POINTING_MODE = ACROSSTRACK
^MEX_POINTING_DESC = "MEX_POINTING_DESC.TXT"
RIGHT_ASCENSION = -1e+32
DECLINATION = -1e+32
OFFSET_ANGLE = -1.078
SPACECRAFT_SOLAR_DISTANCE = 2.47599e+08
TARGET_NAME = MARS
/* CAMERA DATA ELEMENTS */
DETECTOR_TEMPERATURE = 17.351
FOCAL_PLANE_TEMPERATURE = 8.7872
INST_CMPRS_NAME = "DISCRETE COSINE TRANSFORMATION (DCT)"
INST_CMPRS_RATIO = 5.33483
INST_CMPRS_QUALITY = 0
INST_CMPRS_QUANTZ_TBL_ID = 0
INSTRUMENT_TEMPERATURE = 11.4379
LENS_TEMPERATURE = 8.9911
MACROPIXEL_SIZE = 4
PIXEL_SUBSAMPLING_FLAG = N
SIGNAL_CHAIN_ID = 2
/* RADIOMETRIC DATA ELEMENTS */
BANDWIDTH = 81.0
CENTER_FILTER_WAVELENGTH = 955.5
RADIANCE_OFFSET = 0.313464
RADIANCE_SCALING_FACTOR = 0.00692489
REFLECTANCE_SCALING_FACTOR = 0.000915874
MEX:REFLECTANCE_OFFSET = 0.0414582
/* IMAGE OBJECT DEFINITIONS */
OBJECT = IMAGE
  INTERCHANGE_FORMAT = BINARY
  LINES = 28568
  LINE_SAMPLES = 1875
  SAMPLE_TYPE = UNSIGNED_INTEGER
  SAMPLE_BITS = 8
  BANDS = 1
  BAND_STORAGE_TYPE = BAND_SEQUENTIAL
  MAXIMUM = 255
  MEAN = 135.015
  MINIMUM = 1
  STANDARD_DEVIATION = 25.4148
END_OBJECT = IMAGE
/* MAP OBJECT DEFINITIONS */
OBJECT = IMAGE_MAP_PROJECTION
  ^DATA_SET_MAP_PROJECTION_CATALOG= "DSMAP.CAT"
  A_AXIS_RADIUS = 3396.0
  B_AXIS_RADIUS = 3396.0
  C_AXIS_RADIUS = 3396.0
  CENTER_LATITUDE = 0.0
  CENTER_LONGITUDE = 226.0
  COORDINATE_SYSTEM_NAME = PLANETOGRAPHIC
  COORDINATE_SYSTEM_TYPE = "BODY-FIXED ROTATING"
  EASTERNMOST_LONGITUDE = 226.281
  FIRST_STANDARD_PARALLEL = "N/A"
  LINE_FIRST_PIXEL = 1
  LINE_LAST_PIXEL = 28568
  LINE_PROJECTION_OFFSET = 42095.875
  MAP_PROJECTION_ROTATION = 0.0
  MAP_PROJECTION_TYPE = SINUSOIDAL
  MAP_RESOLUTION = 1185.42760773333
  MAP_SCALE = 0.05
  MAXIMUM_LATITUDE = 35.5763
  MINIMUM_LATITUDE = 11.3694
  POSITIVE_LONGITUDE_DIRECTION = EAST
  REFERENCE_LATITUDE = "N/A"
  REFERENCE_LONGITUDE = "N/A"
  SAMPLE_FIRST_PIXEL = 1
  SAMPLE_LAST_PIXEL = 1875
  SAMPLE_PROJECTION_OFFSET = 1541.875
  SECOND_STANDARD_PARALLEL = "N/A"
  WESTERNMOST_LONGITUDE = 224.388
END_OBJECT = IMAGE_MAP_PROJECTION
END
