PDS_VERSION_ID = PDS3
/* FILE DATA ELEMENTS */
RECORD_TYPE = UNDEFINED
/* POINTERS TO DATA OBJECTS */
^IMAGE = ("HL990_0000_ND4.TIF")
/* IDENTIFICATION DATA ELEMENTS */
DATA_SET_ID = "MEX-M-HRSC-4-REFDR-MAPPROJECT-EXT8-V4.0"
DATA_SET_NAME = "MARS EXPRESS HRSC MAP PROJECTED REFDR EXTENSION8 V4.0"
DETECTOR_ID = MEX_HRSC_NADIR
EVENT_TYPE = "MARS-LOCAL-CARTOGRAPHY-Vo-Gl-Mw"
INSTRUMENT_HOST_ID = MEX
INSTRUMENT_HOST_NAME = "MARS EXPRESS"
INSTRUMENT_ID = HRSC
INSTRUMENT_NAME = "HIGH RESOLUTION STEREO CAMERA"
MISSION_NAME = "MARS EXPRESS"
MISSION_PHASE_NAME = ME_Phase_44
PROCESSING_LEVEL_ID = 4
PRODUCT_CREATION_TIME = 2023-01-25T08:48:24.000Z
PRODUCT_ID = "HL990_0000_ND4.TIF"
RELEASE_ID = 0001
REVISION_ID = 0000
/* QUALITY DATA ELEMENTS */
DATA_QUALITY_ID = 1
DATA_QUALITY_DESC = "Data calculated based on original SPICE kernels"
/* TIME DATA ELEMENTS */
SPACECRAFT_CLOCK_START_COUNT = "1/0570161057.24869"
SPACECRAFT_CLOCK_STOP_COUNT = "1/0570161514.42219"
START_TIME = 2021-05-27T02:05:28.072Z
STOP_TIME = 2021-05-27T02:11:45.078Z
/* ORBITAL DATA ELEMENTS */
ASCENDING_NODE_LONGITUDE = 163.41
MAXIMUM_RESOLUTION = 0.0144
FOOTPRINT_POINT_LATITUDE = (35.511,35.4927,35.4777,35.4773,35.4763 ,34.9978,34.5189,34.0396,33.5599, 33.0798,32.5994,32.1186,31.6376,30.8831 ,30.4014,29.6784,29.1962,28.4726, 27.7488,27.2662,26.5422,26.0596,25.5769 ,24.8531,24.3706,23.8883,23.4061, 22.9218,22.4397,21.958,21.4766,20.9954, 20.5145,20.0338,19.5535,19.0736,18.5941 ,18.115,17.6365,17.1585,16.681,15.7278, 14.777,14.0657,13.1193,12.6387,12.1543, 11.6708,11.4293,11.4237,11.4127,11.4125 ,11.4127,11.8967,12.3814,13.1056, 14.0533,15.0036,15.9562,16.9111,17.3895 ,17.8688,18.3483,18.8281,19.3086, 19.7897,20.271,20.7526,21.2345,21.7167, 22.1991,22.6817,23.1649,23.6504,24.1335 ,24.6168,25.1002,25.5837,26.0672, 26.5508,27.0343,27.518,28.0015,28.485, 28.9684,29.4517,29.935,30.418,30.9008, 31.4159,31.8983,32.3804,32.8623,33.3438 ,33.825,34.3058,34.7862,35.2662,35.5061 ,35.511)
FOOTPRINT_POINT_LONGITUDE = (226.139,225.091,224.477,224.459, 224.402,224.424,224.447,224.469,224.491 ,224.511,224.531,224.551,224.571, 224.601,224.617,224.644,224.658,224.678 ,224.696,224.706,224.719,224.727, 224.735,224.748,224.755,224.763,224.771 ,224.802,224.829,224.838,224.845, 224.853,224.862,224.876,224.886,224.894 ,224.9,224.902,224.9,224.896,224.889, 224.865,224.834,224.802,224.775,224.766 ,224.76,224.753,224.75,224.749,226.26, 226.275,226.282,226.281,226.28,226.278, 226.281,226.284,226.289,226.293,226.293 ,226.289,226.287,226.287,226.284, 226.278,226.273,226.269,226.266,226.262 ,226.259,226.256,226.248,226.238, 226.234,226.231,226.228,226.226,226.223 ,226.219,226.217,226.213,226.209, 226.206,226.202,226.198,226.192,226.188 ,226.183,226.177,226.172,226.167, 226.161,226.155,226.149,226.144,226.138 ,226.132,226.129,226.139)
ORBIT_NUMBER = 21990
ORBITAL_ECCENTRICITY = 0.574
ORBITAL_INCLINATION = 87.01
ORBITAL_SEMIMAJOR_AXIS = 8835.6
PERIAPSIS_ALTITUDE = 369.3
PERIAPSIS_ARGUMENT_ANGLE = 152.98
PERIAPSIS_TIME = 2021-05-27T02:07:41.000Z
SPACECRAFT_ORIENTATION = (0.0,-1.0,0.0)
^MEX_ORIENTATION_DESC = "MEX_ORIENTATION_DESC.TXT"
SPACECRAFT_POINTING_MODE = ACROSSTRACK
^MEX_POINTING_DESC = "MEX_POINTING_DESC.TXT"
RIGHT_ASCENSION = -1e+32
DECLINATION = -1e+32
OFFSET_ANGLE = -1.078
SPACECRAFT_SOLAR_DISTANCE = 2.47599e+08
TARGET_NAME = MARS
/* CAMERA DATA ELEMENTS */
DETECTOR_TEMPERATURE = 18.5744
FOCAL_PLANE_TEMPERATURE = 8.7872
INST_CMPRS_NAME = "DISCRETE COSINE TRANSFORMATION (DCT)"
INST_CMPRS_RATIO = 5.06922
INST_CMPRS_QUALITY = 0
INST_CMPRS_QUANTZ_TBL_ID = 0
INSTRUMENT_TEMPERATURE = 11.4379
LENS_TEMPERATURE = 8.9911
MACROPIXEL_SIZE = 1
MISSING_FRAMES = 17
PIXEL_SUBSAMPLING_FLAG = N
SIGNAL_CHAIN_ID = 0
/* RADIOMETRIC DATA ELEMENTS */
BANDWIDTH = 177.0
CENTER_FILTER_WAVELENGTH = 677.5
RADIANCE_OFFSET = 1.02558
RADIANCE_SCALING_FACTOR = 0.0244407
REFLECTANCE_SCALING_FACTOR = 0.000795967
MEX:REFLECTANCE_OFFSET = 0.0334004
/* IMAGE OBJECT DEFINITIONS */
OBJECT = IMAGE
  INTERCHANGE_FORMAT = BINARY
  LINES = 114271
  LINE_SAMPLES = 7498
  SAMPLE_TYPE = UNSIGNED_INTEGER
  SAMPLE_BITS = 8
  BANDS = 1
  BAND_STORAGE_TYPE = BAND_SEQUENTIAL
  MAXIMUM = 255
  MEAN = 129.953
  MINIMUM = 1
  STANDARD_DEVIATION = 26.3155
END_OBJECT = IMAGE
/* MAP OBJECT DEFINITIONS */
OBJECT = IMAGE_MAP_PROJECTION
  ^DATA_SET_MAP_PROJECTION_CATALOG= "DSMAP.CAT"
  A_AXIS_RADIUS = 3396.0
  B_AXIS_RADIUS = 3396.0
  C_AXIS_RADIUS = 3396.0
  CENTER_LATITUDE = 0.0
  CENTER_LONGITUDE = 226.0
  COORDINATE_SYSTEM_NAME = PLANETOGRAPHIC
  COORDINATE_SYSTEM_TYPE = "BODY-FIXED ROTATING"
  EASTERNMOST_LONGITUDE = 226.293
  FIRST_STANDARD_PARALLEL = "N/A"
  LINE_FIRST_PIXEL = 1
  LINE_LAST_PIXEL = 114271
  LINE_PROJECTION_OFFSET = 168385.0
  MAP_PROJECTION_ROTATION = 0.0
  MAP_PROJECTION_TYPE = SINUSOIDAL
  MAP_RESOLUTION = 4741.71043093333
  MAP_SCALE = 0.0125
  MAXIMUM_LATITUDE = 35.511
  MINIMUM_LATITUDE = 11.4125
  POSITIVE_LONGITUDE_DIRECTION = EAST
  REFERENCE_LATITUDE = "N/A"
  REFERENCE_LONGITUDE = "N/A"
  SAMPLE_FIRST_PIXEL = 1
  SAMPLE_LAST_PIXEL = 7498
  SAMPLE_PROJECTION_OFFSET = 6169.0
  SECOND_STANDARD_PARALLEL = "N/A"
  WESTERNMOST_LONGITUDE = 224.402
END_OBJECT = IMAGE_MAP_PROJECTION
END
