PDS_VERSION_ID = PDS3
/* FILE DATA ELEMENTS */
RECORD_TYPE = UNDEFINED
/* POINTERS TO DATA OBJECTS */
^IMAGE = ("HL991_0000_IR4.TIF")
/* IDENTIFICATION DATA ELEMENTS */
DATA_SET_ID = "MEX-M-HRSC-4-REFDR-MAPPROJECT-EXT8-V4.0"
DATA_SET_NAME = "MARS EXPRESS HRSC MAP PROJECTED REFDR EXTENSION8 V4.0"
DETECTOR_ID = MEX_HRSC_IR
EVENT_TYPE = "MARS-REGIONAL-MAPPING-Im-Fl-Mw"
INSTRUMENT_HOST_ID = MEX
INSTRUMENT_HOST_NAME = "MARS EXPRESS"
INSTRUMENT_ID = HRSC
INSTRUMENT_NAME = "HIGH RESOLUTION STEREO CAMERA"
MISSION_NAME = "MARS EXPRESS"
MISSION_PHASE_NAME = ME_Phase_44
PROCESSING_LEVEL_ID = 4
PRODUCT_CREATION_TIME = 2023-01-25T08:48:24.000Z
PRODUCT_ID = "HL991_0000_IR4.TIF"
RELEASE_ID = 0001
REVISION_ID = 0000
/* QUALITY DATA ELEMENTS */
DATA_QUALITY_ID = 1
DATA_QUALITY_DESC = "Data calculated based on original SPICE kernels"
/* TIME DATA ELEMENTS */
SPACECRAFT_CLOCK_START_COUNT = "1/0570186575.25690"
SPACECRAFT_CLOCK_STOP_COUNT = "1/0570186949.52579"
START_TIME = 2021-05-27T09:10:15.793Z
STOP_TIME = 2021-05-27T09:14:27.419Z
/* ORBITAL DATA ELEMENTS */
ASCENDING_NODE_LONGITUDE = 163.39
MAXIMUM_RESOLUTION = 0.0694
FOOTPRINT_POINT_LATITUDE = (11.7088,11.6718,11.6314,11.5726, 11.5711,11.5497,10.8098,10.4104,9.87972 ,9.14305,8.73465,8.19068,7.77564, 7.49908,7.08074,6.80196,6.52001,6.23631 ,5.95203,5.66802,5.38132,5.09158, 4.65845,4.37212,4.08106,3.78292,3.48541 ,3.19079,2.88952,2.59095,2.14269, 1.68712,1.22787,0.767291,0.139478, -0.336861,-0.655568,-0.967491,-1.29018, -1.61556,-2.10576,-2.43566,-2.93044, -3.43533,-3.77256,-4.11487,-4.28581, -4.40445,-4.37896,-4.35488,-4.3235, -4.30175,-4.3009,-4.29924,-3.61552, -3.1098,-2.77303,-2.4429,-2.11124, -1.78141,-1.45832,-1.13091,-0.807455, -0.330385,-0.0120316,0.30343,0.616027, 0.928542,1.23308,1.53732,1.84649, 2.14625,2.45228,2.75526,3.0592,3.35766, 3.65514,3.95283,4.24924,4.53923,4.83022 ,5.12078,5.41147,5.69717,5.98025, 6.26565,6.69073,6.97515,7.25299,7.53158 ,7.94896,8.22797,8.50145,9.31841, 10.0569,10.5879,11.0139,11.4651,11.5989 ,11.7088)
FOOTPRINT_POINT_LONGITUDE = (123.194,122.743,122.271,121.619, 121.603,121.572,121.567,121.563,121.558 ,121.55,121.545,121.537,121.532,121.529 ,121.521,121.515,121.51,121.505,121.5, 121.494,121.485,121.478,121.471,121.47, 121.462,121.452,121.443,121.437,121.424 ,121.421,121.414,121.402,121.392, 121.381,121.36,121.341,121.331,121.329, 121.318,121.305,121.286,121.275,121.258 ,121.237,121.223,121.208,121.201, 121.195,121.65,122.111,122.744,123.196, 123.214,123.22,123.219,123.219,123.219, 123.218,123.218,123.218,123.217,123.217 ,123.217,123.216,123.215,123.215, 123.214,123.213,123.21,123.208,123.208, 123.204,123.206,123.206,123.206,123.206 ,123.206,123.206,123.206,123.205, 123.205,123.204,123.203,123.203,123.201 ,123.201,123.198,123.199,123.198, 123.197,123.196,123.195,123.194,123.191 ,123.189,123.186,123.185,123.183, 123.182,123.194)
ORBIT_NUMBER = 21991
ORBITAL_ECCENTRICITY = 0.574
ORBITAL_INCLINATION = 86.99
ORBITAL_SEMIMAJOR_AXIS = 8832.1
PERIAPSIS_ALTITUDE = 369.74
PERIAPSIS_ARGUMENT_ANGLE = 152.84
PERIAPSIS_TIME = 2021-05-27T09:06:45.000Z
SPACECRAFT_ORIENTATION = (0.0,-1.0,0.0)
^MEX_ORIENTATION_DESC = "MEX_ORIENTATION_DESC.TXT"
SPACECRAFT_POINTING_MODE = ACROSSTRACK
^MEX_POINTING_DESC = "MEX_POINTING_DESC.TXT"
RIGHT_ASCENSION = -1e+32
DECLINATION = -1e+32
OFFSET_ANGLE = -2.0
SPACECRAFT_SOLAR_DISTANCE = 2.47619e+08
TARGET_NAME = MARS
/* CAMERA DATA ELEMENTS */
DETECTOR_TEMPERATURE = 18.5744
FOCAL_PLANE_TEMPERATURE = 8.3794
INST_CMPRS_NAME = "DISCRETE COSINE TRANSFORMATION (DCT)"
INST_CMPRS_RATIO = 4.60917
INST_CMPRS_QUALITY = 0
INST_CMPRS_QUANTZ_TBL_ID = 0
INSTRUMENT_TEMPERATURE = 11.234
LENS_TEMPERATURE = 9.195
MACROPIXEL_SIZE = 4
MISSING_FRAMES = 109
PIXEL_SUBSAMPLING_FLAG = N
SIGNAL_CHAIN_ID = 2
/* RADIOMETRIC DATA ELEMENTS */
BANDWIDTH = 81.0
CENTER_FILTER_WAVELENGTH = 955.5
RADIANCE_OFFSET = 0.387533
RADIANCE_SCALING_FACTOR = 0.0046067
REFLECTANCE_SCALING_FACTOR = 0.000609376
MEX:REFLECTANCE_OFFSET = 0.051263
/* IMAGE OBJECT DEFINITIONS */
OBJECT = IMAGE
  INTERCHANGE_FORMAT = BINARY
  LINES = 18772
  LINE_SAMPLES = 2527
  SAMPLE_TYPE = UNSIGNED_INTEGER
  SAMPLE_BITS = 8
  BANDS = 1
  BAND_STORAGE_TYPE = BAND_SEQUENTIAL
  MAXIMUM = 255
  MEAN = 111.712
  MINIMUM = 1
  STANDARD_DEVIATION = 28.6522
END_OBJECT = IMAGE
/* MAP OBJECT DEFINITIONS */
OBJECT = IMAGE_MAP_PROJECTION
  ^DATA_SET_MAP_PROJECTION_CATALOG= "DSMAP.CAT"
  A_AXIS_RADIUS = 3396.0
  B_AXIS_RADIUS = 3396.0
  C_AXIS_RADIUS = 3396.0
  CENTER_LATITUDE = 0.0
  CENTER_LONGITUDE = 122.0
  COORDINATE_SYSTEM_NAME = PLANETOGRAPHIC
  COORDINATE_SYSTEM_TYPE = "BODY-FIXED ROTATING"
  EASTERNMOST_LONGITUDE = 123.22
  FIRST_STANDARD_PARALLEL = "N/A"
  LINE_FIRST_PIXEL = 1
  LINE_LAST_PIXEL = 18772
  LINE_PROJECTION_OFFSET = 13574.625
  MAP_PROJECTION_ROTATION = 0.0
  MAP_PROJECTION_TYPE = SINUSOIDAL
  MAP_RESOLUTION = 1185.42760773333
  MAP_SCALE = 0.05
  MAXIMUM_LATITUDE = 11.7088
  MINIMUM_LATITUDE = -4.40445
  POSITIVE_LONGITUDE_DIRECTION = EAST
  REFERENCE_LATITUDE = "N/A"
  REFERENCE_LONGITUDE = "N/A"
  SAMPLE_FIRST_PIXEL = 1
  SAMPLE_LAST_PIXEL = 2527
  SAMPLE_PROJECTION_OFFSET = 1007.375
  SECOND_STANDARD_PARALLEL = "N/A"
  WESTERNMOST_LONGITUDE = 121.195
END_OBJECT = IMAGE_MAP_PROJECTION
END
