PDS_VERSION_ID = PDS3
/* FILE DATA ELEMENTS */
RECORD_TYPE = UNDEFINED
/* POINTERS TO DATA OBJECTS */
^IMAGE = ("HL991_0000_P14.TIF")
/* IDENTIFICATION DATA ELEMENTS */
DATA_SET_ID = "MEX-M-HRSC-4-REFDR-MAPPROJECT-EXT8-V4.0"
DATA_SET_NAME = "MARS EXPRESS HRSC MAP PROJECTED REFDR EXTENSION8 V4.0"
DETECTOR_ID = MEX_HRSC_P1
EVENT_TYPE = "MARS-REGIONAL-MAPPING-Im-Fl-Mw"
INSTRUMENT_HOST_ID = MEX
INSTRUMENT_HOST_NAME = "MARS EXPRESS"
INSTRUMENT_ID = HRSC
INSTRUMENT_NAME = "HIGH RESOLUTION STEREO CAMERA"
MISSION_NAME = "MARS EXPRESS"
MISSION_PHASE_NAME = ME_Phase_44
PROCESSING_LEVEL_ID = 4
PRODUCT_CREATION_TIME = 2023-01-25T08:48:24.000Z
PRODUCT_ID = "HL991_0000_P14.TIF"
RELEASE_ID = 0001
REVISION_ID = 0000
/* QUALITY DATA ELEMENTS */
DATA_QUALITY_ID = 1
DATA_QUALITY_DESC = "Data calculated based on original SPICE kernels"
/* TIME DATA ELEMENTS */
SPACECRAFT_CLOCK_START_COUNT = "1/0570186575.25690"
SPACECRAFT_CLOCK_STOP_COUNT = "1/0570186949.52579"
START_TIME = 2021-05-27T09:10:25.096Z
STOP_TIME = 2021-05-27T09:14:36.718Z
/* ORBITAL DATA ELEMENTS */
ASCENDING_NODE_LONGITUDE = 163.39
MAXIMUM_RESOLUTION = 0.0344
FOOTPRINT_POINT_LATITUDE = (11.4783,11.4485,11.4157,11.3723, 11.3711,11.3548,10.9287,10.3933,9.66507 ,9.11836,8.57161,8.29067,8.01165, 7.59333,7.03128,6.74501,6.31712,6.03196 ,5.74533,5.45161,5.1596,4.86896,4.57918 ,4.28467,3.9862,3.68895,3.23273,2.92874 ,2.47635,2.17287,1.86199,1.55681,1.0912 ,0.778134,0.466281,0.146114,-0.176499, -0.495944,-0.81622,-1.13994,-1.46622, -1.96237,-2.2931,-2.63101,-2.96354, -3.30122,-3.64533,-4.16073,-4.33444, -4.3967,-4.3853,-4.36453,-4.34593, -4.33591,-4.32508,-4.32447,-4.32355, -3.80331,-3.4615,-2.94888,-2.6131, -2.10919,-1.77783,-1.44786,-0.956103, -0.467852,-0.14871,0.172784,0.491914, 0.805761,1.11602,1.42862,1.73724, 2.19713,2.50874,2.81229,3.11659,3.42197 ,3.72723,4.02536,4.47193,4.76813, 5.05971,5.49721,5.93416,6.21996,6.50806 ,6.79181,7.07892,7.36281,7.6426,7.92214 ,8.20226,8.48306,9.03513,9.72035, 10.4514,11.2554,11.3896,11.4783)
FOOTPRINT_POINT_LONGITUDE = (123.202,122.729,122.234,121.617,121.6, 121.568,121.565,121.559,121.552,121.547 ,121.54,121.534,121.531,121.526,121.515 ,121.509,121.502,121.497,121.491, 121.482,121.474,121.469,121.464,121.462 ,121.453,121.445,121.431,121.421, 121.412,121.409,121.396,121.392,121.382 ,121.374,121.367,121.354,121.339, 121.328,121.323,121.314,121.301,121.283 ,121.27,121.255,121.247,121.235,121.218 ,121.197,121.189,121.186,121.478, 122.047,122.579,122.887,123.209,123.228 ,123.234,123.233,123.233,123.232, 123.231,123.231,123.23,123.229,123.229, 123.228,123.227,123.227,123.226,123.225 ,123.221,123.219,123.218,123.215, 123.216,123.216,123.216,123.216,123.216 ,123.216,123.214,123.214,123.213, 123.212,123.21,123.209,123.21,123.207, 123.207,123.206,123.205,123.204,123.203 ,123.202,123.2,123.197,123.194,123.19, 123.19,123.202)
ORBIT_NUMBER = 21991
ORBITAL_ECCENTRICITY = 0.574
ORBITAL_INCLINATION = 86.99
ORBITAL_SEMIMAJOR_AXIS = 8832.1
PERIAPSIS_ALTITUDE = 369.74
PERIAPSIS_ARGUMENT_ANGLE = 152.84
PERIAPSIS_TIME = 2021-05-27T09:06:45.000Z
SPACECRAFT_ORIENTATION = (0.0,-1.0,0.0)
^MEX_ORIENTATION_DESC = "MEX_ORIENTATION_DESC.TXT"
SPACECRAFT_POINTING_MODE = ACROSSTRACK
^MEX_POINTING_DESC = "MEX_POINTING_DESC.TXT"
RIGHT_ASCENSION = -1e+32
DECLINATION = -1e+32
OFFSET_ANGLE = -2.0
SPACECRAFT_SOLAR_DISTANCE = 2.47619e+08
TARGET_NAME = MARS
/* CAMERA DATA ELEMENTS */
DETECTOR_TEMPERATURE = 18.5744
FOCAL_PLANE_TEMPERATURE = 8.3794
INST_CMPRS_NAME = "DISCRETE COSINE TRANSFORMATION (DCT)"
INST_CMPRS_RATIO = 5.12651
INST_CMPRS_QUALITY = 0
INST_CMPRS_QUANTZ_TBL_ID = 0
INSTRUMENT_TEMPERATURE = 11.234
LENS_TEMPERATURE = 9.195
MACROPIXEL_SIZE = 2
MISSING_FRAMES = 151
PIXEL_SUBSAMPLING_FLAG = N
SIGNAL_CHAIN_ID = 3
/* RADIOMETRIC DATA ELEMENTS */
BANDWIDTH = 174.0
CENTER_FILTER_WAVELENGTH = 675.0
RADIANCE_OFFSET = 1.58047
RADIANCE_SCALING_FACTOR = 0.0159597
REFLECTANCE_SCALING_FACTOR = 0.000526351
MEX:REFLECTANCE_OFFSET = 0.0521241
/* IMAGE OBJECT DEFINITIONS */
OBJECT = IMAGE
  INTERCHANGE_FORMAT = BINARY
  LINES = 37544
  LINE_SAMPLES = 5054
  SAMPLE_TYPE = UNSIGNED_INTEGER
  SAMPLE_BITS = 8
  BANDS = 1
  BAND_STORAGE_TYPE = BAND_SEQUENTIAL
  MAXIMUM = 255
  MEAN = 112.32
  MINIMUM = 1
  STANDARD_DEVIATION = 29.5762
END_OBJECT = IMAGE
/* MAP OBJECT DEFINITIONS */
OBJECT = IMAGE_MAP_PROJECTION
  ^DATA_SET_MAP_PROJECTION_CATALOG= "DSMAP.CAT"
  A_AXIS_RADIUS = 3396.0
  B_AXIS_RADIUS = 3396.0
  C_AXIS_RADIUS = 3396.0
  CENTER_LATITUDE = 0.0
  CENTER_LONGITUDE = 122.0
  COORDINATE_SYSTEM_NAME = PLANETOGRAPHIC
  COORDINATE_SYSTEM_TYPE = "BODY-FIXED ROTATING"
  EASTERNMOST_LONGITUDE = 123.234
  FIRST_STANDARD_PARALLEL = "N/A"
  LINE_FIRST_PIXEL = 1
  LINE_LAST_PIXEL = 37544
  LINE_PROJECTION_OFFSET = 27149.75
  MAP_PROJECTION_ROTATION = 0.0
  MAP_PROJECTION_TYPE = SINUSOIDAL
  MAP_RESOLUTION = 2370.85521546667
  MAP_SCALE = 0.025
  MAXIMUM_LATITUDE = 11.4783
  MINIMUM_LATITUDE = -4.3967
  POSITIVE_LONGITUDE_DIRECTION = EAST
  REFERENCE_LATITUDE = "N/A"
  REFERENCE_LONGITUDE = "N/A"
  SAMPLE_FIRST_PIXEL = 1
  SAMPLE_LAST_PIXEL = 5054
  SAMPLE_PROJECTION_OFFSET = 2015.25
  SECOND_STANDARD_PARALLEL = "N/A"
  WESTERNMOST_LONGITUDE = 121.186
END_OBJECT = IMAGE_MAP_PROJECTION
END
