PDS_VERSION_ID = PDS3
/* FILE DATA ELEMENTS */
RECORD_TYPE = UNDEFINED
/* POINTERS TO DATA OBJECTS */
^IMAGE = ("HL993_0000_IR4.TIF")
/* IDENTIFICATION DATA ELEMENTS */
DATA_SET_ID = "MEX-M-HRSC-4-REFDR-MAPPROJECT-EXT8-V4.0"
DATA_SET_NAME = "MARS EXPRESS HRSC MAP PROJECTED REFDR EXTENSION8 V4.0"
DETECTOR_ID = MEX_HRSC_IR
EVENT_TYPE = "MARS-LOCAL-CARTOGRAPHY-Vo-Fl-La"
INSTRUMENT_HOST_ID = MEX
INSTRUMENT_HOST_NAME = "MARS EXPRESS"
INSTRUMENT_ID = HRSC
INSTRUMENT_NAME = "HIGH RESOLUTION STEREO CAMERA"
MISSION_NAME = "MARS EXPRESS"
MISSION_PHASE_NAME = ME_Phase_44
PROCESSING_LEVEL_ID = 4
PRODUCT_CREATION_TIME = 2023-01-25T08:48:24.000Z
PRODUCT_ID = "HL993_0000_IR4.TIF"
RELEASE_ID = 0001
REVISION_ID = 0000
/* QUALITY DATA ELEMENTS */
DATA_QUALITY_ID = 1
DATA_QUALITY_DESC = "Data calculated based on original SPICE kernels"
/* TIME DATA ELEMENTS */
SPACECRAFT_CLOCK_START_COUNT = "1/0570236753.21093"
SPACECRAFT_CLOCK_STOP_COUNT = "1/0570237181.21092"
START_TIME = 2021-05-27T23:06:32.859Z
STOP_TIME = 2021-05-27T23:10:42.041Z
/* ORBITAL DATA ELEMENTS */
ASCENDING_NODE_LONGITUDE = 163.35
MAXIMUM_RESOLUTION = 0.0635
FOOTPRINT_POINT_LATITUDE = (18.8546,18.9008,18.9325,18.9616, 18.9624,18.9511,18.644,18.1833,17.8761, 17.5687,17.2613,16.9543,16.6473,16.3398 ,16.0318,15.5704,15.2627,14.9553, 14.4943,14.187,13.8794,13.5725,13.1118, 12.8046,12.1917,11.8769,11.4049,11.0898 ,10.7752,10.4609,9.97869,9.65604, 9.33363,9.01147,8.52132,8.19151,7.69674 ,7.36723,6.86143,6.52411,6.18718,5.8462 ,5.50166,5.15707,4.81291,4.46174, 4.11011,3.75868,3.22304,3.0436,2.86665, 2.83381,2.79644,2.75919,2.75829,2.75906 ,3.11744,3.65262,4.00397,4.35555, 4.87434,5.21376,5.55848,5.90353,6.24063 ,6.57784,6.91541,7.2527,7.58251,7.91296 ,8.24277,8.73683,9.22165,9.70445, 10.0278,10.348,10.6629,11.1351,11.4502, 11.9228,12.2338,12.5409,13.0014,13.3085 ,13.6157,13.9232,14.2306,14.5381, 14.9993,15.3067,15.6135,16.0762,16.537, 16.998,17.3053,17.6127,18.074,18.5349, 18.6887,18.8546)
FOOTPRINT_POINT_LONGITUDE = (282.46,281.87,281.436,281.015,281.002, 281.003,280.999,280.991,280.986,280.981 ,280.976,280.971,280.965,280.96,280.955 ,280.946,280.941,280.935,280.926, 280.919,280.913,280.907,280.897,280.891 ,280.877,280.87,280.859,280.852,280.844 ,280.837,280.825,280.817,280.809, 280.801,280.789,280.78,280.767,280.758, 280.744,280.735,280.726,280.716,280.706 ,280.696,280.686,280.675,280.665, 280.654,280.638,280.632,280.627,281.243 ,281.769,282.306,282.323,282.328, 282.329,282.331,282.332,282.334,282.34, 282.346,282.348,282.349,282.351,282.353 ,282.354,282.356,282.358,282.359, 282.362,282.365,282.367,282.372,282.374 ,282.377,282.379,282.384,282.386, 282.391,282.394,282.397,282.402,282.405 ,282.408,282.411,282.415,282.418, 282.424,282.428,282.432,282.436,282.443 ,282.45,282.454,282.458,282.465,282.472 ,282.474,282.46)
ORBIT_NUMBER = 21993
ORBITAL_ECCENTRICITY = 0.574
ORBITAL_INCLINATION = 87.0
ORBITAL_SEMIMAJOR_AXIS = 8833.88
PERIAPSIS_ALTITUDE = 369.83
PERIAPSIS_ARGUMENT_ANGLE = 152.51
PERIAPSIS_TIME = 2021-05-27T23:04:49.000Z
SPACECRAFT_ORIENTATION = (0.0,-1.0,0.0)
^MEX_ORIENTATION_DESC = "MEX_ORIENTATION_DESC.TXT"
SPACECRAFT_POINTING_MODE = ACROSSTRACK
^MEX_POINTING_DESC = "MEX_POINTING_DESC.TXT"
RIGHT_ASCENSION = -1e+32
DECLINATION = -1e+32
OFFSET_ANGLE = 1.346
SPACECRAFT_SOLAR_DISTANCE = 2.47658e+08
TARGET_NAME = MARS
/* CAMERA DATA ELEMENTS */
DETECTOR_TEMPERATURE = 0.0
FOCAL_PLANE_TEMPERATURE = 0.0
INST_CMPRS_NAME = "DISCRETE COSINE TRANSFORMATION (DCT)"
INST_CMPRS_RATIO = 7.76813
INST_CMPRS_QUALITY = 0
INST_CMPRS_QUANTZ_TBL_ID = 0
INSTRUMENT_TEMPERATURE = 0.0
LENS_TEMPERATURE = 0.0
MACROPIXEL_SIZE = 4
MISSING_FRAMES = 0
PIXEL_SUBSAMPLING_FLAG = N
SIGNAL_CHAIN_ID = 2
/* RADIOMETRIC DATA ELEMENTS */
BANDWIDTH = 81.0
CENTER_FILTER_WAVELENGTH = 955.5
RADIANCE_OFFSET = 0.579966
RADIANCE_SCALING_FACTOR = 0.00385955
REFLECTANCE_SCALING_FACTOR = 0.000510702
MEX:REFLECTANCE_OFFSET = 0.0767422
/* IMAGE OBJECT DEFINITIONS */
OBJECT = IMAGE
  INTERCHANGE_FORMAT = BINARY
  LINES = 16407
  LINE_SAMPLES = 2129
  SAMPLE_TYPE = UNSIGNED_INTEGER
  SAMPLE_BITS = 8
  BANDS = 1
  BAND_STORAGE_TYPE = BAND_SEQUENTIAL
  MAXIMUM = 255
  MEAN = 125.082
  MINIMUM = 25
  STANDARD_DEVIATION = 20.0452
END_OBJECT = IMAGE
/* MAP OBJECT DEFINITIONS */
OBJECT = IMAGE_MAP_PROJECTION
  ^DATA_SET_MAP_PROJECTION_CATALOG= "DSMAP.CAT"
  A_AXIS_RADIUS = 3396.0
  B_AXIS_RADIUS = 3396.0
  C_AXIS_RADIUS = 3396.0
  CENTER_LATITUDE = 0.0
  CENTER_LONGITUDE = 282.0
  COORDINATE_SYSTEM_NAME = PLANETOGRAPHIC
  COORDINATE_SYSTEM_TYPE = "BODY-FIXED ROTATING"
  EASTERNMOST_LONGITUDE = 282.474
  FIRST_STANDARD_PARALLEL = "N/A"
  LINE_FIRST_PIXEL = 1
  LINE_LAST_PIXEL = 16407
  LINE_PROJECTION_OFFSET = 22412.625
  MAP_PROJECTION_ROTATION = 0.0
  MAP_PROJECTION_TYPE = SINUSOIDAL
  MAP_RESOLUTION = 1185.42760773333
  MAP_SCALE = 0.05
  MAXIMUM_LATITUDE = 18.9624
  MINIMUM_LATITUDE = 2.75829
  POSITIVE_LONGITUDE_DIRECTION = EAST
  REFERENCE_LATITUDE = "N/A"
  REFERENCE_LONGITUDE = "N/A"
  SAMPLE_FIRST_PIXEL = 1
  SAMPLE_LAST_PIXEL = 2129
  SAMPLE_PROJECTION_OFFSET = 1594.625
  SECOND_STANDARD_PARALLEL = "N/A"
  WESTERNMOST_LONGITUDE = 280.627
END_OBJECT = IMAGE_MAP_PROJECTION
END
