PDS_VERSION_ID = PDS3
/* FILE DATA ELEMENTS */
RECORD_TYPE = UNDEFINED
/* POINTERS TO DATA OBJECTS */
^IMAGE = ("HL993_0000_S14.TIF")
/* IDENTIFICATION DATA ELEMENTS */
DATA_SET_ID = "MEX-M-HRSC-4-REFDR-MAPPROJECT-EXT8-V4.0"
DATA_SET_NAME = "MARS EXPRESS HRSC MAP PROJECTED REFDR EXTENSION8 V4.0"
DETECTOR_ID = MEX_HRSC_S1
EVENT_TYPE = "MARS-LOCAL-CARTOGRAPHY-Vo-Fl-La"
INSTRUMENT_HOST_ID = MEX
INSTRUMENT_HOST_NAME = "MARS EXPRESS"
INSTRUMENT_ID = HRSC
INSTRUMENT_NAME = "HIGH RESOLUTION STEREO CAMERA"
MISSION_NAME = "MARS EXPRESS"
MISSION_PHASE_NAME = ME_Phase_44
PROCESSING_LEVEL_ID = 4
PRODUCT_CREATION_TIME = 2023-01-25T08:48:24.000Z
PRODUCT_ID = "HL993_0000_S14.TIF"
RELEASE_ID = 0001
REVISION_ID = 0000
/* QUALITY DATA ELEMENTS */
DATA_QUALITY_ID = 1
DATA_QUALITY_DESC = "Data calculated based on original SPICE kernels"
/* TIME DATA ELEMENTS */
SPACECRAFT_CLOCK_START_COUNT = "1/0570236753.21093"
SPACECRAFT_CLOCK_STOP_COUNT = "1/0570237181.21092"
START_TIME = 2021-05-27T23:06:27.000Z
STOP_TIME = 2021-05-27T23:10:42.597Z
/* ORBITAL DATA ELEMENTS */
ASCENDING_NODE_LONGITUDE = 163.35
MAXIMUM_RESOLUTION = 0.0322
FOOTPRINT_POINT_LATITUDE = (18.8444,18.8956,18.9347,18.9706, 18.9716,18.9587,18.4847,17.8524,17.5359 ,17.2194,16.5873,16.2703,15.9528, 15.6358,15.3185,15.0016,14.5262,14.2094 ,13.892,13.5755,13.1001,12.7831,12.1506 ,11.8339,11.5103,11.1852,10.8601, 10.5353,10.2104,9.71628,9.38281,9.04983 ,8.71655,8.38349,8.04248,7.70129, 7.36037,7.01948,6.67274,6.3238,5.97501, 5.62658,5.09229,4.73586,4.37977,4.0164, 3.65215,3.28818,2.73294,2.54705,2.36246 ,2.32853,2.285,2.24006,2.23855,2.2386, 2.60879,3.16356,3.52714,3.89119,4.25445 ,4.61028,4.95917,5.31207,5.83812, 6.18715,6.5362,6.88301,7.22451,7.56552, 7.90757,8.24821,8.58141,8.9151,9.24952, 9.5812,9.91409,10.2384,10.7263,11.0514, 11.3768,11.7007,12.1761,12.4931,12.8098 ,13.1268,13.4436,13.9193,14.2363, 14.5533,14.8703,15.3457,15.9789,16.2969 ,16.6133,17.4044,18.0374,18.5118,18.67, 18.8444)
FOOTPRINT_POINT_LONGITUDE = (282.463,281.907,281.456,281.018, 281.004,281.004,280.997,280.987,280.982 ,280.977,280.966,280.96,280.955,280.949 ,280.943,280.937,280.928,280.922, 280.916,280.909,280.899,280.892,280.878 ,280.871,280.864,280.857,280.849, 280.841,280.834,280.822,280.814,280.805 ,280.797,280.788,280.78,280.771,280.762 ,280.753,280.743,280.733,280.724, 280.714,280.699,280.688,280.678,280.667 ,280.656,280.645,280.628,280.622, 280.616,281.194,281.725,282.301,282.318 ,282.324,282.326,282.328,282.329, 282.331,282.332,282.334,282.341,282.346 ,282.349,282.35,282.352,282.354,282.356 ,282.358,282.36,282.362,282.365,282.367 ,282.368,282.372,282.374,282.377, 282.381,282.384,282.387,282.39,282.395, 282.398,282.401,282.405,282.408,282.414 ,282.417,282.421,282.425,282.431, 282.439,282.442,282.447,282.459,282.468 ,282.475,282.477,282.463)
ORBIT_NUMBER = 21993
ORBITAL_ECCENTRICITY = 0.574
ORBITAL_INCLINATION = 87.0
ORBITAL_SEMIMAJOR_AXIS = 8833.88
PERIAPSIS_ALTITUDE = 369.83
PERIAPSIS_ARGUMENT_ANGLE = 152.51
PERIAPSIS_TIME = 2021-05-27T23:04:49.000Z
SPACECRAFT_ORIENTATION = (0.0,-1.0,0.0)
^MEX_ORIENTATION_DESC = "MEX_ORIENTATION_DESC.TXT"
SPACECRAFT_POINTING_MODE = ACROSSTRACK
^MEX_POINTING_DESC = "MEX_POINTING_DESC.TXT"
RIGHT_ASCENSION = -1e+32
DECLINATION = -1e+32
OFFSET_ANGLE = 1.346
SPACECRAFT_SOLAR_DISTANCE = 2.47658e+08
TARGET_NAME = MARS
/* CAMERA DATA ELEMENTS */
DETECTOR_TEMPERATURE = 0.0
FOCAL_PLANE_TEMPERATURE = 0.0
INST_CMPRS_NAME = "DISCRETE COSINE TRANSFORMATION (DCT)"
INST_CMPRS_RATIO = 7.13091
INST_CMPRS_QUALITY = 0
INST_CMPRS_QUANTZ_TBL_ID = 0
INSTRUMENT_TEMPERATURE = 0.0
LENS_TEMPERATURE = 0.0
MACROPIXEL_SIZE = 2
MISSING_FRAMES = 0
PIXEL_SUBSAMPLING_FLAG = N
SIGNAL_CHAIN_ID = 1
/* RADIOMETRIC DATA ELEMENTS */
BANDWIDTH = 180.0
CENTER_FILTER_WAVELENGTH = 677.0
RADIANCE_OFFSET = 2.42396
RADIANCE_SCALING_FACTOR = 0.0145841
REFLECTANCE_SCALING_FACTOR = 0.000466689
MEX:REFLECTANCE_OFFSET = 0.0775661
/* IMAGE OBJECT DEFINITIONS */
OBJECT = IMAGE
  INTERCHANGE_FORMAT = BINARY
  LINES = 32814
  LINE_SAMPLES = 4258
  SAMPLE_TYPE = UNSIGNED_INTEGER
  SAMPLE_BITS = 8
  BANDS = 1
  BAND_STORAGE_TYPE = BAND_SEQUENTIAL
  MAXIMUM = 255
  MEAN = 132.281
  MINIMUM = 25
  STANDARD_DEVIATION = 20.2004
END_OBJECT = IMAGE
/* MAP OBJECT DEFINITIONS */
OBJECT = IMAGE_MAP_PROJECTION
  ^DATA_SET_MAP_PROJECTION_CATALOG= "DSMAP.CAT"
  A_AXIS_RADIUS = 3396.0
  B_AXIS_RADIUS = 3396.0
  C_AXIS_RADIUS = 3396.0
  CENTER_LATITUDE = 0.0
  CENTER_LONGITUDE = 282.0
  COORDINATE_SYSTEM_NAME = PLANETOGRAPHIC
  COORDINATE_SYSTEM_TYPE = "BODY-FIXED ROTATING"
  EASTERNMOST_LONGITUDE = 282.477
  FIRST_STANDARD_PARALLEL = "N/A"
  LINE_FIRST_PIXEL = 1
  LINE_LAST_PIXEL = 32814
  LINE_PROJECTION_OFFSET = 44825.75
  MAP_PROJECTION_ROTATION = 0.0
  MAP_PROJECTION_TYPE = SINUSOIDAL
  MAP_RESOLUTION = 2370.85521546667
  MAP_SCALE = 0.025
  MAXIMUM_LATITUDE = 18.9716
  MINIMUM_LATITUDE = 2.23855
  POSITIVE_LONGITUDE_DIRECTION = EAST
  REFERENCE_LATITUDE = "N/A"
  REFERENCE_LONGITUDE = "N/A"
  SAMPLE_FIRST_PIXEL = 1
  SAMPLE_LAST_PIXEL = 4258
  SAMPLE_PROJECTION_OFFSET = 3189.75
  SECOND_STANDARD_PARALLEL = "N/A"
  WESTERNMOST_LONGITUDE = 280.616
END_OBJECT = IMAGE_MAP_PROJECTION
END
