PDS_VERSION_ID = PDS3
/* FILE DATA ELEMENTS */
RECORD_TYPE = UNDEFINED
/* POINTERS TO DATA OBJECTS */
^IMAGE = ("HM005_0000_BL4.TIF")
/* IDENTIFICATION DATA ELEMENTS */
DATA_SET_ID = "MEX-M-HRSC-4-REFDR-MAPPROJECT-EXT8-V4.0"
DATA_SET_NAME = "MARS EXPRESS HRSC MAP PROJECTED REFDR EXTENSION8 V4.0"
DETECTOR_ID = MEX_HRSC_BLUE
EVENT_TYPE = "MARS-REGIONAL-MAPPING-Vo-Te-Im"
INSTRUMENT_HOST_ID = MEX
INSTRUMENT_HOST_NAME = "MARS EXPRESS"
INSTRUMENT_ID = HRSC
INSTRUMENT_NAME = "HIGH RESOLUTION STEREO CAMERA"
MISSION_NAME = "MARS EXPRESS"
MISSION_PHASE_NAME = ME_Phase_44
PROCESSING_LEVEL_ID = 4
PRODUCT_CREATION_TIME = 2023-01-25T08:48:24.000Z
PRODUCT_ID = "HM005_0000_BL4.TIF"
RELEASE_ID = 0001
REVISION_ID = 0000
/* QUALITY DATA ELEMENTS */
DATA_QUALITY_ID = 1
DATA_QUALITY_DESC = "Data calculated based on original SPICE kernels"
/* TIME DATA ELEMENTS */
SPACECRAFT_CLOCK_START_COUNT = "1/0570538237.24888"
SPACECRAFT_CLOCK_STOP_COUNT = "1/0570538541.46821"
START_TIME = 2021-05-31T10:51:51.705Z
STOP_TIME = 2021-05-31T10:55:41.173Z
/* ORBITAL DATA ELEMENTS */
ASCENDING_NODE_LONGITUDE = 163.13
MAXIMUM_RESOLUTION = 0.0602
FOOTPRINT_POINT_LATITUDE = (32.2727,32.2706,32.2673,32.2624, 32.2623,32.2722,31.8299,31.3875,31.0927 ,30.6504,30.3556,30.0608,29.7661,29.324 ,29.0294,28.7348,28.4403,27.9986, 27.7042,27.4099,27.1157,26.8216,26.5275 ,26.2336,25.9399,25.6463,25.3527, 25.0592,24.7658,24.4723,24.1792,23.7397 ,23.447,23.1542,22.8618,22.5696,22.2776 ,21.9858,21.6944,21.2573,20.9659,20.675 ,20.3843,20.0938,19.8036,19.5136, 18.9342,18.3559,17.7786,17.6345,17.6007 ,17.6009,17.5999,17.5977,17.5977, 17.5986,18.1761,18.7544,19.334,19.9142, 20.2046,20.4955,20.7865,21.2235,21.5149 ,21.8065,22.0983,22.3904,22.8291, 23.1217,23.561,23.8541,24.1474,24.4406, 24.7342,25.175,25.4689,25.7629,26.0573, 26.3514,26.6457,26.94,27.2346,27.5295, 27.824,28.2659,28.7081,29.0029,29.2977, 29.5927,29.8878,30.3304,30.6255,30.9206 ,31.2158,31.5109,31.8062,32.1014,32.249 ,32.2727)
FOOTPRINT_POINT_LONGITUDE = (136.834,136.206,135.741,135.288, 135.274,135.284,135.286,135.288,135.289 ,135.291,135.291,135.292,135.292, 135.292,135.292,135.292,135.291,135.291 ,135.29,135.289,135.288,135.286,135.285 ,135.283,135.282,135.28,135.278,135.275 ,135.273,135.27,135.268,135.263,135.26, 135.257,135.254,135.251,135.247,135.244 ,135.24,135.234,135.23,135.226,135.222, 135.218,135.213,135.209,135.199,135.189 ,135.179,135.177,135.176,135.573, 136.135,136.669,136.683,136.688,136.693 ,136.698,136.704,136.708,136.711, 136.714,136.717,136.722,136.725,136.728 ,136.73,136.734,136.74,136.744,136.75, 136.754,136.759,136.763,136.767,136.775 ,136.78,136.785,136.791,136.795,136.799 ,136.804,136.809,136.815,136.819, 136.826,136.832,136.836,136.841,136.846 ,136.851,136.858,136.863,136.868, 136.873,136.877,136.883,136.888,136.891 ,136.834)
ORBIT_NUMBER = 22005
ORBITAL_ECCENTRICITY = 0.574
ORBITAL_INCLINATION = 87.0
ORBITAL_SEMIMAJOR_AXIS = 8827.08
PERIAPSIS_ALTITUDE = 371.49
PERIAPSIS_ARGUMENT_ANGLE = 150.42
PERIAPSIS_TIME = 2021-05-31T10:52:28.000Z
SPACECRAFT_ORIENTATION = (0.0,-1.0,0.0)
^MEX_ORIENTATION_DESC = "MEX_ORIENTATION_DESC.TXT"
SPACECRAFT_POINTING_MODE = ACROSSTRACK
^MEX_POINTING_DESC = "MEX_POINTING_DESC.TXT"
RIGHT_ASCENSION = -1e+32
DECLINATION = -1e+32
OFFSET_ANGLE = 1.05
SPACECRAFT_SOLAR_DISTANCE = 2.47885e+08
TARGET_NAME = MARS
/* CAMERA DATA ELEMENTS */
DETECTOR_TEMPERATURE = 18.1666
FOCAL_PLANE_TEMPERATURE = 8.5833
INST_CMPRS_NAME = "DISCRETE COSINE TRANSFORMATION (DCT)"
INST_CMPRS_RATIO = 5.38818
INST_CMPRS_QUALITY = 0
INST_CMPRS_QUANTZ_TBL_ID = 0
INSTRUMENT_TEMPERATURE = 10.8262
LENS_TEMPERATURE = 7.9716
MACROPIXEL_SIZE = 4
MISSING_FRAMES = 0
PIXEL_SUBSAMPLING_FLAG = N
SIGNAL_CHAIN_ID = 2
/* RADIOMETRIC DATA ELEMENTS */
BANDWIDTH = 76.0
CENTER_FILTER_WAVELENGTH = 444.0
RADIANCE_OFFSET = 0.383659
RADIANCE_SCALING_FACTOR = 0.0017444
REFLECTANCE_SCALING_FACTOR = 0.000110129
MEX:REFLECTANCE_OFFSET = 0.0242216
/* IMAGE OBJECT DEFINITIONS */
OBJECT = IMAGE
  INTERCHANGE_FORMAT = BINARY
  LINES = 17415
  LINE_SAMPLES = 1831
  SAMPLE_TYPE = UNSIGNED_INTEGER
  SAMPLE_BITS = 8
  BANDS = 1
  BAND_STORAGE_TYPE = BAND_SEQUENTIAL
  MAXIMUM = 255
  MEAN = 132.37
  MINIMUM = 1
  STANDARD_DEVIATION = 22.7395
END_OBJECT = IMAGE
/* MAP OBJECT DEFINITIONS */
OBJECT = IMAGE_MAP_PROJECTION
  ^DATA_SET_MAP_PROJECTION_CATALOG= "DSMAP.CAT"
  A_AXIS_RADIUS = 3396.0
  B_AXIS_RADIUS = 3396.0
  C_AXIS_RADIUS = 3396.0
  CENTER_LATITUDE = 0.0
  CENTER_LONGITUDE = 136.0
  COORDINATE_SYSTEM_NAME = PLANETOGRAPHIC
  COORDINATE_SYSTEM_TYPE = "BODY-FIXED ROTATING"
  EASTERNMOST_LONGITUDE = 136.891
  FIRST_STANDARD_PARALLEL = "N/A"
  LINE_FIRST_PIXEL = 1
  LINE_LAST_PIXEL = 17415
  LINE_PROJECTION_OFFSET = 38255.125
  MAP_PROJECTION_ROTATION = 0.0
  MAP_PROJECTION_TYPE = SINUSOIDAL
  MAP_RESOLUTION = 1185.42760773333
  MAP_SCALE = 0.05
  MAXIMUM_LATITUDE = 32.2727
  MINIMUM_LATITUDE = 17.5977
  POSITIVE_LONGITUDE_DIRECTION = EAST
  REFERENCE_LATITUDE = "N/A"
  REFERENCE_LONGITUDE = "N/A"
  SAMPLE_FIRST_PIXEL = 1
  SAMPLE_LAST_PIXEL = 1831
  SAMPLE_PROJECTION_OFFSET = 937.125
  SECOND_STANDARD_PARALLEL = "N/A"
  WESTERNMOST_LONGITUDE = 135.176
END_OBJECT = IMAGE_MAP_PROJECTION
END
