PDS_VERSION_ID = PDS3
/* FILE DATA ELEMENTS */
RECORD_TYPE = UNDEFINED
/* POINTERS TO DATA OBJECTS */
^IMAGE = ("HM005_0000_IR4.TIF")
/* IDENTIFICATION DATA ELEMENTS */
DATA_SET_ID = "MEX-M-HRSC-4-REFDR-MAPPROJECT-EXT8-V4.0"
DATA_SET_NAME = "MARS EXPRESS HRSC MAP PROJECTED REFDR EXTENSION8 V4.0"
DETECTOR_ID = MEX_HRSC_IR
EVENT_TYPE = "MARS-REGIONAL-MAPPING-Vo-Te-Im"
INSTRUMENT_HOST_ID = MEX
INSTRUMENT_HOST_NAME = "MARS EXPRESS"
INSTRUMENT_ID = HRSC
INSTRUMENT_NAME = "HIGH RESOLUTION STEREO CAMERA"
MISSION_NAME = "MARS EXPRESS"
MISSION_PHASE_NAME = ME_Phase_44
PROCESSING_LEVEL_ID = 4
PRODUCT_CREATION_TIME = 2023-01-25T08:48:24.000Z
PRODUCT_ID = "HM005_0000_IR4.TIF"
RELEASE_ID = 0001
REVISION_ID = 0000
/* QUALITY DATA ELEMENTS */
DATA_QUALITY_ID = 1
DATA_QUALITY_DESC = "Data calculated based on original SPICE kernels"
/* TIME DATA ELEMENTS */
SPACECRAFT_CLOCK_START_COUNT = "1/0570538237.24888"
SPACECRAFT_CLOCK_STOP_COUNT = "1/0570538541.46821"
START_TIME = 2021-05-31T10:51:17.100Z
STOP_TIME = 2021-05-31T10:55:04.799Z
/* ORBITAL DATA ELEMENTS */
ASCENDING_NODE_LONGITUDE = 163.13
MAXIMUM_RESOLUTION = 0.0628
FOOTPRINT_POINT_LATITUDE = (32.2656,32.2983,32.3195,32.3378, 32.3383,32.2883,31.855,31.5658,31.1315, 30.8417,30.5516,30.2615,29.9708,29.6801 ,29.3892,29.0977,28.6605,28.2229, 27.7847,27.4928,27.2005,26.7615,26.4689 ,26.1759,25.7358,25.4422,25.149,24.7094 ,24.2701,23.9768,23.6836,23.3897, 23.0968,22.8029,22.5087,22.2143,21.9199 ,21.4759,21.036,20.5943,20.2993,20.0049 ,19.7097,19.4149,19.12,18.6776,18.3827, 18.0872,17.7924,17.6449,17.6224,17.6022 ,17.5716,17.5395,17.5386,17.5393, 17.9826,18.4258,18.7213,19.1641,19.4592 ,19.7547,20.0506,20.3462,20.6406, 20.9356,21.2302,21.6732,21.969,22.2637, 22.5583,22.8517,23.146,23.4402,23.7335, 24.1737,24.6146,24.9072,25.1996,25.6388 ,26.0766,26.5163,26.8088,27.2474,27.538 ,27.8309,28.1234,28.4157,28.7075, 28.9994,29.2909,29.5821,29.8728,30.3088 ,30.7447,31.0347,31.3245,32.0476, 32.1921,32.2656)
FOOTPRINT_POINT_LONGITUDE = (136.851,136.214,135.743,135.282, 135.268,135.278,135.281,135.283,135.286 ,135.287,135.288,135.29,135.291,135.291 ,135.292,135.293,135.293,135.293, 135.293,135.292,135.291,135.29,135.289, 135.288,135.286,135.285,135.283,135.28, 135.277,135.275,135.272,135.27,135.267, 135.264,135.261,135.258,135.255,135.251 ,135.245,135.239,135.236,135.232, 135.228,135.224,135.219,135.213,135.208 ,135.204,135.199,135.196,135.196, 135.585,136.135,136.659,136.673,136.678 ,136.682,136.687,136.69,136.695,136.698 ,136.701,136.704,136.707,136.711, 136.715,136.719,136.724,136.727,136.731 ,136.735,136.74,136.745,136.749,136.754 ,136.762,136.768,136.774,136.78,136.788 ,136.797,136.804,136.809,136.817, 136.824,136.828,136.833,136.838,136.843 ,136.848,136.853,136.858,136.864, 136.872,136.879,136.885,136.891,136.905 ,136.908,136.851)
ORBIT_NUMBER = 22005
ORBITAL_ECCENTRICITY = 0.574
ORBITAL_INCLINATION = 87.0
ORBITAL_SEMIMAJOR_AXIS = 8827.08
PERIAPSIS_ALTITUDE = 371.49
PERIAPSIS_ARGUMENT_ANGLE = 150.42
PERIAPSIS_TIME = 2021-05-31T10:52:28.000Z
SPACECRAFT_ORIENTATION = (0.0,-1.0,0.0)
^MEX_ORIENTATION_DESC = "MEX_ORIENTATION_DESC.TXT"
SPACECRAFT_POINTING_MODE = ACROSSTRACK
^MEX_POINTING_DESC = "MEX_POINTING_DESC.TXT"
RIGHT_ASCENSION = -1e+32
DECLINATION = -1e+32
OFFSET_ANGLE = 1.05
SPACECRAFT_SOLAR_DISTANCE = 2.47885e+08
TARGET_NAME = MARS
/* CAMERA DATA ELEMENTS */
DETECTOR_TEMPERATURE = 16.9432
FOCAL_PLANE_TEMPERATURE = 8.5833
INST_CMPRS_NAME = "DISCRETE COSINE TRANSFORMATION (DCT)"
INST_CMPRS_RATIO = 7.84646
INST_CMPRS_QUALITY = 0
INST_CMPRS_QUANTZ_TBL_ID = 0
INSTRUMENT_TEMPERATURE = 10.8262
LENS_TEMPERATURE = 7.9716
MACROPIXEL_SIZE = 4
MISSING_FRAMES = 0
PIXEL_SUBSAMPLING_FLAG = N
SIGNAL_CHAIN_ID = 2
/* RADIOMETRIC DATA ELEMENTS */
BANDWIDTH = 81.0
CENTER_FILTER_WAVELENGTH = 955.5
RADIANCE_OFFSET = 0.679172
RADIANCE_SCALING_FACTOR = 0.00458928
REFLECTANCE_SCALING_FACTOR = 0.000608375
MEX:REFLECTANCE_OFFSET = 0.0900341
/* IMAGE OBJECT DEFINITIONS */
OBJECT = IMAGE
  INTERCHANGE_FORMAT = BINARY
  LINES = 17415
  LINE_SAMPLES = 1831
  SAMPLE_TYPE = UNSIGNED_INTEGER
  SAMPLE_BITS = 8
  BANDS = 1
  BAND_STORAGE_TYPE = BAND_SEQUENTIAL
  MAXIMUM = 255
  MEAN = 122.368
  MINIMUM = 1
  STANDARD_DEVIATION = 20.1918
END_OBJECT = IMAGE
/* MAP OBJECT DEFINITIONS */
OBJECT = IMAGE_MAP_PROJECTION
  ^DATA_SET_MAP_PROJECTION_CATALOG= "DSMAP.CAT"
  A_AXIS_RADIUS = 3396.0
  B_AXIS_RADIUS = 3396.0
  C_AXIS_RADIUS = 3396.0
  CENTER_LATITUDE = 0.0
  CENTER_LONGITUDE = 136.0
  COORDINATE_SYSTEM_NAME = PLANETOGRAPHIC
  COORDINATE_SYSTEM_TYPE = "BODY-FIXED ROTATING"
  EASTERNMOST_LONGITUDE = 136.908
  FIRST_STANDARD_PARALLEL = "N/A"
  LINE_FIRST_PIXEL = 1
  LINE_LAST_PIXEL = 17415
  LINE_PROJECTION_OFFSET = 38255.125
  MAP_PROJECTION_ROTATION = 0.0
  MAP_PROJECTION_TYPE = SINUSOIDAL
  MAP_RESOLUTION = 1185.42760773333
  MAP_SCALE = 0.05
  MAXIMUM_LATITUDE = 32.3383
  MINIMUM_LATITUDE = 17.5386
  POSITIVE_LONGITUDE_DIRECTION = EAST
  REFERENCE_LATITUDE = "N/A"
  REFERENCE_LONGITUDE = "N/A"
  SAMPLE_FIRST_PIXEL = 1
  SAMPLE_LAST_PIXEL = 1831
  SAMPLE_PROJECTION_OFFSET = 937.125
  SECOND_STANDARD_PARALLEL = "N/A"
  WESTERNMOST_LONGITUDE = 135.196
END_OBJECT = IMAGE_MAP_PROJECTION
END
