PDS_VERSION_ID = PDS3
/* FILE DATA ELEMENTS */
RECORD_TYPE = UNDEFINED
/* POINTERS TO DATA OBJECTS */
^IMAGE = ("HM005_0000_P14.TIF")
/* IDENTIFICATION DATA ELEMENTS */
DATA_SET_ID = "MEX-M-HRSC-4-REFDR-MAPPROJECT-EXT8-V4.0"
DATA_SET_NAME = "MARS EXPRESS HRSC MAP PROJECTED REFDR EXTENSION8 V4.0"
DETECTOR_ID = MEX_HRSC_P1
EVENT_TYPE = "MARS-REGIONAL-MAPPING-Vo-Te-Im"
INSTRUMENT_HOST_ID = MEX
INSTRUMENT_HOST_NAME = "MARS EXPRESS"
INSTRUMENT_ID = HRSC
INSTRUMENT_NAME = "HIGH RESOLUTION STEREO CAMERA"
MISSION_NAME = "MARS EXPRESS"
MISSION_PHASE_NAME = ME_Phase_44
PROCESSING_LEVEL_ID = 4
PRODUCT_CREATION_TIME = 2023-01-25T08:48:24.000Z
PRODUCT_ID = "HM005_0000_P14.TIF"
RELEASE_ID = 0001
REVISION_ID = 0000
/* QUALITY DATA ELEMENTS */
DATA_QUALITY_ID = 1
DATA_QUALITY_DESC = "Data calculated based on original SPICE kernels"
/* TIME DATA ELEMENTS */
SPACECRAFT_CLOCK_START_COUNT = "1/0570538237.24888"
SPACECRAFT_CLOCK_STOP_COUNT = "1/0570538541.46821"
START_TIME = 2021-05-31T10:51:23.103Z
STOP_TIME = 2021-05-31T10:55:10.936Z
/* ORBITAL DATA ELEMENTS */
ASCENDING_NODE_LONGITUDE = 163.13
MAXIMUM_RESOLUTION = 0.0309
FOOTPRINT_POINT_LATITUDE = (32.2681,32.2931,32.3108,32.3256,32.326 ,32.287,31.9973,31.7073,31.4171,31.1268 ,30.8361,30.5454,30.2545,29.9632, 29.5263,29.0885,28.6506,28.3586,28.0659 ,27.6278,27.3355,27.0427,26.6037, 26.1642,25.724,25.4306,24.991,24.6979, 24.2587,23.9657,23.6724,23.379,23.0861, 22.7886,22.4948,22.2009,21.907,21.6119, 21.3178,21.0254,20.5844,20.2904,19.8498 ,19.5556,19.2618,18.9678,18.674,18.233, 17.7923,17.6455,17.6179,17.5903,17.5755 ,17.5492,17.5484,17.5487,17.8428, 18.1373,18.4315,18.7258,19.167,19.6084, 19.903,20.1976,20.4919,20.7858,21.2267, 21.5212,21.8163,22.1108,22.405,22.8492, 23.1432,23.437,23.7304,24.1703,24.611, 24.9039,25.3432,25.6354,26.0735,26.5136 ,26.8064,27.2452,27.5365,27.8295, 28.1223,28.4149,28.8533,29.1456,29.5831 ,30.0203,30.4572,30.7485,31.0392, 31.3298,31.6204,32.0553,32.2001, 32.2681)
FOOTPRINT_POINT_LONGITUDE = (136.846,136.248,135.758,135.28,135.265 ,135.274,135.276,135.278,135.28,135.281 ,135.283,135.284,135.285,135.286, 135.287,135.287,135.288,135.288,135.288 ,135.287,135.286,135.286,135.284, 135.282,135.28,135.279,135.276,135.274, 135.271,135.268,135.266,135.263,135.26, 135.257,135.254,135.251,135.248,135.245 ,135.242,135.238,135.232,135.228, 135.222,135.218,135.214,135.209,135.205 ,135.198,135.191,135.188,135.188, 135.823,136.141,136.657,136.672,136.678 ,136.68,136.683,136.686,136.689,136.694 ,136.699,136.702,136.705,136.708, 136.712,136.718,136.721,136.724,136.727 ,136.731,136.738,136.743,136.747, 136.752,136.759,136.765,136.771,136.779 ,136.785,136.794,136.801,136.806, 136.814,136.82,136.825,136.829,136.834, 136.841,136.846,136.854,136.862,136.87, 136.875,136.88,136.886,136.891,136.9, 136.903,136.846)
ORBIT_NUMBER = 22005
ORBITAL_ECCENTRICITY = 0.574
ORBITAL_INCLINATION = 87.0
ORBITAL_SEMIMAJOR_AXIS = 8827.08
PERIAPSIS_ALTITUDE = 371.49
PERIAPSIS_ARGUMENT_ANGLE = 150.42
PERIAPSIS_TIME = 2021-05-31T10:52:28.000Z
SPACECRAFT_ORIENTATION = (0.0,-1.0,0.0)
^MEX_ORIENTATION_DESC = "MEX_ORIENTATION_DESC.TXT"
SPACECRAFT_POINTING_MODE = ACROSSTRACK
^MEX_POINTING_DESC = "MEX_POINTING_DESC.TXT"
RIGHT_ASCENSION = -1e+32
DECLINATION = -1e+32
OFFSET_ANGLE = 1.05
SPACECRAFT_SOLAR_DISTANCE = 2.47885e+08
TARGET_NAME = MARS
/* CAMERA DATA ELEMENTS */
DETECTOR_TEMPERATURE = 16.9432
FOCAL_PLANE_TEMPERATURE = 8.5833
INST_CMPRS_NAME = "DISCRETE COSINE TRANSFORMATION (DCT)"
INST_CMPRS_RATIO = 8.34035
INST_CMPRS_QUALITY = 0
INST_CMPRS_QUANTZ_TBL_ID = 0
INSTRUMENT_TEMPERATURE = 10.8262
LENS_TEMPERATURE = 7.9716
MACROPIXEL_SIZE = 2
MISSING_FRAMES = 1
PIXEL_SUBSAMPLING_FLAG = N
SIGNAL_CHAIN_ID = 3
/* RADIOMETRIC DATA ELEMENTS */
BANDWIDTH = 174.0
CENTER_FILTER_WAVELENGTH = 675.0
RADIANCE_OFFSET = 2.66698
RADIANCE_SCALING_FACTOR = 0.0163585
REFLECTANCE_SCALING_FACTOR = 0.000540666
MEX:REFLECTANCE_OFFSET = 0.0881462
/* IMAGE OBJECT DEFINITIONS */
OBJECT = IMAGE
  INTERCHANGE_FORMAT = BINARY
  LINES = 34830
  LINE_SAMPLES = 3662
  SAMPLE_TYPE = UNSIGNED_INTEGER
  SAMPLE_BITS = 8
  BANDS = 1
  BAND_STORAGE_TYPE = BAND_SEQUENTIAL
  MAXIMUM = 255
  MEAN = 120.826
  MINIMUM = 1
  STANDARD_DEVIATION = 17.8369
END_OBJECT = IMAGE
/* MAP OBJECT DEFINITIONS */
OBJECT = IMAGE_MAP_PROJECTION
  ^DATA_SET_MAP_PROJECTION_CATALOG= "DSMAP.CAT"
  A_AXIS_RADIUS = 3396.0
  B_AXIS_RADIUS = 3396.0
  C_AXIS_RADIUS = 3396.0
  CENTER_LATITUDE = 0.0
  CENTER_LONGITUDE = 136.0
  COORDINATE_SYSTEM_NAME = PLANETOGRAPHIC
  COORDINATE_SYSTEM_TYPE = "BODY-FIXED ROTATING"
  EASTERNMOST_LONGITUDE = 136.903
  FIRST_STANDARD_PARALLEL = "N/A"
  LINE_FIRST_PIXEL = 1
  LINE_LAST_PIXEL = 34830
  LINE_PROJECTION_OFFSET = 76510.75
  MAP_PROJECTION_ROTATION = 0.0
  MAP_PROJECTION_TYPE = SINUSOIDAL
  MAP_RESOLUTION = 2370.85521546667
  MAP_SCALE = 0.025
  MAXIMUM_LATITUDE = 32.326
  MINIMUM_LATITUDE = 17.5484
  POSITIVE_LONGITUDE_DIRECTION = EAST
  REFERENCE_LATITUDE = "N/A"
  REFERENCE_LONGITUDE = "N/A"
  SAMPLE_FIRST_PIXEL = 1
  SAMPLE_LAST_PIXEL = 3662
  SAMPLE_PROJECTION_OFFSET = 1874.75
  SECOND_STANDARD_PARALLEL = "N/A"
  WESTERNMOST_LONGITUDE = 135.188
END_OBJECT = IMAGE_MAP_PROJECTION
END
