PDS_VERSION_ID = PDS3
/* FILE DATA ELEMENTS */
RECORD_TYPE = UNDEFINED
/* POINTERS TO DATA OBJECTS */
^IMAGE = ("HM032_0009_BL4.TIF")
/* IDENTIFICATION DATA ELEMENTS */
DATA_SET_ID = "MEX-M-HRSC-4-REFDR-MAPPROJECT-EXT8-V4.0"
DATA_SET_NAME = "MARS EXPRESS HRSC MAP PROJECTED REFDR EXTENSION8 V4.0"
DETECTOR_ID = MEX_HRSC_BLUE
EVENT_TYPE = "MARS-LOCAL-CARTOGRAPHY-Vo-Te"
INSTRUMENT_HOST_ID = MEX
INSTRUMENT_HOST_NAME = "MARS EXPRESS"
INSTRUMENT_ID = HRSC
INSTRUMENT_NAME = "HIGH RESOLUTION STEREO CAMERA"
MISSION_NAME = "MARS EXPRESS"
MISSION_PHASE_NAME = ME_Phase_44
PROCESSING_LEVEL_ID = 4
PRODUCT_CREATION_TIME = 2023-01-25T08:48:24.000Z
PRODUCT_ID = "HM032_0009_BL4.TIF"
RELEASE_ID = 0001
REVISION_ID = 0000
/* QUALITY DATA ELEMENTS */
DATA_QUALITY_ID = 1
DATA_QUALITY_DESC = "Data calculated based on original SPICE kernels"
/* TIME DATA ELEMENTS */
SPACECRAFT_CLOCK_START_COUNT = "1/0571217151.25670"
SPACECRAFT_CLOCK_STOP_COUNT = "1/0571217559.33233"
START_TIME = 2021-06-08T07:27:07.463Z
STOP_TIME = 2021-06-08T07:32:24.022Z
/* ORBITAL DATA ELEMENTS */
ASCENDING_NODE_LONGITUDE = 162.65
MAXIMUM_RESOLUTION = 0.062
FOOTPRINT_POINT_LATITUDE = (27.736,27.7351,27.7326,27.7288,27.7286 ,27.7289,26.8118,26.0795,25.3484, 24.6189,23.8908,23.1487,22.7762,22.4041 ,22.0325,21.6612,21.2834,20.9033, 20.5238,20.1448,19.7664,19.3793,18.9922 ,18.6057,18.2198,17.6294,17.2354,16.842 ,16.2414,15.8401,15.4396,15.031,14.6227 ,14.2152,13.7991,13.3843,12.9701, 12.5571,12.1451,11.7341,11.3244,10.9156 ,10.508,10.1013,9.69564,9.29038,8.88617 ,8.48294,8.28176,8.18677,8.18312, 8.18012,8.18002,8.1811,8.58383,8.98761, 9.39245,9.79827,10.2051,10.6129,11.0216 ,11.4314,11.8421,12.2537,12.6663, 13.0797,13.4941,13.9096,14.3235,14.7313 ,15.1399,15.5464,15.9472,16.3488, 16.7506,17.144,17.5381,17.9328,18.3237, 18.7099,19.0968,19.4842,19.8692,20.2481 ,20.6275,21.1975,21.5778,21.9492, 22.3209,22.6932,23.066,23.4393,23.8109, 24.5393,25.2691,26.0006,26.7332,27.467, 27.6507,27.736)
FOOTPRINT_POINT_LONGITUDE = (260.447,259.771,259.282,258.814,258.8, 258.801,258.785,258.771,258.757,258.743 ,258.728,258.713,258.705,258.696, 258.688,258.679,258.671,258.661,258.652 ,258.642,258.633,258.623,258.613, 258.602,258.591,258.575,258.563,258.551 ,258.532,258.52,258.507,258.494,258.481 ,258.468,258.455,258.442,258.428, 258.415,258.402,258.389,258.376,258.363 ,258.351,258.338,258.325,258.31,258.296 ,258.281,258.273,258.27,259.494,260.162 ,260.181,260.187,260.188,260.19,260.192 ,260.194,260.196,260.199,260.2,260.203, 260.205,260.208,260.21,260.213,260.215, 260.219,260.224,260.228,260.233,260.238 ,260.244,260.25,260.257,260.263,260.27, 260.275,260.281,260.287,260.293,260.299 ,260.305,260.311,260.318,260.327, 260.333,260.34,260.346,260.353,260.361, 260.369,260.376,260.389,260.403,260.419 ,260.436,260.453,260.457,260.447)
ORBIT_NUMBER = 22032
ORBITAL_ECCENTRICITY = 0.574
ORBITAL_INCLINATION = 87.0
ORBITAL_SEMIMAJOR_AXIS = 8827.62
PERIAPSIS_ALTITUDE = 373.81
PERIAPSIS_ARGUMENT_ANGLE = 145.74
PERIAPSIS_TIME = 2021-06-08T07:25:20.000Z
SPACECRAFT_ORIENTATION = (0.0,-1.0,0.0)
^MEX_ORIENTATION_DESC = "MEX_ORIENTATION_DESC.TXT"
SPACECRAFT_POINTING_MODE = ACROSSTRACK
^MEX_POINTING_DESC = "MEX_POINTING_DESC.TXT"
RIGHT_ASCENSION = -1e+32
DECLINATION = -1e+32
OFFSET_ANGLE = 1.95
SPACECRAFT_SOLAR_DISTANCE = 2.48331e+08
TARGET_NAME = MARS
/* CAMERA DATA ELEMENTS */
DETECTOR_TEMPERATURE = 20.2056
FOCAL_PLANE_TEMPERATURE = 8.3794
INST_CMPRS_NAME = "DISCRETE COSINE TRANSFORMATION (DCT)"
INST_CMPRS_RATIO = 7.89811
INST_CMPRS_QUALITY = 0
INST_CMPRS_QUANTZ_TBL_ID = 0
INSTRUMENT_TEMPERATURE = 14.9042
LENS_TEMPERATURE = 9.195
MACROPIXEL_SIZE = 4
MISSING_FRAMES = 0
PIXEL_SUBSAMPLING_FLAG = N
SIGNAL_CHAIN_ID = 2
/* RADIOMETRIC DATA ELEMENTS */
BANDWIDTH = 76.0
CENTER_FILTER_WAVELENGTH = 444.0
RADIANCE_OFFSET = 0.298538
RADIANCE_SCALING_FACTOR = 0.00267968
REFLECTANCE_SCALING_FACTOR = 0.000169786
MEX:REFLECTANCE_OFFSET = 0.0189155
/* IMAGE OBJECT DEFINITIONS */
OBJECT = IMAGE
  INTERCHANGE_FORMAT = BINARY
  LINES = 23211
  LINE_SAMPLES = 2387
  SAMPLE_TYPE = UNSIGNED_INTEGER
  SAMPLE_BITS = 8
  BANDS = 1
  BAND_STORAGE_TYPE = BAND_SEQUENTIAL
  MAXIMUM = 255
  MEAN = 130.215
  MINIMUM = 1
  STANDARD_DEVIATION = 29.3757
END_OBJECT = IMAGE
/* MAP OBJECT DEFINITIONS */
OBJECT = IMAGE_MAP_PROJECTION
  ^DATA_SET_MAP_PROJECTION_CATALOG= "DSMAP.CAT"
  A_AXIS_RADIUS = 3396.0
  B_AXIS_RADIUS = 3396.0
  C_AXIS_RADIUS = 3396.0
  CENTER_LATITUDE = 0.0
  CENTER_LONGITUDE = 259.0
  COORDINATE_SYSTEM_NAME = PLANETOGRAPHIC
  COORDINATE_SYSTEM_TYPE = "BODY-FIXED ROTATING"
  EASTERNMOST_LONGITUDE = 260.457
  FIRST_STANDARD_PARALLEL = "N/A"
  LINE_FIRST_PIXEL = 1
  LINE_LAST_PIXEL = 23211
  LINE_PROJECTION_OFFSET = 32903.125
  MAP_PROJECTION_ROTATION = 0.0
  MAP_PROJECTION_TYPE = SINUSOIDAL
  MAP_RESOLUTION = 1185.42760773333
  MAP_SCALE = 0.05
  MAXIMUM_LATITUDE = 27.736
  MINIMUM_LATITUDE = 8.180020000000001
  POSITIVE_LONGITUDE_DIRECTION = EAST
  REFERENCE_LATITUDE = "N/A"
  REFERENCE_LONGITUDE = "N/A"
  SAMPLE_FIRST_PIXEL = 1
  SAMPLE_LAST_PIXEL = 2387
  SAMPLE_PROJECTION_OFFSET = 857.875
  SECOND_STANDARD_PARALLEL = "N/A"
  WESTERNMOST_LONGITUDE = 258.27
END_OBJECT = IMAGE_MAP_PROJECTION
END
