PDS_VERSION_ID = PDS3
/* FILE DATA ELEMENTS */
RECORD_TYPE = UNDEFINED
/* POINTERS TO DATA OBJECTS */
^IMAGE = ("HM032_0009_ND4.TIF")
/* IDENTIFICATION DATA ELEMENTS */
DATA_SET_ID = "MEX-M-HRSC-4-REFDR-MAPPROJECT-EXT8-V4.0"
DATA_SET_NAME = "MARS EXPRESS HRSC MAP PROJECTED REFDR EXTENSION8 V4.0"
DETECTOR_ID = MEX_HRSC_NADIR
EVENT_TYPE = "MARS-LOCAL-CARTOGRAPHY-Vo-Te"
INSTRUMENT_HOST_ID = MEX
INSTRUMENT_HOST_NAME = "MARS EXPRESS"
INSTRUMENT_ID = HRSC
INSTRUMENT_NAME = "HIGH RESOLUTION STEREO CAMERA"
MISSION_NAME = "MARS EXPRESS"
MISSION_PHASE_NAME = ME_Phase_44
PROCESSING_LEVEL_ID = 4
PRODUCT_CREATION_TIME = 2023-01-25T08:48:24.000Z
PRODUCT_ID = "HM032_0009_ND4.TIF"
RELEASE_ID = 0001
REVISION_ID = 0000
/* QUALITY DATA ELEMENTS */
DATA_QUALITY_ID = 1
DATA_QUALITY_DESC = "Data calculated based on original SPICE kernels"
/* TIME DATA ELEMENTS */
SPACECRAFT_CLOCK_START_COUNT = "1/0571217151.25670"
SPACECRAFT_CLOCK_STOP_COUNT = "1/0571217559.33233"
START_TIME = 2021-06-08T07:27:01.122Z
STOP_TIME = 2021-06-08T07:32:15.107Z
/* ORBITAL DATA ELEMENTS */
ASCENDING_NODE_LONGITUDE = 162.65
MAXIMUM_RESOLUTION = 0.0154
FOOTPRINT_POINT_LATITUDE = (27.7369,27.7465,27.7525,27.7565, 27.7566,27.7565,27.0204,26.2853,25.5512 ,24.8181,24.0861,23.3554,22.9809, 22.4195,22.0457,21.6722,21.2992,20.9204 ,20.5384,20.1568,19.7757,19.3951, 19.0068,18.6175,18.2287,17.8404,17.2473 ,16.8508,16.4549,15.8516,15.4477, 15.0445,14.6339,14.2225,13.812,13.3936, 12.9751,12.5575,12.1407,11.7248,11.3097 ,10.8933,10.4801,10.0678,9.65643, 9.24595,8.83642,8.42785,8.22392,8.21105 ,8.201,8.19207,8.17753,8.17712,8.1772, 8.58561,8.99498,9.40531,9.81658,10.2288 ,10.6419,11.2655,11.6809,12.0972, 12.5143,12.9322,13.351,13.77,14.1809, 14.5925,15.0037,15.4072,15.8113,16.4153 ,16.8114,17.2082,17.8019,18.1905, 18.5795,18.9691,19.358,19.7388,20.1202, 20.502,20.8842,21.2636,21.6369,22.0105, 22.3846,22.759,23.1338,23.6868,24.4186, 25.1516,25.8857,26.6208,26.9887,27.541, 27.7252,27.7369)
FOOTPRINT_POINT_LONGITUDE = (260.444,259.828,259.307,258.811, 258.796,258.793,258.78,258.767,258.753, 258.74,258.725,258.71,258.702,258.69, 258.682,258.673,258.664,258.656,258.646 ,258.637,258.627,258.617,258.607, 258.597,258.586,258.575,258.558,258.546 ,258.534,258.515,258.502,258.49,258.477 ,258.464,258.451,258.438,258.424, 258.411,258.398,258.385,258.372,258.359 ,258.347,258.334,258.32,258.306,258.291 ,258.276,258.269,258.268,258.883, 259.387,260.145,260.165,260.175,260.177 ,260.179,260.181,260.184,260.186, 260.188,260.192,260.195,260.197,260.2, 260.203,260.206,260.21,260.214,260.219, 260.223,260.228,260.234,260.244,260.251 ,260.258,260.267,260.272,260.279, 260.284,260.29,260.297,260.303,260.31, 260.316,260.323,260.329,260.336,260.342 ,260.349,260.357,260.369,260.383, 260.397,260.413,260.43,260.438,260.451, 260.456,260.444)
ORBIT_NUMBER = 22032
ORBITAL_ECCENTRICITY = 0.574
ORBITAL_INCLINATION = 87.0
ORBITAL_SEMIMAJOR_AXIS = 8827.62
PERIAPSIS_ALTITUDE = 373.81
PERIAPSIS_ARGUMENT_ANGLE = 145.74
PERIAPSIS_TIME = 2021-06-08T07:25:20.000Z
SPACECRAFT_ORIENTATION = (0.0,-1.0,0.0)
^MEX_ORIENTATION_DESC = "MEX_ORIENTATION_DESC.TXT"
SPACECRAFT_POINTING_MODE = ACROSSTRACK
^MEX_POINTING_DESC = "MEX_POINTING_DESC.TXT"
RIGHT_ASCENSION = -1e+32
DECLINATION = -1e+32
OFFSET_ANGLE = 1.95
SPACECRAFT_SOLAR_DISTANCE = 2.48331e+08
TARGET_NAME = MARS
/* CAMERA DATA ELEMENTS */
DETECTOR_TEMPERATURE = 20.2056
FOCAL_PLANE_TEMPERATURE = 8.3794
INST_CMPRS_NAME = "DISCRETE COSINE TRANSFORMATION (DCT)"
INST_CMPRS_RATIO = 6.23115
INST_CMPRS_QUALITY = 0
INST_CMPRS_QUANTZ_TBL_ID = 0
INSTRUMENT_TEMPERATURE = 14.9042
LENS_TEMPERATURE = 9.195
MACROPIXEL_SIZE = 1
MISSING_FRAMES = 1
PIXEL_SUBSAMPLING_FLAG = N
SIGNAL_CHAIN_ID = 0
/* RADIOMETRIC DATA ELEMENTS */
BANDWIDTH = 177.0
CENTER_FILTER_WAVELENGTH = 677.5
RADIANCE_OFFSET = 2.2694
RADIANCE_SCALING_FACTOR = 0.0232163
REFLECTANCE_SCALING_FACTOR = 0.000760569
MEX:REFLECTANCE_OFFSET = 0.0743457
/* IMAGE OBJECT DEFINITIONS */
OBJECT = IMAGE
  INTERCHANGE_FORMAT = BINARY
  LINES = 92842
  LINE_SAMPLES = 9546
  SAMPLE_TYPE = UNSIGNED_INTEGER
  SAMPLE_BITS = 8
  BANDS = 1
  BAND_STORAGE_TYPE = BAND_SEQUENTIAL
  MAXIMUM = 255
  MEAN = 115.735
  MINIMUM = 1
  STANDARD_DEVIATION = 20.0306
END_OBJECT = IMAGE
/* MAP OBJECT DEFINITIONS */
OBJECT = IMAGE_MAP_PROJECTION
  ^DATA_SET_MAP_PROJECTION_CATALOG= "DSMAP.CAT"
  A_AXIS_RADIUS = 3396.0
  B_AXIS_RADIUS = 3396.0
  C_AXIS_RADIUS = 3396.0
  CENTER_LATITUDE = 0.0
  CENTER_LONGITUDE = 259.0
  COORDINATE_SYSTEM_NAME = PLANETOGRAPHIC
  COORDINATE_SYSTEM_TYPE = "BODY-FIXED ROTATING"
  EASTERNMOST_LONGITUDE = 260.456
  FIRST_STANDARD_PARALLEL = "N/A"
  LINE_FIRST_PIXEL = 1
  LINE_LAST_PIXEL = 92842
  LINE_PROJECTION_OFFSET = 131614.0
  MAP_PROJECTION_ROTATION = 0.0
  MAP_PROJECTION_TYPE = SINUSOIDAL
  MAP_RESOLUTION = 4741.71043093333
  MAP_SCALE = 0.0125
  MAXIMUM_LATITUDE = 27.7566
  MINIMUM_LATITUDE = 8.17712
  POSITIVE_LONGITUDE_DIRECTION = EAST
  REFERENCE_LATITUDE = "N/A"
  REFERENCE_LONGITUDE = "N/A"
  SAMPLE_FIRST_PIXEL = 1
  SAMPLE_LAST_PIXEL = 9546
  SAMPLE_PROJECTION_OFFSET = 3433.0
  SECOND_STANDARD_PARALLEL = "N/A"
  WESTERNMOST_LONGITUDE = 258.268
END_OBJECT = IMAGE_MAP_PROJECTION
END
