PDS_VERSION_ID = PDS3
/* FILE DATA ELEMENTS */
RECORD_TYPE = UNDEFINED
/* POINTERS TO DATA OBJECTS */
^IMAGE = ("HM042_0000_S14.TIF")
/* IDENTIFICATION DATA ELEMENTS */
DATA_SET_ID = "MEX-M-HRSC-4-REFDR-MAPPROJECT-EXT8-V4.0"
DATA_SET_NAME = "MARS EXPRESS HRSC MAP PROJECTED REFDR EXTENSION8 V4.0"
DETECTOR_ID = MEX_HRSC_S1
EVENT_TYPE = "MARS-LOCAL-CARTOGRAPHY-Im-Pf"
INSTRUMENT_HOST_ID = MEX
INSTRUMENT_HOST_NAME = "MARS EXPRESS"
INSTRUMENT_ID = HRSC
INSTRUMENT_NAME = "HIGH RESOLUTION STEREO CAMERA"
MISSION_NAME = "MARS EXPRESS"
MISSION_PHASE_NAME = ME_Phase_44
PROCESSING_LEVEL_ID = 4
PRODUCT_CREATION_TIME = 2023-01-25T08:48:24.000Z
PRODUCT_ID = "HM042_0000_S14.TIF"
RELEASE_ID = 0001
REVISION_ID = 0000
/* QUALITY DATA ELEMENTS */
DATA_QUALITY_ID = 1
DATA_QUALITY_DESC = "Data calculated based on original SPICE kernels"
/* TIME DATA ELEMENTS */
SPACECRAFT_CLOCK_START_COUNT = "1/0571468222.19091"
SPACECRAFT_CLOCK_STOP_COUNT = "1/0571468631.25645"
START_TIME = 2021-06-11T05:10:56.000Z
STOP_TIME = 2021-06-11T05:11:39.632Z
/* ORBITAL DATA ELEMENTS */
ASCENDING_NODE_LONGITUDE = 162.46
MAXIMUM_RESOLUTION = 0.0357
FOOTPRINT_POINT_LATITUDE = (49.4575,49.4497,49.4416,49.4331, 49.4242,49.4196,49.415,49.4102,49.4053, 49.4004,49.3953,49.3902,49.3849,49.3796 ,49.3742,49.3686,49.363,49.3572,49.3514 ,49.3454,49.3394,49.3301,49.3285, 49.2259,49.0941,49.0149,48.9357,48.8564 ,48.777,48.6975,48.5674,48.4899,48.3863 ,48.2569,48.1792,48.0495,47.9718,47.894 ,47.7644,47.6606,47.5828,47.5047, 47.4265,47.2961,47.1922,47.0906,46.9634 ,46.8363,46.76,46.658,46.6325,46.6098, 46.6184,46.624,46.6295,46.635,46.6444, 46.6497,46.655,46.66,46.6683,46.6766, 46.6811,46.6856,46.6932,46.6974,46.7057 ,46.7139,46.7212,46.7285,46.7294, 46.7303,46.8327,46.9095,46.9862,47.114, 47.2163,47.2929,47.3967,47.5014,47.5799 ,47.6583,47.7367,47.8675,47.9721, 48.0504,48.1287,48.2068,48.3371,48.415, 48.5452,48.6493,48.7272,48.8322,48.9652 ,49.0982,49.1778,49.3106,49.3372, 49.4575)
FOOTPRINT_POINT_LONGITUDE = (315.829,315.654,315.479,315.304, 315.128,315.039,314.951,314.863,314.774 ,314.685,314.597,314.508,314.419,314.33 ,314.241,314.151,314.062,313.972, 313.882,313.792,313.702,313.566,313.544 ,313.464,313.48,313.489,313.499,313.508 ,313.518,313.527,313.542,313.551, 313.563,313.577,313.586,313.6,313.609, 313.618,313.632,313.643,313.652,313.66, 313.668,313.682,313.693,313.703,313.716 ,313.729,313.737,313.747,313.75,313.752 ,313.88,313.965,314.05,314.136,314.284, 314.369,314.454,314.538,314.686,314.833 ,314.917,315.001,315.147,315.23,315.397 ,315.563,315.729,315.894,315.915, 315.922,315.919,315.917,315.915,315.911 ,315.908,315.906,315.903,315.9,315.898, 315.896,315.893,315.889,315.886,315.884 ,315.882,315.879,315.875,315.873, 315.869,315.866,315.863,315.86,315.856, 315.851,315.849,315.844,315.843, 315.829)
ORBIT_NUMBER = 22042
ORBITAL_ECCENTRICITY = 0.573
ORBITAL_INCLINATION = 87.02
ORBITAL_SEMIMAJOR_AXIS = 8811.9
PERIAPSIS_ALTITUDE = 375.35
PERIAPSIS_ARGUMENT_ANGLE = 144.04
PERIAPSIS_TIME = 2021-06-11T05:15:07.000Z
SPACECRAFT_ORIENTATION = (0.0,-1.0,0.0)
^MEX_ORIENTATION_DESC = "MEX_ORIENTATION_DESC.TXT"
SPACECRAFT_POINTING_MODE = ACROSSTRACK
^MEX_POINTING_DESC = "MEX_POINTING_DESC.TXT"
RIGHT_ASCENSION = -1e+32
DECLINATION = -1e+32
OFFSET_ANGLE = -0.6
SPACECRAFT_SOLAR_DISTANCE = 2.48474e+08
TARGET_NAME = MARS
/* CAMERA DATA ELEMENTS */
DETECTOR_TEMPERATURE = 0.0
FOCAL_PLANE_TEMPERATURE = 0.0
INST_CMPRS_NAME = "DISCRETE COSINE TRANSFORMATION (DCT)"
INST_CMPRS_RATIO = 8.27134
INST_CMPRS_QUALITY = 0
INST_CMPRS_QUANTZ_TBL_ID = 0
INSTRUMENT_TEMPERATURE = 0.0
LENS_TEMPERATURE = 0.0
MACROPIXEL_SIZE = 2
MISSING_FRAMES = 0
PIXEL_SUBSAMPLING_FLAG = N
SIGNAL_CHAIN_ID = 1
/* RADIOMETRIC DATA ELEMENTS */
BANDWIDTH = 180.0
CENTER_FILTER_WAVELENGTH = 677.0
RADIANCE_OFFSET = 2.4925
RADIANCE_SCALING_FACTOR = 0.0100768
REFLECTANCE_SCALING_FACTOR = 0.000324584
MEX:REFLECTANCE_OFFSET = 0.0802859
/* IMAGE OBJECT DEFINITIONS */
OBJECT = IMAGE
  INTERCHANGE_FORMAT = BINARY
  LINES = 610
  LINE_SAMPLES = 3552
  SAMPLE_TYPE = UNSIGNED_INTEGER
  SAMPLE_BITS = 8
  BANDS = 1
  BAND_STORAGE_TYPE = BAND_SEQUENTIAL
  MAXIMUM = 139
  MEAN = 82.4619
  MINIMUM = 43
  STANDARD_DEVIATION = 11.4977
END_OBJECT = IMAGE
/* MAP OBJECT DEFINITIONS */
OBJECT = IMAGE_MAP_PROJECTION
  ^DATA_SET_MAP_PROJECTION_CATALOG= "DSMAP.CAT"
  A_AXIS_RADIUS = 3396.0
  B_AXIS_RADIUS = 3396.0
  C_AXIS_RADIUS = 3396.0
  CENTER_LATITUDE = 0.0
  CENTER_LONGITUDE = 315.0
  COORDINATE_SYSTEM_NAME = PLANETOGRAPHIC
  COORDINATE_SYSTEM_TYPE = "BODY-FIXED ROTATING"
  EASTERNMOST_LONGITUDE = 315.922
  FIRST_STANDARD_PARALLEL = "N/A"
  LINE_FIRST_PIXEL = 1
  LINE_LAST_PIXEL = 610
  LINE_PROJECTION_OFFSET = 117012.75
  MAP_PROJECTION_ROTATION = 0.0
  MAP_PROJECTION_TYPE = SINUSOIDAL
  MAP_RESOLUTION = 2370.85521546667
  MAP_SCALE = 0.025
  MAXIMUM_LATITUDE = 49.4575
  MINIMUM_LATITUDE = 46.6098
  POSITIVE_LONGITUDE_DIRECTION = EAST
  REFERENCE_LATITUDE = "N/A"
  REFERENCE_LONGITUDE = "N/A"
  SAMPLE_FIRST_PIXEL = 1
  SAMPLE_LAST_PIXEL = 3552
  SAMPLE_PROJECTION_OFFSET = 2313.75
  SECOND_STANDARD_PARALLEL = "N/A"
  WESTERNMOST_LONGITUDE = 313.464
END_OBJECT = IMAGE_MAP_PROJECTION
END
