PDS_VERSION_ID = PDS3
/* FILE DATA ELEMENTS */
RECORD_TYPE = UNDEFINED
/* POINTERS TO DATA OBJECTS */
^IMAGE = ("HM043_0000_GR4.TIF")
/* IDENTIFICATION DATA ELEMENTS */
DATA_SET_ID = "MEX-M-HRSC-4-REFDR-MAPPROJECT-EXT8-V4.0"
DATA_SET_NAME = "MARS EXPRESS HRSC MAP PROJECTED REFDR EXTENSION8 V4.0"
DETECTOR_ID = MEX_HRSC_GREEN
EVENT_TYPE = "MARS-LOCAL-CARTOGRAPHY-Vo-Te-Mw"
INSTRUMENT_HOST_ID = MEX
INSTRUMENT_HOST_NAME = "MARS EXPRESS"
INSTRUMENT_ID = HRSC
INSTRUMENT_NAME = "HIGH RESOLUTION STEREO CAMERA"
MISSION_NAME = "MARS EXPRESS"
MISSION_PHASE_NAME = ME_Phase_44
PROCESSING_LEVEL_ID = 4
PRODUCT_CREATION_TIME = 2023-01-25T08:48:24.000Z
PRODUCT_ID = "HM043_0000_GR4.TIF"
RELEASE_ID = 0001
REVISION_ID = 0000
/* QUALITY DATA ELEMENTS */
DATA_QUALITY_ID = 1
DATA_QUALITY_DESC = "Data calculated based on original SPICE kernels"
/* TIME DATA ELEMENTS */
SPACECRAFT_CLOCK_START_COUNT = "1/0571493611.25671"
SPACECRAFT_CLOCK_STOP_COUNT = "1/0571493987.56322"
START_TIME = 2021-06-11T12:14:33.942Z
STOP_TIME = 2021-06-11T12:19:24.343Z
/* ORBITAL DATA ELEMENTS */
ASCENDING_NODE_LONGITUDE = 162.45
MAXIMUM_RESOLUTION = 0.0611
FOOTPRINT_POINT_LATITUDE = (33.5618,33.5752,33.5826,33.5879, 33.5881,33.5777,33.0356,32.4939,32.1327 ,31.7713,31.41,31.0489,30.6878,30.3272, 29.9664,29.6053,29.0645,28.7043,28.3436 ,27.9837,27.624,27.2644,26.9043,26.5451 ,26.1857,25.6479,25.2892,24.7519, 24.2152,23.6788,23.1431,22.7784,22.4121 ,21.8636,21.4987,20.9452,20.5718, 20.0118,19.6393,19.258,18.8771,18.4963, 18.1158,17.7272,17.1443,16.7564,16.3597 ,15.9638,15.3673,15.1652,15.1493, 15.1321,15.117,15.1041,15.1036,15.1045, 15.5078,15.9044,16.3011,16.6983,17.0868 ,17.6701,18.059,18.4409,19.0132,19.3957 ,19.7717,20.1449,20.5186,20.8929,21.264 ,21.8117,22.1772,22.5436,23.0925, 23.8075,24.5234,25.0611,25.7789,26.318, 26.6776,27.2177,27.5776,27.9382,28.2986 ,28.6598,29.0204,29.3812,29.742,30.1032 ,30.6448,31.0064,31.3673,31.729,32.0907 ,32.4525,32.8141,33.3566,33.5373, 33.5618)
FOOTPRINT_POINT_LONGITUDE = (216.469,215.812,215.329,214.86,214.846 ,214.866,214.865,214.862,214.86,214.859 ,214.857,214.855,214.852,214.848, 214.845,214.843,214.838,214.833,214.83, 214.826,214.821,214.816,214.812,214.807 ,214.803,214.794,214.788,214.779,214.77 ,214.761,214.751,214.744,214.738, 214.727,214.719,214.708,214.699,214.687 ,214.678,214.671,214.661,214.652, 214.642,214.633,214.617,214.607,214.596 ,214.585,214.568,214.563,214.562, 215.282,215.833,216.264,216.281,216.286 ,216.291,216.291,216.294,216.297, 216.301,216.307,216.312,216.31,216.314, 216.315,216.319,216.323,216.327,216.331 ,216.338,216.346,216.352,216.356, 216.361,216.37,216.381,216.389,216.399, 216.407,216.412,216.419,216.426,216.43, 216.436,216.438,216.445,216.452,216.46, 216.466,216.478,216.483,216.493,216.499 ,216.506,216.512,216.52,216.532,216.537 ,216.469)
ORBIT_NUMBER = 22043
ORBITAL_ECCENTRICITY = 0.573
ORBITAL_INCLINATION = 87.02
ORBITAL_SEMIMAJOR_AXIS = 8814.56
PERIAPSIS_ALTITUDE = 375.02
PERIAPSIS_ARGUMENT_ANGLE = 143.84
PERIAPSIS_TIME = 2021-06-11T12:14:00.000Z
SPACECRAFT_ORIENTATION = (0.0,-1.0,0.0)
^MEX_ORIENTATION_DESC = "MEX_ORIENTATION_DESC.TXT"
SPACECRAFT_POINTING_MODE = ACROSSTRACK
^MEX_POINTING_DESC = "MEX_POINTING_DESC.TXT"
RIGHT_ASCENSION = -1e+32
DECLINATION = -1e+32
OFFSET_ANGLE = 1.346
SPACECRAFT_SOLAR_DISTANCE = 2.48487e+08
TARGET_NAME = MARS
/* CAMERA DATA ELEMENTS */
DETECTOR_TEMPERATURE = 17.9627
FOCAL_PLANE_TEMPERATURE = 7.7677
INST_CMPRS_NAME = "DISCRETE COSINE TRANSFORMATION (DCT)"
INST_CMPRS_RATIO = 7.69432
INST_CMPRS_QUALITY = 0
INST_CMPRS_QUANTZ_TBL_ID = 0
INSTRUMENT_TEMPERATURE = 10.6223
LENS_TEMPERATURE = 8.1755
MACROPIXEL_SIZE = 4
MISSING_FRAMES = 0
PIXEL_SUBSAMPLING_FLAG = N
SIGNAL_CHAIN_ID = 2
/* RADIOMETRIC DATA ELEMENTS */
BANDWIDTH = 88.0
CENTER_FILTER_WAVELENGTH = 538.0
RADIANCE_OFFSET = 0.915195
RADIANCE_SCALING_FACTOR = 0.00553059
REFLECTANCE_SCALING_FACTOR = 0.000294015
MEX:REFLECTANCE_OFFSET = 0.0486532
/* IMAGE OBJECT DEFINITIONS */
OBJECT = IMAGE
  INTERCHANGE_FORMAT = BINARY
  LINES = 21880
  LINE_SAMPLES = 2195
  SAMPLE_TYPE = UNSIGNED_INTEGER
  SAMPLE_BITS = 8
  BANDS = 1
  BAND_STORAGE_TYPE = BAND_SEQUENTIAL
  MAXIMUM = 255
  MEAN = 158.537
  MINIMUM = 1
  STANDARD_DEVIATION = 30.5786
END_OBJECT = IMAGE
/* MAP OBJECT DEFINITIONS */
OBJECT = IMAGE_MAP_PROJECTION
  ^DATA_SET_MAP_PROJECTION_CATALOG= "DSMAP.CAT"
  A_AXIS_RADIUS = 3396.0
  B_AXIS_RADIUS = 3396.0
  C_AXIS_RADIUS = 3396.0
  CENTER_LATITUDE = 0.0
  CENTER_LONGITUDE = 216.0
  COORDINATE_SYSTEM_NAME = PLANETOGRAPHIC
  COORDINATE_SYSTEM_TYPE = "BODY-FIXED ROTATING"
  EASTERNMOST_LONGITUDE = 216.537
  FIRST_STANDARD_PARALLEL = "N/A"
  LINE_FIRST_PIXEL = 1
  LINE_LAST_PIXEL = 21880
  LINE_PROJECTION_OFFSET = 39795.875
  MAP_PROJECTION_ROTATION = 0.0
  MAP_PROJECTION_TYPE = SINUSOIDAL
  MAP_RESOLUTION = 1185.42760773333
  MAP_SCALE = 0.05
  MAXIMUM_LATITUDE = 33.5881
  MINIMUM_LATITUDE = 15.1036
  POSITIVE_LONGITUDE_DIRECTION = EAST
  REFERENCE_LATITUDE = "N/A"
  REFERENCE_LONGITUDE = "N/A"
  SAMPLE_FIRST_PIXEL = 1
  SAMPLE_LAST_PIXEL = 2195
  SAMPLE_PROJECTION_OFFSET = 1663.875
  SECOND_STANDARD_PARALLEL = "N/A"
  WESTERNMOST_LONGITUDE = 214.562
END_OBJECT = IMAGE_MAP_PROJECTION
END
