PDS_VERSION_ID = PDS3
/* FILE DATA ELEMENTS */
RECORD_TYPE = UNDEFINED
/* POINTERS TO DATA OBJECTS */
^IMAGE = ("HM043_0000_S24.TIF")
/* IDENTIFICATION DATA ELEMENTS */
DATA_SET_ID = "MEX-M-HRSC-4-REFDR-MAPPROJECT-EXT8-V4.0"
DATA_SET_NAME = "MARS EXPRESS HRSC MAP PROJECTED REFDR EXTENSION8 V4.0"
DETECTOR_ID = MEX_HRSC_S2
EVENT_TYPE = "MARS-LOCAL-CARTOGRAPHY-Vo-Te-Mw"
INSTRUMENT_HOST_ID = MEX
INSTRUMENT_HOST_NAME = "MARS EXPRESS"
INSTRUMENT_ID = HRSC
INSTRUMENT_NAME = "HIGH RESOLUTION STEREO CAMERA"
MISSION_NAME = "MARS EXPRESS"
MISSION_PHASE_NAME = ME_Phase_44
PROCESSING_LEVEL_ID = 4
PRODUCT_CREATION_TIME = 2023-01-25T08:48:24.000Z
PRODUCT_ID = "HM043_0000_S24.TIF"
RELEASE_ID = 0001
REVISION_ID = 0000
/* QUALITY DATA ELEMENTS */
DATA_QUALITY_ID = 1
DATA_QUALITY_DESC = "Data calculated based on original SPICE kernels"
/* TIME DATA ELEMENTS */
SPACECRAFT_CLOCK_START_COUNT = "1/0571493611.25671"
SPACECRAFT_CLOCK_STOP_COUNT = "1/0571493987.56322"
START_TIME = 2021-06-11T12:15:15.372Z
STOP_TIME = 2021-06-11T12:20:19.630Z
/* ORBITAL DATA ELEMENTS */
ASCENDING_NODE_LONGITUDE = 162.45
MAXIMUM_RESOLUTION = 0.0329
FOOTPRINT_POINT_LATITUDE = (33.5761,33.5541,33.538,33.5221,33.5062 ,33.4746,33.4736,33.5363,32.9895, 32.6243,32.2604,31.7159,31.355,30.8142, 30.2703,29.9107,29.5542,29.1955,28.6572 ,28.1244,27.7674,27.4104,27.0585, 26.7016,26.3519,25.8203,25.4629,24.9232 ,24.3801,23.8396,23.475,22.9285,22.383, 21.8271,21.4563,21.0871,20.7096,20.1467 ,19.5762,19.0107,18.6289,18.2408,17.855 ,17.27,16.8767,16.486,16.094,15.7035, 15.3173,15.1244,15.1233,15.1497,15.169, 15.1833,15.2061,15.2075,15.2084,15.7887 ,16.1751,16.7644,17.3548,17.7486, 18.1362,18.7111,19.0912,19.4722,19.856, 20.2329,20.795,21.1726,21.735,22.2912, 22.6595,23.2068,23.5693,23.9367,24.2995 ,24.8378,25.197,25.5571,26.0974,26.4502 ,26.9795,27.5098,27.8641,28.3977, 28.7521,29.2917,29.6496,30.1876,30.5499 ,31.0913,31.6369,31.9983,32.361,32.7246 ,33.089,33.4557,33.6397,33.5761)
FOOTPRINT_POINT_LONGITUDE = (216.499,216.129,215.865,215.606, 215.351,214.853,214.838,214.857,214.854 ,214.851,214.849,214.845,214.842, 214.838,214.831,214.827,214.824,214.82, 214.812,214.806,214.8,214.795,214.79, 214.783,214.779,214.769,214.764,214.754 ,214.742,214.731,214.724,214.713, 214.701,214.689,214.68,214.671,214.661, 214.647,214.632,214.618,214.607,214.596 ,214.586,214.568,214.556,214.545, 214.532,214.519,214.507,214.501,214.501 ,215.134,215.548,215.86,216.346,216.365 ,216.372,216.372,216.371,216.375, 216.378,216.382,216.384,216.381,216.382 ,216.384,216.387,216.39,216.392,216.395 ,216.407,216.411,216.413,216.419,216.42 ,216.425,216.429,216.436,216.439, 216.443,216.452,216.457,216.462,216.468 ,216.472,216.478,216.481,216.492, 216.496,216.503,216.511,216.52,216.532, 216.537,216.543,216.55,216.557,216.565, 216.57,216.499)
ORBIT_NUMBER = 22043
ORBITAL_ECCENTRICITY = 0.573
ORBITAL_INCLINATION = 87.02
ORBITAL_SEMIMAJOR_AXIS = 8814.56
PERIAPSIS_ALTITUDE = 375.02
PERIAPSIS_ARGUMENT_ANGLE = 143.84
PERIAPSIS_TIME = 2021-06-11T12:14:00.000Z
SPACECRAFT_ORIENTATION = (0.0,-1.0,0.0)
^MEX_ORIENTATION_DESC = "MEX_ORIENTATION_DESC.TXT"
SPACECRAFT_POINTING_MODE = ACROSSTRACK
^MEX_POINTING_DESC = "MEX_POINTING_DESC.TXT"
RIGHT_ASCENSION = -1e+32
DECLINATION = -1e+32
OFFSET_ANGLE = 1.346
SPACECRAFT_SOLAR_DISTANCE = 2.48487e+08
TARGET_NAME = MARS
/* CAMERA DATA ELEMENTS */
DETECTOR_TEMPERATURE = 17.9627
FOCAL_PLANE_TEMPERATURE = 7.7677
INST_CMPRS_NAME = "DISCRETE COSINE TRANSFORMATION (DCT)"
INST_CMPRS_RATIO = 8.14
INST_CMPRS_QUALITY = 0
INST_CMPRS_QUANTZ_TBL_ID = 0
INSTRUMENT_TEMPERATURE = 10.6223
LENS_TEMPERATURE = 8.1755
MACROPIXEL_SIZE = 2
MISSING_FRAMES = 0
PIXEL_SUBSAMPLING_FLAG = N
SIGNAL_CHAIN_ID = 1
/* RADIOMETRIC DATA ELEMENTS */
BANDWIDTH = 178.0
CENTER_FILTER_WAVELENGTH = 679.0
RADIANCE_OFFSET = 2.95425
RADIANCE_SCALING_FACTOR = 0.0212713
REFLECTANCE_SCALING_FACTOR = 0.000695559
MEX:REFLECTANCE_OFFSET = 0.096602
/* IMAGE OBJECT DEFINITIONS */
OBJECT = IMAGE
  INTERCHANGE_FORMAT = BINARY
  LINES = 43759
  LINE_SAMPLES = 4390
  SAMPLE_TYPE = UNSIGNED_INTEGER
  SAMPLE_BITS = 8
  BANDS = 1
  BAND_STORAGE_TYPE = BAND_SEQUENTIAL
  MAXIMUM = 255
  MEAN = 134.449
  MINIMUM = 1
  STANDARD_DEVIATION = 29.1416
END_OBJECT = IMAGE
/* MAP OBJECT DEFINITIONS */
OBJECT = IMAGE_MAP_PROJECTION
  ^DATA_SET_MAP_PROJECTION_CATALOG= "DSMAP.CAT"
  A_AXIS_RADIUS = 3396.0
  B_AXIS_RADIUS = 3396.0
  C_AXIS_RADIUS = 3396.0
  CENTER_LATITUDE = 0.0
  CENTER_LONGITUDE = 216.0
  COORDINATE_SYSTEM_NAME = PLANETOGRAPHIC
  COORDINATE_SYSTEM_TYPE = "BODY-FIXED ROTATING"
  EASTERNMOST_LONGITUDE = 216.57
  FIRST_STANDARD_PARALLEL = "N/A"
  LINE_FIRST_PIXEL = 1
  LINE_LAST_PIXEL = 43759
  LINE_PROJECTION_OFFSET = 79592.25
  MAP_PROJECTION_ROTATION = 0.0
  MAP_PROJECTION_TYPE = SINUSOIDAL
  MAP_RESOLUTION = 2370.85521546667
  MAP_SCALE = 0.025
  MAXIMUM_LATITUDE = 33.6397
  MINIMUM_LATITUDE = 15.1233
  POSITIVE_LONGITUDE_DIRECTION = EAST
  REFERENCE_LATITUDE = "N/A"
  REFERENCE_LONGITUDE = "N/A"
  SAMPLE_FIRST_PIXEL = 1
  SAMPLE_LAST_PIXEL = 4390
  SAMPLE_PROJECTION_OFFSET = 3328.25
  SECOND_STANDARD_PARALLEL = "N/A"
  WESTERNMOST_LONGITUDE = 214.501
END_OBJECT = IMAGE_MAP_PROJECTION
END
