PDS_VERSION_ID = PDS3
/* FILE DATA ELEMENTS */
RECORD_TYPE = UNDEFINED
/* POINTERS TO DATA OBJECTS */
^IMAGE = ("HM069_0004_SR4.TIF")
/* IDENTIFICATION DATA ELEMENTS */
DATA_SET_ID = "MEX-M-HRSC-4-REFDR-MAPPROJECT-EXT8-V4.0"
DATA_SET_NAME = "MARS EXPRESS HRSC MAP PROJECTED REFDR EXTENSION8 V4.0"
DETECTOR_ID = MEX_HRSC_SRC
EVENT_TYPE = "MARS-LOCAL-CARTOGRAPHY-Im-Lc-Ts"
INSTRUMENT_HOST_ID = MEX
INSTRUMENT_HOST_NAME = "MARS EXPRESS"
INSTRUMENT_ID = HRSC
INSTRUMENT_NAME = "HIGH RESOLUTION STEREO CAMERA"
MISSION_NAME = "MARS EXPRESS"
MISSION_PHASE_NAME = ME_Phase_44
PROCESSING_LEVEL_ID = 4
PRODUCT_CREATION_TIME = 2023-01-25T08:48:24.000Z
PRODUCT_ID = "HM069_0004_SR4.TIF"
RELEASE_ID = 0001
REVISION_ID = 0000
/* QUALITY DATA ELEMENTS */
DATA_QUALITY_ID = 1
DATA_QUALITY_DESC = "Data calculated based on original SPICE kernels"
/* TIME DATA ELEMENTS */
SPACECRAFT_CLOCK_START_COUNT = "1/0572147499.25683"
SPACECRAFT_CLOCK_STOP_COUNT = "1/0572147673.32575"
IMAGE_TIME = 2021-06-19T01:53:27.511Z
START_TIME = 2021-06-19T01:53:27.508Z
STOP_TIME = 2021-06-19T01:53:27.513Z
/* ORBITAL DATA ELEMENTS */
ASCENDING_NODE_LONGITUDE = 161.97
MAXIMUM_RESOLUTION = 0.004404
FOOTPRINT_POINT_LATITUDE = (18.4463,18.4502,18.4527,18.4563,18.462 ,18.4647,18.4678,18.4707,18.4751, 18.4785,18.484,18.4865,18.4906,18.493, 18.4967,18.5008,18.5052,18.5083,18.512, 18.5173,18.5212,18.5213,18.5213,18.5212 ,18.5212,18.5212,18.5212,18.5212, 18.5212,18.5212,18.5212,18.5212,18.5212 ,18.5212,18.5212,18.5212,18.5212, 18.5212,18.5212,18.5212,18.5211,18.5211 ,18.5211,18.5211,18.5211,18.5211, 18.5211,18.5211,18.5211,18.5211,18.5177 ,18.515,18.5123,18.5089,18.5058,18.4996 ,18.4953,18.4927,18.4894,18.4852, 18.4815,18.4789,18.4765,18.4727,18.4703 ,18.466,18.4604,18.4568,18.4526,18.4491 ,18.4464,18.4463,18.4463,18.4463, 18.4463,18.4463,18.4463,18.4463,18.4463 ,18.4463,18.4463,18.4463,18.4463, 18.4463,18.4463,18.4463,18.4463,18.4463 ,18.4463,18.4463,18.4463,18.4463, 18.4463,18.4463,18.4463,18.4463,18.4463 ,18.4463,18.4463,18.4463)
FOOTPRINT_POINT_LONGITUDE = (77.4167,77.4167,77.4167,77.4167, 77.4167,77.4167,77.4176,77.4176,77.4176 ,77.4176,77.4176,77.4176,77.4176, 77.4176,77.4176,77.4176,77.4176,77.4176 ,77.4176,77.4176,77.4176,77.4176, 77.4177,77.4209,77.4241,77.4273,77.4305 ,77.4337,77.4369,77.44,77.4432,77.4464, 77.4496,77.4528,77.456,77.4592,77.4624, 77.4655,77.4687,77.4719,77.4751,77.4783 ,77.4815,77.4846,77.4878,77.491,77.4942 ,77.4974,77.4982,77.4987,77.4986, 77.4986,77.4986,77.4986,77.4986,77.4986 ,77.4986,77.4986,77.4986,77.4986, 77.4986,77.4986,77.4986,77.4986,77.4986 ,77.4986,77.4977,77.4977,77.4977, 77.4977,77.4977,77.4977,77.4976,77.4945 ,77.4913,77.4881,77.4849,77.4817, 77.4785,77.4754,77.4722,77.469,77.4658, 77.4626,77.4594,77.4562,77.4531,77.4499 ,77.4467,77.4435,77.4403,77.4371, 77.4339,77.4307,77.4275,77.4243,77.4212 ,77.418,77.4172,77.4167)
ORBIT_NUMBER = 22069
ORBITAL_ECCENTRICITY = 0.573
ORBITAL_INCLINATION = 87.02
ORBITAL_SEMIMAJOR_AXIS = 8812.55
PERIAPSIS_ALTITUDE = 377.04
PERIAPSIS_ARGUMENT_ANGLE = 139.36
PERIAPSIS_TIME = 2021-06-19T01:47:37.000Z
SPACECRAFT_ORIENTATION = (0.0,-1.0,0.0)
^MEX_ORIENTATION_DESC = "MEX_ORIENTATION_DESC.TXT"
SPACECRAFT_POINTING_MODE = ACROSSTRACK
^MEX_POINTING_DESC = "MEX_POINTING_DESC.TXT"
RIGHT_ASCENSION = -1e+32
DECLINATION = -1e+32
OFFSET_ANGLE = -1.21
SPACECRAFT_SOLAR_DISTANCE = 2.48798e+08
TARGET_NAME = MARS
/* CAMERA DATA ELEMENTS */
BUFFER_MODE_ID = BUFFER_8
EXPOSURE_DURATION = 5.04
INST_CMPRS_NAME = NONE
INST_CMPRS_RATIO = 1.0
INST_CMPRS_QUALITY = -2147483648
INST_CMPRS_QUANTZ_TBL_ID = -2147483648
INSTRUMENT_TEMPERATURE = 5.09828
MISSING_FRAMES = 0
START_BIT = 0
/* RADIOMETRIC DATA ELEMENTS */
BANDWIDTH = 250.0
CENTER_FILTER_WAVELENGTH = 600.0
RADIANCE_OFFSET = -9.99e+31
RADIANCE_SCALING_FACTOR = -9.99e+31
REFLECTANCE_SCALING_FACTOR = -9.99e+31
MEX:REFLECTANCE_OFFSET = -9.99e+31
/* IMAGE OBJECT DEFINITIONS */
OBJECT = IMAGE
  INTERCHANGE_FORMAT = BINARY
  LINES = 933
  LINE_SAMPLES = 958
  SAMPLE_TYPE = UNSIGNED_INTEGER
  SAMPLE_BITS = 8
  BANDS = 1
  BAND_STORAGE_TYPE = BAND_SEQUENTIAL
  MAXIMUM = 255
  MEAN = 127.775
  MINIMUM = 1
  STANDARD_DEVIATION = 19.2461
END_OBJECT = IMAGE
/* MAP OBJECT DEFINITIONS */
OBJECT = IMAGE_MAP_PROJECTION
  ^DATA_SET_MAP_PROJECTION_CATALOG= "DSMAP.CAT"
  A_AXIS_RADIUS = 3396.19
  B_AXIS_RADIUS = 3396.19
  C_AXIS_RADIUS = 3396.19
  CENTER_LATITUDE = 0.0
  CENTER_LONGITUDE = 77.0
  COORDINATE_SYSTEM_NAME = PLANETOGRAPHIC
  COORDINATE_SYSTEM_TYPE = "BODY-FIXED ROTATING"
  EASTERNMOST_LONGITUDE = 77.4987
  FIRST_STANDARD_PARALLEL = "N/A"
  LINE_FIRST_PIXEL = 1
  LINE_LAST_PIXEL = 933
  LINE_PROJECTION_OFFSET = 219545.0
  MAP_PROJECTION_ROTATION = 0.0
  MAP_PROJECTION_TYPE = SINUSOIDAL
  MAP_RESOLUTION = 11854.9393024378
  MAP_SCALE = 0.005
  MAXIMUM_LATITUDE = 18.5213
  MINIMUM_LATITUDE = 18.4463
  POSITIVE_LONGITUDE_DIRECTION = EAST
  REFERENCE_LATITUDE = "N/A"
  REFERENCE_LONGITUDE = "N/A"
  SAMPLE_FIRST_PIXEL = 1
  SAMPLE_LAST_PIXEL = 958
  SAMPLE_PROJECTION_OFFSET = -4606.0
  SECOND_STANDARD_PARALLEL = "N/A"
  WESTERNMOST_LONGITUDE = 77.41670000000001
END_OBJECT = IMAGE_MAP_PROJECTION
END
