PDS_VERSION_ID = PDS3
/* FILE DATA ELEMENTS */
RECORD_TYPE = UNDEFINED
/* POINTERS TO DATA OBJECTS */
^IMAGE = ("HM072_0002_SR4.TIF")
/* IDENTIFICATION DATA ELEMENTS */
DATA_SET_ID = "MEX-M-HRSC-4-REFDR-MAPPROJECT-EXT8-V4.0"
DATA_SET_NAME = "MARS EXPRESS HRSC MAP PROJECTED REFDR EXTENSION8 V4.0"
DETECTOR_ID = MEX_HRSC_SRC
EVENT_TYPE = "MARS-LOCAL-CARTOGRAPHY-Tc"
INSTRUMENT_HOST_ID = MEX
INSTRUMENT_HOST_NAME = "MARS EXPRESS"
INSTRUMENT_ID = HRSC
INSTRUMENT_NAME = "HIGH RESOLUTION STEREO CAMERA"
MISSION_NAME = "MARS EXPRESS"
MISSION_PHASE_NAME = ME_Phase_44
PROCESSING_LEVEL_ID = 4
PRODUCT_CREATION_TIME = 2023-01-25T08:48:24.000Z
PRODUCT_ID = "HM072_0002_SR4.TIF"
RELEASE_ID = 0001
REVISION_ID = 0000
/* QUALITY DATA ELEMENTS */
DATA_QUALITY_ID = 1
DATA_QUALITY_DESC = "Data calculated based on original SPICE kernels"
/* TIME DATA ELEMENTS */
SPACECRAFT_CLOCK_START_COUNT = "1/0572222463.25666"
SPACECRAFT_CLOCK_STOP_COUNT = "1/0572222601.60141"
IMAGE_TIME = 2021-06-19T22:42:48.788Z
START_TIME = 2021-06-19T22:42:48.786Z
STOP_TIME = 2021-06-19T22:42:48.791Z
/* ORBITAL DATA ELEMENTS */
ASCENDING_NODE_LONGITUDE = 161.92
MAXIMUM_RESOLUTION = 0.003704
FOOTPRINT_POINT_LATITUDE = (47.8033,47.8055,47.8085,47.8119, 47.8139,47.817,47.8198,47.8218,47.8246, 47.8288,47.8308,47.8333,47.8359,47.8379 ,47.8404,47.8424,47.846,47.8482,47.8517 ,47.8544,47.8589,47.8618,47.8664, 47.8664,47.8664,47.8664,47.8665,47.8665 ,47.8665,47.8665,47.8665,47.8665, 47.8666,47.8666,47.8666,47.8666,47.8666 ,47.8666,47.8667,47.8667,47.8667, 47.8667,47.8667,47.8667,47.8668,47.8668 ,47.8668,47.8668,47.8668,47.8668, 47.8669,47.8669,47.8624,47.8594,47.8558 ,47.8532,47.8508,47.8473,47.8453, 47.8421,47.8394,47.8367,47.8332,47.8291 ,47.8262,47.8237,47.8205,47.8181, 47.8144,47.8111,47.807,47.8036,47.8035, 47.8035,47.8035,47.8035,47.8035,47.8035 ,47.8035,47.8035,47.8035,47.8035, 47.8035,47.8034,47.8034,47.8034,47.8034 ,47.8034,47.8034,47.8034,47.8034, 47.8033,47.8033,47.8033,47.8033,47.8033 ,47.8033,47.8033,47.8033,47.8033)
FOOTPRINT_POINT_LONGITUDE = (134.263,134.263,134.263,134.263, 134.263,134.263,134.263,134.264,134.264 ,134.264,134.264,134.264,134.264, 134.263,134.263,134.263,134.263,134.263 ,134.263,134.263,134.263,134.263, 134.263,134.263,134.263,134.267,134.271 ,134.275,134.279,134.283,134.287,134.29 ,134.294,134.298,134.302,134.306,134.31 ,134.314,134.318,134.321,134.325, 134.329,134.333,134.337,134.341,134.345 ,134.349,134.353,134.356,134.36,134.361 ,134.362,134.362,134.362,134.362, 134.362,134.362,134.362,134.362,134.362 ,134.362,134.362,134.362,134.362, 134.362,134.362,134.362,134.362,134.362 ,134.362,134.362,134.362,134.362, 134.362,134.356,134.352,134.348,134.344 ,134.34,134.336,134.332,134.329,134.325 ,134.321,134.317,134.313,134.309, 134.305,134.301,134.298,134.292,134.288 ,134.284,134.28,134.276,134.272,134.269 ,134.265,134.264,134.263)
ORBIT_NUMBER = 22072
ORBITAL_ECCENTRICITY = 0.573
ORBITAL_INCLINATION = 87.0
ORBITAL_SEMIMAJOR_AXIS = 8809.72
PERIAPSIS_ALTITUDE = 378.27
PERIAPSIS_ARGUMENT_ANGLE = 138.85
PERIAPSIS_TIME = 2021-06-19T22:44:34.000Z
SPACECRAFT_ORIENTATION = (0.0,-1.0,0.0)
^MEX_ORIENTATION_DESC = "MEX_ORIENTATION_DESC.TXT"
SPACECRAFT_POINTING_MODE = ACROSSTRACK
^MEX_POINTING_DESC = "MEX_POINTING_DESC.TXT"
RIGHT_ASCENSION = -1e+32
DECLINATION = -1e+32
OFFSET_ANGLE = 1.51
SPACECRAFT_SOLAR_DISTANCE = 2.48828e+08
TARGET_NAME = MARS
/* CAMERA DATA ELEMENTS */
BUFFER_MODE_ID = BUFFER_8
EXPOSURE_DURATION = 5.04
INST_CMPRS_NAME = NONE
INST_CMPRS_RATIO = 1.0
INST_CMPRS_QUALITY = -2147483648
INST_CMPRS_QUANTZ_TBL_ID = -2147483648
INSTRUMENT_TEMPERATURE = 5.86295
MISSING_FRAMES = 0
START_BIT = 0
/* RADIOMETRIC DATA ELEMENTS */
BANDWIDTH = 250.0
CENTER_FILTER_WAVELENGTH = 600.0
RADIANCE_OFFSET = -9.99e+31
RADIANCE_SCALING_FACTOR = -9.99e+31
REFLECTANCE_SCALING_FACTOR = -9.99e+31
MEX:REFLECTANCE_OFFSET = -9.99e+31
/* IMAGE OBJECT DEFINITIONS */
OBJECT = IMAGE
  INTERCHANGE_FORMAT = BINARY
  LINES = 1589
  LINE_SAMPLES = 1664
  SAMPLE_TYPE = UNSIGNED_INTEGER
  SAMPLE_BITS = 8
  BANDS = 1
  BAND_STORAGE_TYPE = BAND_SEQUENTIAL
  MAXIMUM = 254
  MEAN = 115.936
  MINIMUM = 15
  STANDARD_DEVIATION = 17.3324
END_OBJECT = IMAGE
/* MAP OBJECT DEFINITIONS */
OBJECT = IMAGE_MAP_PROJECTION
  ^DATA_SET_MAP_PROJECTION_CATALOG= "DSMAP.CAT"
  A_AXIS_RADIUS = 3396.19
  B_AXIS_RADIUS = 3396.19
  C_AXIS_RADIUS = 3396.19
  CENTER_LATITUDE = 0.0
  CENTER_LONGITUDE = 134.0
  COORDINATE_SYSTEM_NAME = PLANETOGRAPHIC
  COORDINATE_SYSTEM_TYPE = "BODY-FIXED ROTATING"
  EASTERNMOST_LONGITUDE = 134.362
  FIRST_STANDARD_PARALLEL = "N/A"
  LINE_FIRST_PIXEL = 1
  LINE_LAST_PIXEL = 1589
  LINE_PROJECTION_OFFSET = 1133615.0
  MAP_PROJECTION_ROTATION = 0.0
  MAP_PROJECTION_TYPE = SINUSOIDAL
  MAP_RESOLUTION = 23709.8786048756
  MAP_SCALE = 0.0025
  MAXIMUM_LATITUDE = 47.8669
  MINIMUM_LATITUDE = 47.8033
  POSITIVE_LONGITUDE_DIRECTION = EAST
  REFERENCE_LATITUDE = "N/A"
  REFERENCE_LONGITUDE = "N/A"
  SAMPLE_FIRST_PIXEL = 1
  SAMPLE_LAST_PIXEL = 1664
  SAMPLE_PROJECTION_OFFSET = -5291.0
  SECOND_STANDARD_PARALLEL = "N/A"
  WESTERNMOST_LONGITUDE = 134.263
END_OBJECT = IMAGE_MAP_PROJECTION
END
