PDS_VERSION_ID = PDS3
/* FILE DATA ELEMENTS */
RECORD_TYPE = UNDEFINED
/* POINTERS TO DATA OBJECTS */
^IMAGE = ("HM092_0000_BL4.TIF")
/* IDENTIFICATION DATA ELEMENTS */
DATA_SET_ID = "MEX-M-HRSC-4-REFDR-MAPPROJECT-EXT8-V4.0"
DATA_SET_NAME = "MARS EXPRESS HRSC MAP PROJECTED REFDR EXTENSION8 V4.0"
DETECTOR_ID = MEX_HRSC_BLUE
EVENT_TYPE = "MARS-LOCAL-CARTOGRAPHY-Vo-Te-Gl"
INSTRUMENT_HOST_ID = MEX
INSTRUMENT_HOST_NAME = "MARS EXPRESS"
INSTRUMENT_ID = HRSC
INSTRUMENT_NAME = "HIGH RESOLUTION STEREO CAMERA"
MISSION_NAME = "MARS EXPRESS"
MISSION_PHASE_NAME = ME_Phase_44
PROCESSING_LEVEL_ID = 4
PRODUCT_CREATION_TIME = 2023-01-25T08:48:24.000Z
PRODUCT_ID = "HM092_0000_BL4.TIF"
RELEASE_ID = 0001
REVISION_ID = 0000
/* QUALITY DATA ELEMENTS */
DATA_QUALITY_ID = 1
DATA_QUALITY_DESC = "Data calculated based on original SPICE kernels"
/* TIME DATA ELEMENTS */
SPACECRAFT_CLOCK_START_COUNT = "1/0572725707.25666"
SPACECRAFT_CLOCK_STOP_COUNT = "1/0572726048.45753"
START_TIME = 2021-06-25T18:29:50.856Z
STOP_TIME = 2021-06-25T18:33:39.326Z
/* ORBITAL DATA ELEMENTS */
ASCENDING_NODE_LONGITUDE = 161.56
MAXIMUM_RESOLUTION = 0.0742
FOOTPRINT_POINT_LATITUDE = (23.9635,23.9662,23.9684,23.9691, 23.9686,23.9686,23.9661,23.372,22.6523, 22.2874,21.7993,21.4315,21.1832,20.9351 ,20.6874,20.3103,20.0582,19.8066, 19.4241,19.1682,18.9126,18.5238,18.264, 17.8724,17.6083,17.3448,17.0788,16.811, 16.5436,16.2735,16.002,15.5932,15.3177, 15.0429,14.6251,14.3465,13.9231,13.641, 13.3549,13.0688,12.6352,12.3456,12.0521 ,11.7588,11.4622,11.1653,10.8653, 10.7149,10.6951,10.691,10.6865,10.6802, 10.6748,10.6699,10.6616,10.6612,10.6625 ,11.1147,11.4131,11.7108,12.0048, 12.2993,12.5894,13.0242,13.3109,13.5979 ,13.8808,14.3052,14.5844,15.0033, 15.2788,15.5548,15.9648,16.2369,16.5079 ,16.7758,17.0442,17.3111,17.5751, 17.8397,18.1024,18.3626,18.6231,18.8827 ,19.1389,19.3954,19.7789,20.031,20.2836 ,20.6616,20.9096,21.1581,21.4069, 21.7757,22.2645,22.6303,23.1105,23.8284 ,23.9463,23.9635)
FOOTPRINT_POINT_LONGITUDE = (251.685,251.294,250.757,250.228, 249.917,249.901,249.897,249.884,249.868 ,249.859,249.847,249.838,249.831, 249.825,249.818,249.808,249.801,249.793 ,249.782,249.775,249.767,249.755, 249.747,249.735,249.726,249.717,249.709 ,249.7,249.691,249.681,249.672,249.657, 249.647,249.637,249.622,249.611,249.595 ,249.584,249.572,249.561,249.543, 249.531,249.519,249.507,249.494,249.481 ,249.468,249.461,249.461,249.786, 250.115,250.548,250.902,251.195,251.658 ,251.679,251.686,251.686,251.688, 251.688,251.687,251.687,251.686,251.685 ,251.684,251.684,251.683,251.683, 251.682,251.681,251.681,251.681,251.681 ,251.68,251.68,251.68,251.68,251.68, 251.68,251.68,251.68,251.68,251.68, 251.68,251.68,251.68,251.68,251.68, 251.68,251.679,251.679,251.679,251.679, 251.679,251.68,251.68,251.679,251.679, 251.679,251.685)
ORBIT_NUMBER = 22092
ORBITAL_ECCENTRICITY = 0.572
ORBITAL_INCLINATION = 87.01
ORBITAL_SEMIMAJOR_AXIS = 8807.37
PERIAPSIS_ALTITUDE = 379.53
PERIAPSIS_ARGUMENT_ANGLE = 135.37
PERIAPSIS_TIME = 2021-06-25T18:24:17.000Z
SPACECRAFT_ORIENTATION = (0.0,-1.0,0.0)
^MEX_ORIENTATION_DESC = "MEX_ORIENTATION_DESC.TXT"
SPACECRAFT_POINTING_MODE = ACROSSTRACK
^MEX_POINTING_DESC = "MEX_POINTING_DESC.TXT"
RIGHT_ASCENSION = -1e+32
DECLINATION = -1e+32
OFFSET_ANGLE = 0.808
SPACECRAFT_SOLAR_DISTANCE = 2.49002e+08
TARGET_NAME = MARS
/* CAMERA DATA ELEMENTS */
DETECTOR_TEMPERATURE = 18.3705
FOCAL_PLANE_TEMPERATURE = 8.7872
INST_CMPRS_NAME = "DISCRETE COSINE TRANSFORMATION (DCT)"
INST_CMPRS_RATIO = 13.6646
INST_CMPRS_QUALITY = 0
INST_CMPRS_QUANTZ_TBL_ID = 0
INSTRUMENT_TEMPERATURE = 11.6418
LENS_TEMPERATURE = 9.195
MACROPIXEL_SIZE = 4
MISSING_FRAMES = 0
PIXEL_SUBSAMPLING_FLAG = N
SIGNAL_CHAIN_ID = 2
/* RADIOMETRIC DATA ELEMENTS */
BANDWIDTH = 76.0
CENTER_FILTER_WAVELENGTH = 444.0
RADIANCE_OFFSET = 0.296533
RADIANCE_SCALING_FACTOR = 0.00408667
REFLECTANCE_SCALING_FACTOR = 0.000260335
MEX:REFLECTANCE_OFFSET = 0.0188902
/* IMAGE OBJECT DEFINITIONS */
OBJECT = IMAGE
  INTERCHANGE_FORMAT = BINARY
  LINES = 15785
  LINE_SAMPLES = 2569
  SAMPLE_TYPE = UNSIGNED_INTEGER
  SAMPLE_BITS = 8
  BANDS = 1
  BAND_STORAGE_TYPE = BAND_SEQUENTIAL
  MAXIMUM = 255
  MEAN = 166.613
  MINIMUM = 1
  STANDARD_DEVIATION = 56.7303
END_OBJECT = IMAGE
/* MAP OBJECT DEFINITIONS */
OBJECT = IMAGE_MAP_PROJECTION
  ^DATA_SET_MAP_PROJECTION_CATALOG= "DSMAP.CAT"
  A_AXIS_RADIUS = 3396.0
  B_AXIS_RADIUS = 3396.0
  C_AXIS_RADIUS = 3396.0
  CENTER_LATITUDE = 0.0
  CENTER_LONGITUDE = 251.0
  COORDINATE_SYSTEM_NAME = PLANETOGRAPHIC
  COORDINATE_SYSTEM_TYPE = "BODY-FIXED ROTATING"
  EASTERNMOST_LONGITUDE = 251.688
  FIRST_STANDARD_PARALLEL = "N/A"
  LINE_FIRST_PIXEL = 1
  LINE_LAST_PIXEL = 15785
  LINE_PROJECTION_OFFSET = 28431.375
  MAP_PROJECTION_ROTATION = 0.0
  MAP_PROJECTION_TYPE = SINUSOIDAL
  MAP_RESOLUTION = 1185.42760773333
  MAP_SCALE = 0.05
  MAXIMUM_LATITUDE = 23.9691
  MINIMUM_LATITUDE = 10.6612
  POSITIVE_LONGITUDE_DIRECTION = EAST
  REFERENCE_LATITUDE = "N/A"
  REFERENCE_LONGITUDE = "N/A"
  SAMPLE_FIRST_PIXEL = 1
  SAMPLE_LAST_PIXEL = 2569
  SAMPLE_PROJECTION_OFFSET = 1788.875
  SECOND_STANDARD_PARALLEL = "N/A"
  WESTERNMOST_LONGITUDE = 249.461
END_OBJECT = IMAGE_MAP_PROJECTION
END
