PDS_VERSION_ID = PDS3
/* FILE DATA ELEMENTS */
RECORD_TYPE = UNDEFINED
/* POINTERS TO DATA OBJECTS */
^IMAGE = ("HM092_0000_S24.TIF")
/* IDENTIFICATION DATA ELEMENTS */
DATA_SET_ID = "MEX-M-HRSC-4-REFDR-MAPPROJECT-EXT8-V4.0"
DATA_SET_NAME = "MARS EXPRESS HRSC MAP PROJECTED REFDR EXTENSION8 V4.0"
DETECTOR_ID = MEX_HRSC_S2
EVENT_TYPE = "MARS-LOCAL-CARTOGRAPHY-Vo-Te-Gl"
INSTRUMENT_HOST_ID = MEX
INSTRUMENT_HOST_NAME = "MARS EXPRESS"
INSTRUMENT_ID = HRSC
INSTRUMENT_NAME = "HIGH RESOLUTION STEREO CAMERA"
MISSION_NAME = "MARS EXPRESS"
MISSION_PHASE_NAME = ME_Phase_44
PROCESSING_LEVEL_ID = 4
PRODUCT_CREATION_TIME = 2023-01-25T08:48:24.000Z
PRODUCT_ID = "HM092_0000_S24.TIF"
RELEASE_ID = 0001
REVISION_ID = 0000
/* QUALITY DATA ELEMENTS */
DATA_QUALITY_ID = 1
DATA_QUALITY_DESC = "Data calculated based on original SPICE kernels"
/* TIME DATA ELEMENTS */
SPACECRAFT_CLOCK_START_COUNT = "1/0572725707.25666"
SPACECRAFT_CLOCK_STOP_COUNT = "1/0572726048.45753"
START_TIME = 2021-06-25T18:30:30.672Z
STOP_TIME = 2021-06-25T18:34:40.529Z
/* ORBITAL DATA ELEMENTS */
ASCENDING_NODE_LONGITUDE = 161.56
MAXIMUM_RESOLUTION = 0.0416
FOOTPRINT_POINT_LATITUDE = (23.9784,23.9682,23.9608,23.9535, 23.9462,23.939,23.9317,23.9312,23.923, 23.0871,22.7244,22.241,21.8736,21.3835, 20.8872,20.6391,20.3886,20.1368,19.8862 ,19.6321,19.3778,19.1239,18.8665, 18.4804,18.0893,17.8288,17.4341,17.1705 ,16.7712,16.5046,16.2352,15.8309, 15.5577,15.2849,15.0095,14.734,14.4558, 14.1776,13.8969,13.6158,13.332,12.9044, 12.6174,12.3281,11.8922,11.5996,11.3047 ,10.8626,10.7157,10.6708,10.6721, 10.6735,10.6753,10.6784,10.6797,10.6815 ,10.6816,10.6824,10.9804,11.2803, 11.5776,11.8713,12.3092,12.5988,12.8859 ,13.3147,13.5997,13.8814,14.1633, 14.4419,14.721,14.9968,15.2738,15.5467, 15.9561,16.2264,16.4968,16.764,17.1651, 17.4293,17.8257,18.2178,18.4795,18.7373 ,18.9961,19.3805,19.6357,19.8917, 20.1418,20.394,20.6449,21.1414,21.3901, 21.7585,22.2498,22.7336,23.0969,23.8128 ,23.9329,23.9784)
FOOTPRINT_POINT_LONGITUDE = (251.75,251.336,251.037,250.742,250.448 ,250.157,249.868,249.85,249.844,249.823 ,249.814,249.801,249.79,249.776,249.761 ,249.754,249.746,249.738,249.73,249.722 ,249.713,249.705,249.696,249.683, 249.669,249.659,249.645,249.635,249.62, 249.609,249.599,249.583,249.572,249.56, 249.549,249.537,249.525,249.513,249.501 ,249.488,249.475,249.456,249.443, 249.429,249.408,249.394,249.379,249.357 ,249.35,249.348,249.724,250.103,250.483 ,250.938,251.203,251.783,251.808, 251.816,251.816,251.815,251.813,251.811 ,251.807,251.805,251.802,251.798, 251.796,251.794,251.792,251.79,251.787, 251.785,251.784,251.782,251.779,251.778 ,251.776,251.775,251.773,251.771, 251.769,251.767,251.766,251.765,251.764 ,251.762,251.761,251.761,251.759, 251.758,251.756,251.754,251.753,251.752 ,251.75,251.749,251.747,251.744,251.744 ,251.75)
ORBIT_NUMBER = 22092
ORBITAL_ECCENTRICITY = 0.572
ORBITAL_INCLINATION = 87.01
ORBITAL_SEMIMAJOR_AXIS = 8807.37
PERIAPSIS_ALTITUDE = 379.53
PERIAPSIS_ARGUMENT_ANGLE = 135.37
PERIAPSIS_TIME = 2021-06-25T18:24:17.000Z
SPACECRAFT_ORIENTATION = (0.0,-1.0,0.0)
^MEX_ORIENTATION_DESC = "MEX_ORIENTATION_DESC.TXT"
SPACECRAFT_POINTING_MODE = ACROSSTRACK
^MEX_POINTING_DESC = "MEX_POINTING_DESC.TXT"
RIGHT_ASCENSION = -1e+32
DECLINATION = -1e+32
OFFSET_ANGLE = 0.808
SPACECRAFT_SOLAR_DISTANCE = 2.49002e+08
TARGET_NAME = MARS
/* CAMERA DATA ELEMENTS */
DETECTOR_TEMPERATURE = 19.7978
FOCAL_PLANE_TEMPERATURE = 8.7872
INST_CMPRS_NAME = "DISCRETE COSINE TRANSFORMATION (DCT)"
INST_CMPRS_RATIO = 12.2418
INST_CMPRS_QUALITY = 0
INST_CMPRS_QUANTZ_TBL_ID = 0
INSTRUMENT_TEMPERATURE = 11.6418
LENS_TEMPERATURE = 9.195
MACROPIXEL_SIZE = 2
MISSING_FRAMES = 0
PIXEL_SUBSAMPLING_FLAG = N
SIGNAL_CHAIN_ID = 1
/* RADIOMETRIC DATA ELEMENTS */
BANDWIDTH = 178.0
CENTER_FILTER_WAVELENGTH = 679.0
RADIANCE_OFFSET = 2.71162
RADIANCE_SCALING_FACTOR = 0.0263429
REFLECTANCE_SCALING_FACTOR = 0.000864964
MEX:REFLECTANCE_OFFSET = 0.0890358
/* IMAGE OBJECT DEFINITIONS */
OBJECT = IMAGE
  INTERCHANGE_FORMAT = BINARY
  LINES = 31570
  LINE_SAMPLES = 5138
  SAMPLE_TYPE = UNSIGNED_INTEGER
  SAMPLE_BITS = 8
  BANDS = 1
  BAND_STORAGE_TYPE = BAND_SEQUENTIAL
  MAXIMUM = 255
  MEAN = 164.642
  MINIMUM = 1
  STANDARD_DEVIATION = 19.6751
END_OBJECT = IMAGE
/* MAP OBJECT DEFINITIONS */
OBJECT = IMAGE_MAP_PROJECTION
  ^DATA_SET_MAP_PROJECTION_CATALOG= "DSMAP.CAT"
  A_AXIS_RADIUS = 3396.0
  B_AXIS_RADIUS = 3396.0
  C_AXIS_RADIUS = 3396.0
  CENTER_LATITUDE = 0.0
  CENTER_LONGITUDE = 251.0
  COORDINATE_SYSTEM_NAME = PLANETOGRAPHIC
  COORDINATE_SYSTEM_TYPE = "BODY-FIXED ROTATING"
  EASTERNMOST_LONGITUDE = 251.816
  FIRST_STANDARD_PARALLEL = "N/A"
  LINE_FIRST_PIXEL = 1
  LINE_LAST_PIXEL = 31570
  LINE_PROJECTION_OFFSET = 56863.25
  MAP_PROJECTION_ROTATION = 0.0
  MAP_PROJECTION_TYPE = SINUSOIDAL
  MAP_RESOLUTION = 2370.85521546667
  MAP_SCALE = 0.025
  MAXIMUM_LATITUDE = 23.9784
  MINIMUM_LATITUDE = 10.6708
  POSITIVE_LONGITUDE_DIRECTION = EAST
  REFERENCE_LATITUDE = "N/A"
  REFERENCE_LONGITUDE = "N/A"
  SAMPLE_FIRST_PIXEL = 1
  SAMPLE_LAST_PIXEL = 5138
  SAMPLE_PROJECTION_OFFSET = 3578.25
  SECOND_STANDARD_PARALLEL = "N/A"
  WESTERNMOST_LONGITUDE = 249.348
END_OBJECT = IMAGE_MAP_PROJECTION
END
